BEGIN:VCALENDAR
VERSION:2.0
PRODID:-//Gouville-sur-mer - ECPv6.15.18//NONSGML v1.0//EN
CALSCALE:GREGORIAN
METHOD:PUBLISH
X-WR-CALNAME:Gouville-sur-mer
X-ORIGINAL-URL:https://gouville-sur-mer.fr
X-WR-CALDESC:Évènements pour Gouville-sur-mer
REFRESH-INTERVAL;VALUE=DURATION:PT1H
X-Robots-Tag:noindex
X-PUBLISHED-TTL:PT1H
BEGIN:VTIMEZONE
TZID:Europe/Paris
BEGIN:DAYLIGHT
TZOFFSETFROM:+0100
TZOFFSETTO:+0200
TZNAME:CEST
DTSTART:20210328T010000
END:DAYLIGHT
BEGIN:STANDARD
TZOFFSETFROM:+0200
TZOFFSETTO:+0100
TZNAME:CET
DTSTART:20211031T010000
END:STANDARD
BEGIN:DAYLIGHT
TZOFFSETFROM:+0100
TZOFFSETTO:+0200
TZNAME:CEST
DTSTART:20220327T010000
END:DAYLIGHT
BEGIN:STANDARD
TZOFFSETFROM:+0200
TZOFFSETTO:+0100
TZNAME:CET
DTSTART:20221030T010000
END:STANDARD
BEGIN:DAYLIGHT
TZOFFSETFROM:+0100
TZOFFSETTO:+0200
TZNAME:CEST
DTSTART:20230326T010000
END:DAYLIGHT
BEGIN:STANDARD
TZOFFSETFROM:+0200
TZOFFSETTO:+0100
TZNAME:CET
DTSTART:20231029T010000
END:STANDARD
END:VTIMEZONE
BEGIN:VEVENT
DTSTART;TZID=Europe/Paris:20220508T120000
DTEND;TZID=Europe/Paris:20220508T130000
DTSTAMP:20260421T103453
CREATED:20220422T121445Z
LAST-MODIFIED:20220429T074706Z
UID:5286-1652011200-1652014800@gouville-sur-mer.fr
SUMMARY:Cérémonies du 8 mai
DESCRIPTION:Gouville-sur-mer et Montsurvent :\n\nGOUVILLE :\n\n\nLes Anciens Combattants Gouvillais A.C.P G.C.A.T.M. vous invitent à commémorer le 77eme anniversaire de l’ Armistice du 8.5.45 à la cérémonie au monument aux morts de Gouville à 12 Heures. \nSuite à la cérémonie un vin d’honneur sera offert par la Mairie dans le Théâtre de verdure. \n\n\nMONTSURVENT :\n\nRendez-vous aux monuments aux Morts pour les dépôts de gerbes :\n\n– à Montsurvent à 12 heures\n– à Ancteville à 12 h 20\n\nLe verre de l’amitié sera ensuite offert par la municipalité d’Ancteville
URL:https://gouville-sur-mer.fr/event/ceremonies-du-8-mai-de-montsurvent/
ATTACH;FMTTYPE=image/jpeg:https://gouville-sur-mer.fr/wp-content/uploads/2022/04/1024_768_1_la-guerre-est-finie-page-48277-0.jpg
END:VEVENT
END:VCALENDAR