BEGIN:VCALENDAR
VERSION:2.0
PRODID:-//Gouville-sur-mer - ECPv6.15.18//NONSGML v1.0//EN
CALSCALE:GREGORIAN
METHOD:PUBLISH
X-WR-CALNAME:Gouville-sur-mer
X-ORIGINAL-URL:https://gouville-sur-mer.fr
X-WR-CALDESC:Évènements pour Gouville-sur-mer
REFRESH-INTERVAL;VALUE=DURATION:PT1H
X-Robots-Tag:noindex
X-PUBLISHED-TTL:PT1H
BEGIN:VTIMEZONE
TZID:Europe/Paris
BEGIN:DAYLIGHT
TZOFFSETFROM:+0100
TZOFFSETTO:+0200
TZNAME:CEST
DTSTART:20230326T010000
END:DAYLIGHT
BEGIN:STANDARD
TZOFFSETFROM:+0200
TZOFFSETTO:+0100
TZNAME:CET
DTSTART:20231029T010000
END:STANDARD
BEGIN:DAYLIGHT
TZOFFSETFROM:+0100
TZOFFSETTO:+0200
TZNAME:CEST
DTSTART:20240331T010000
END:DAYLIGHT
BEGIN:STANDARD
TZOFFSETFROM:+0200
TZOFFSETTO:+0100
TZNAME:CET
DTSTART:20241027T010000
END:STANDARD
BEGIN:DAYLIGHT
TZOFFSETFROM:+0100
TZOFFSETTO:+0200
TZNAME:CEST
DTSTART:20250330T010000
END:DAYLIGHT
BEGIN:STANDARD
TZOFFSETFROM:+0200
TZOFFSETTO:+0100
TZNAME:CET
DTSTART:20251026T010000
END:STANDARD
END:VTIMEZONE
BEGIN:VEVENT
DTSTART;VALUE=DATE:20240309
DTEND;VALUE=DATE:20240418
DTSTAMP:20260419T170316
CREATED:20240321T153416Z
LAST-MODIFIED:20240709T182532Z
UID:10651-1709942400-1713398399@gouville-sur-mer.fr
SUMMARY:Exposition "Animaux"
DESCRIPTION:Dessins d’Elizabeth Marie. \nExposition à la bibliothèque
URL:https://gouville-sur-mer.fr/event/exposition-animaux/
ATTACH;FMTTYPE=image/jpeg:https://gouville-sur-mer.fr/wp-content/uploads/2023/10/arbres.jpeg
END:VEVENT
BEGIN:VEVENT
DTSTART;TZID=Europe/Paris:20240406T100000
DTEND;TZID=Europe/Paris:20240506T120000
DTSTAMP:20260419T170316
CREATED:20240403T145828Z
LAST-MODIFIED:20240709T182532Z
UID:10726-1712397600-1714996800@gouville-sur-mer.fr
SUMMARY:Stage équestre
DESCRIPTION:En savoir plus
URL:https://gouville-sur-mer.fr/event/stage-equestre/
CATEGORIES:Sport
ATTACH;FMTTYPE=image/jpeg:https://gouville-sur-mer.fr/wp-content/uploads/2024/04/pexels-filip-kuran-6199402-scaled-e1712162202979.jpg
END:VEVENT
BEGIN:VEVENT
DTSTART;TZID=Europe/Paris:20240409T140000
DTEND;TZID=Europe/Paris:20240409T170000
DTSTAMP:20260419T170316
CREATED:20240321T150904Z
LAST-MODIFIED:20240709T182532Z
UID:10641-1712671200-1712682000@gouville-sur-mer.fr
SUMMARY:Randonnée à Muneville le Bingard
DESCRIPTION:Rendez-vous à Muneville le Bingard au parking croisement D53 et D431 pour une randonnée de 8 à 10 km. \nDépart 14h. \nContacts : Sylvie 06 77 15 52 17\nMarie-Line 06 36 60 19 31
URL:https://gouville-sur-mer.fr/event/randonnee-a-muneville-le-bingard/
CATEGORIES:Randonnée
ATTACH;FMTTYPE=image/jpeg:https://gouville-sur-mer.fr/wp-content/uploads/2023/08/pexels_rando.jpeg
END:VEVENT
END:VCALENDAR