BEGIN:VCALENDAR
VERSION:2.0
PRODID:-//Gouville-sur-mer - ECPv6.15.18//NONSGML v1.0//EN
CALSCALE:GREGORIAN
METHOD:PUBLISH
X-ORIGINAL-URL:https://gouville-sur-mer.fr
X-WR-CALDESC:Évènements pour Gouville-sur-mer
REFRESH-INTERVAL;VALUE=DURATION:PT1H
X-Robots-Tag:noindex
X-PUBLISHED-TTL:PT1H
BEGIN:VTIMEZONE
TZID:Europe/Paris
BEGIN:DAYLIGHT
TZOFFSETFROM:+0100
TZOFFSETTO:+0200
TZNAME:CEST
DTSTART:20230326T010000
END:DAYLIGHT
BEGIN:STANDARD
TZOFFSETFROM:+0200
TZOFFSETTO:+0100
TZNAME:CET
DTSTART:20231029T010000
END:STANDARD
BEGIN:DAYLIGHT
TZOFFSETFROM:+0100
TZOFFSETTO:+0200
TZNAME:CEST
DTSTART:20240331T010000
END:DAYLIGHT
BEGIN:STANDARD
TZOFFSETFROM:+0200
TZOFFSETTO:+0100
TZNAME:CET
DTSTART:20241027T010000
END:STANDARD
BEGIN:DAYLIGHT
TZOFFSETFROM:+0100
TZOFFSETTO:+0200
TZNAME:CEST
DTSTART:20250330T010000
END:DAYLIGHT
BEGIN:STANDARD
TZOFFSETFROM:+0200
TZOFFSETTO:+0100
TZNAME:CET
DTSTART:20251026T010000
END:STANDARD
END:VTIMEZONE
BEGIN:VEVENT
DTSTART;TZID=Europe/Paris:20240406T100000
DTEND;TZID=Europe/Paris:20240506T120000
DTSTAMP:20260419T170427
CREATED:20240403T145828Z
LAST-MODIFIED:20240709T182532Z
UID:10726-1712397600-1714996800@gouville-sur-mer.fr
SUMMARY:Stage équestre
DESCRIPTION:En savoir plus
URL:https://gouville-sur-mer.fr/event/stage-equestre/
CATEGORIES:Sport
ATTACH;FMTTYPE=image/jpeg:https://gouville-sur-mer.fr/wp-content/uploads/2024/04/pexels-filip-kuran-6199402-scaled-e1712162202979.jpg
END:VEVENT
BEGIN:VEVENT
DTSTART;VALUE=DATE:20240419
DTEND;VALUE=DATE:20240512
DTSTAMP:20260419T170427
CREATED:20240304T103656Z
LAST-MODIFIED:20240709T182533Z
UID:10806-1713484800-1715471999@gouville-sur-mer.fr
SUMMARY:Exposition « Dis-moi dix mots sur le podium »
DESCRIPTION:A la médiathèque
URL:https://gouville-sur-mer.fr/event/exposition-dis-moi-dix-mots-sur-le-podium/
LOCATION:La médiathèque de Gouville\, 6\, route de Coutances\, Gouville-sur-mer\, 50560\, France
ATTACH;FMTTYPE=image/jpeg:https://gouville-sur-mer.fr/wp-content/uploads/2023/10/arbres.jpeg
END:VEVENT
BEGIN:VEVENT
DTSTART;TZID=Europe/Paris:20240425T143000
DTEND;TZID=Europe/Paris:20240425T163000
DTSTAMP:20260419T170427
CREATED:20240403T151402Z
LAST-MODIFIED:20240709T182532Z
UID:10741-1714055400-1714062600@gouville-sur-mer.fr
SUMMARY:Cours modelage enfants
DESCRIPTION:En savoir plus
URL:https://gouville-sur-mer.fr/event/cours-modelage-enfants-2/
LOCATION:La médiathèque de Gouville\, 6\, route de Coutances\, Gouville-sur-mer\, 50560\, France
END:VEVENT
BEGIN:VEVENT
DTSTART;TZID=Europe/Paris:20240425T203000
DTEND;TZID=Europe/Paris:20240425T223000
DTSTAMP:20260419T170427
CREATED:20240415T161247Z
LAST-MODIFIED:20240709T182531Z
UID:10859-1714077000-1714084200@gouville-sur-mer.fr
SUMMARY:Réunion du Conseil Municipal
DESCRIPTION:Ordre du jour : \n\nDésignation d’un secrétaire de séance\nApprobation du procès-verbal du 25 mars 2024\nCommuniqués\nTravaux complémentaires – chantier du lotissement de la Jeannerie\nTravaux sur le clocher de l’église de Boisroger\nTravaux de raccordement au réseau d’eaux usées sur le territoire de Servigny\nAcquisition de matériel pour la salle des fêtes de Montsurvent\nAttribution d’avantages en nature\nProjet de fleurissement sur le territoire de Montsurvent\nNettoyage du clocher de l’église d’ Anneville s/mer\nEtude du droit de préférence de la commune concernant la reprise d’un fonds de commerce\nProposition de cession de licence IV\nRévision du plan de zonage d’assainissement collectif\nDivers
URL:https://gouville-sur-mer.fr/event/reunion-du-conseil-municipal-22/
LOCATION:Mairie de Gouville
ATTACH;FMTTYPE=image/jpeg:https://gouville-sur-mer.fr/wp-content/uploads/2023/09/LSDC_DSC_2148_2-scaled-1.jpg
END:VEVENT
END:VCALENDAR