BEGIN:VCALENDAR
VERSION:2.0
PRODID:-//Gouville-sur-mer - ECPv6.15.18//NONSGML v1.0//EN
CALSCALE:GREGORIAN
METHOD:PUBLISH
X-ORIGINAL-URL:https://gouville-sur-mer.fr
X-WR-CALDESC:Évènements pour Gouville-sur-mer
REFRESH-INTERVAL;VALUE=DURATION:PT1H
X-Robots-Tag:noindex
X-PUBLISHED-TTL:PT1H
BEGIN:VTIMEZONE
TZID:Europe/Paris
BEGIN:DAYLIGHT
TZOFFSETFROM:+0100
TZOFFSETTO:+0200
TZNAME:CEST
DTSTART:20230326T010000
END:DAYLIGHT
BEGIN:STANDARD
TZOFFSETFROM:+0200
TZOFFSETTO:+0100
TZNAME:CET
DTSTART:20231029T010000
END:STANDARD
BEGIN:DAYLIGHT
TZOFFSETFROM:+0100
TZOFFSETTO:+0200
TZNAME:CEST
DTSTART:20240331T010000
END:DAYLIGHT
BEGIN:STANDARD
TZOFFSETFROM:+0200
TZOFFSETTO:+0100
TZNAME:CET
DTSTART:20241027T010000
END:STANDARD
BEGIN:DAYLIGHT
TZOFFSETFROM:+0100
TZOFFSETTO:+0200
TZNAME:CEST
DTSTART:20250330T010000
END:DAYLIGHT
BEGIN:STANDARD
TZOFFSETFROM:+0200
TZOFFSETTO:+0100
TZNAME:CET
DTSTART:20251026T010000
END:STANDARD
END:VTIMEZONE
BEGIN:VEVENT
DTSTART;VALUE=DATE:20240419
DTEND;VALUE=DATE:20240512
DTSTAMP:20260419T190010
CREATED:20240304T103656Z
LAST-MODIFIED:20240709T182533Z
UID:10806-1713484800-1715471999@gouville-sur-mer.fr
SUMMARY:Exposition « Dis-moi dix mots sur le podium »
DESCRIPTION:A la médiathèque
URL:https://gouville-sur-mer.fr/event/exposition-dis-moi-dix-mots-sur-le-podium/
LOCATION:La médiathèque de Gouville\, 6\, route de Coutances\, Gouville-sur-mer\, 50560\, France
ATTACH;FMTTYPE=image/jpeg:https://gouville-sur-mer.fr/wp-content/uploads/2023/10/arbres.jpeg
END:VEVENT
BEGIN:VEVENT
DTSTART;VALUE=DATE:20240510
DTEND;VALUE=DATE:20240512
DTSTAMP:20260419T190010
CREATED:20240506T151448Z
LAST-MODIFIED:20240709T182529Z
UID:11094-1715299200-1715471999@gouville-sur-mer.fr
SUMMARY:Fermeture Mairie & Agence postale
DESCRIPTION:Fermeture exceptionnelle
URL:https://gouville-sur-mer.fr/event/fermeture-exceptionnelle/
END:VEVENT
BEGIN:VEVENT
DTSTART;TZID=Europe/Paris:20240511T100000
DTEND;TZID=Europe/Paris:20240511T130000
DTSTAMP:20260419T190010
CREATED:20240427T075901Z
LAST-MODIFIED:20240709T182530Z
UID:11012-1715421600-1715432400@gouville-sur-mer.fr
SUMMARY:Don du sang
DESCRIPTION:
URL:https://gouville-sur-mer.fr/event/don-du-sang-2/
LOCATION:La Filature
ATTACH;FMTTYPE=image/jpeg:https://gouville-sur-mer.fr/wp-content/uploads/2024/04/14_2024-05-11_944179_GOUVILLE-SUR-MER-e1742047249131.jpg
END:VEVENT
BEGIN:VEVENT
DTSTART;TZID=Europe/Paris:20240511T143000
DTEND;TZID=Europe/Paris:20240511T163000
DTSTAMP:20260419T190010
CREATED:20240421T170034Z
LAST-MODIFIED:20240709T182530Z
UID:10973-1715437800-1715445000@gouville-sur-mer.fr
SUMMARY:Atelier peinture sur céramique
DESCRIPTION:En savoir plus
URL:https://gouville-sur-mer.fr/event/atelier-peinture-sur-ceramique-3/
LOCATION:Dereva Studio
END:VEVENT
BEGIN:VEVENT
DTSTART;TZID=Europe/Paris:20240511T153000
DTEND;TZID=Europe/Paris:20240511T173000
DTSTAMP:20260419T190010
CREATED:20240508T094311Z
LAST-MODIFIED:20240709T182529Z
UID:11120-1715441400-1715448600@gouville-sur-mer.fr
SUMMARY:Attelage grandes marées
DESCRIPTION:  \nPlus d’informations
URL:https://gouville-sur-mer.fr/event/attelage-grandes-marees-4/
LOCATION:Cale de Gouville (face SNSM)
ATTACH;FMTTYPE=image/jpeg:https://gouville-sur-mer.fr/wp-content/uploads/2023/09/attelage.jpg
END:VEVENT
END:VCALENDAR