BEGIN:VCALENDAR
VERSION:2.0
PRODID:-//Gouville-sur-mer - ECPv6.15.18//NONSGML v1.0//EN
CALSCALE:GREGORIAN
METHOD:PUBLISH
X-WR-CALNAME:Gouville-sur-mer
X-ORIGINAL-URL:https://gouville-sur-mer.fr
X-WR-CALDESC:Évènements pour Gouville-sur-mer
REFRESH-INTERVAL;VALUE=DURATION:PT1H
X-Robots-Tag:noindex
X-PUBLISHED-TTL:PT1H
BEGIN:VTIMEZONE
TZID:Europe/Paris
BEGIN:DAYLIGHT
TZOFFSETFROM:+0100
TZOFFSETTO:+0200
TZNAME:CEST
DTSTART:20230326T010000
END:DAYLIGHT
BEGIN:STANDARD
TZOFFSETFROM:+0200
TZOFFSETTO:+0100
TZNAME:CET
DTSTART:20231029T010000
END:STANDARD
BEGIN:DAYLIGHT
TZOFFSETFROM:+0100
TZOFFSETTO:+0200
TZNAME:CEST
DTSTART:20240331T010000
END:DAYLIGHT
BEGIN:STANDARD
TZOFFSETFROM:+0200
TZOFFSETTO:+0100
TZNAME:CET
DTSTART:20241027T010000
END:STANDARD
BEGIN:DAYLIGHT
TZOFFSETFROM:+0100
TZOFFSETTO:+0200
TZNAME:CEST
DTSTART:20250330T010000
END:DAYLIGHT
BEGIN:STANDARD
TZOFFSETFROM:+0200
TZOFFSETTO:+0100
TZNAME:CET
DTSTART:20251026T010000
END:STANDARD
END:VTIMEZONE
BEGIN:VEVENT
DTSTART;VALUE=DATE:20240517
DTEND;VALUE=DATE:20240609
DTSTAMP:20260419T185649
CREATED:20240503T103740Z
LAST-MODIFIED:20240709T182529Z
UID:11064-1715904000-1717891199@gouville-sur-mer.fr
SUMMARY:Expo "Les enfants de la résistance"
DESCRIPTION:Dans le cadre du 80e anniversaire du débarquement. \nEn savoir plus
URL:https://gouville-sur-mer.fr/event/expo-les-enfants-de-la-resistance/
LOCATION:La médiathèque de Gouville\, 6\, route de Coutances\, Gouville-sur-mer\, 50560\, France
ATTACH;FMTTYPE=image/jpeg:https://gouville-sur-mer.fr/wp-content/uploads/2023/10/arbres.jpeg
END:VEVENT
BEGIN:VEVENT
DTSTART;TZID=Europe/Paris:20240518T100000
DTEND;TZID=Europe/Paris:20240518T120000
DTSTAMP:20260419T185649
CREATED:20240503T094111Z
LAST-MODIFIED:20240709T182529Z
UID:11036-1716026400-1716033600@gouville-sur-mer.fr
SUMMARY:Atelier d'initiation au modelage
DESCRIPTION:Création d’un objet au choix \nEn savoir plus
URL:https://gouville-sur-mer.fr/event/atelier-dinitiation-au-modelage-3/
LOCATION:Dereva Studio
ATTACH;FMTTYPE=image/jpeg:https://gouville-sur-mer.fr/wp-content/uploads/2024/04/modelage-2-e1730797684995.jpg
END:VEVENT
BEGIN:VEVENT
DTSTART;TZID=Europe/Paris:20240518T143000
DTEND;TZID=Europe/Paris:20240518T163000
DTSTAMP:20260419T185649
CREATED:20240503T094459Z
LAST-MODIFIED:20240709T182529Z
UID:11040-1716042600-1716049800@gouville-sur-mer.fr
SUMMARY:Atelier modelage enfants
DESCRIPTION:En savoir plus
URL:https://gouville-sur-mer.fr/event/atelier-modelage-enfants/
LOCATION:Dereva Studio
ATTACH;FMTTYPE=image/png:https://gouville-sur-mer.fr/wp-content/uploads/2024/04/modelage_enfants.png
END:VEVENT
BEGIN:VEVENT
DTSTART;TZID=Europe/Paris:20240518T150000
DTEND;TZID=Europe/Paris:20240518T160000
DTSTAMP:20260419T185649
CREATED:20240506T061039Z
LAST-MODIFIED:20240709T182529Z
UID:11085-1716044400-1716048000@gouville-sur-mer.fr
SUMMARY:Baptème de la Rose
DESCRIPTION:
URL:https://gouville-sur-mer.fr/event/bapteme-de-la-rose/
LOCATION:Moulin de Gouville
ATTACH;FMTTYPE=image/jpeg:https://gouville-sur-mer.fr/wp-content/uploads/2024/05/invit_rose-e1714925552475.jpeg
END:VEVENT
BEGIN:VEVENT
DTSTART;TZID=Europe/Paris:20240518T150000
DTEND;TZID=Europe/Paris:20240518T170000
DTSTAMP:20260419T185649
CREATED:20240421T171101Z
LAST-MODIFIED:20240709T182530Z
UID:10975-1716044400-1716051600@gouville-sur-mer.fr
SUMMARY:Atelier écriture SLAM
DESCRIPTION:En savoir plus
URL:https://gouville-sur-mer.fr/event/atelier-ecriture-slam-a-la-mediatheque-de-gouville-2/
LOCATION:La médiathèque de Gouville\, 6\, route de Coutances\, Gouville-sur-mer\, 50560\, France
ATTACH;FMTTYPE=image/jpeg:https://gouville-sur-mer.fr/wp-content/uploads/2024/04/pexels-jeshoots-com-147458-834897-scaled.jpg
END:VEVENT
END:VCALENDAR