BEGIN:VCALENDAR
VERSION:2.0
PRODID:-//Gouville-sur-mer - ECPv6.15.18//NONSGML v1.0//EN
CALSCALE:GREGORIAN
METHOD:PUBLISH
X-ORIGINAL-URL:https://gouville-sur-mer.fr
X-WR-CALDESC:Évènements pour Gouville-sur-mer
REFRESH-INTERVAL;VALUE=DURATION:PT1H
X-Robots-Tag:noindex
X-PUBLISHED-TTL:PT1H
BEGIN:VTIMEZONE
TZID:Europe/Paris
BEGIN:DAYLIGHT
TZOFFSETFROM:+0100
TZOFFSETTO:+0200
TZNAME:CEST
DTSTART:20230326T010000
END:DAYLIGHT
BEGIN:STANDARD
TZOFFSETFROM:+0200
TZOFFSETTO:+0100
TZNAME:CET
DTSTART:20231029T010000
END:STANDARD
BEGIN:DAYLIGHT
TZOFFSETFROM:+0100
TZOFFSETTO:+0200
TZNAME:CEST
DTSTART:20240331T010000
END:DAYLIGHT
BEGIN:STANDARD
TZOFFSETFROM:+0200
TZOFFSETTO:+0100
TZNAME:CET
DTSTART:20241027T010000
END:STANDARD
BEGIN:DAYLIGHT
TZOFFSETFROM:+0100
TZOFFSETTO:+0200
TZNAME:CEST
DTSTART:20250330T010000
END:DAYLIGHT
BEGIN:STANDARD
TZOFFSETFROM:+0200
TZOFFSETTO:+0100
TZNAME:CET
DTSTART:20251026T010000
END:STANDARD
END:VTIMEZONE
BEGIN:VEVENT
DTSTART;VALUE=DATE:20240517
DTEND;VALUE=DATE:20240609
DTSTAMP:20260419T185846
CREATED:20240503T103740Z
LAST-MODIFIED:20240709T182529Z
UID:11064-1715904000-1717891199@gouville-sur-mer.fr
SUMMARY:Expo "Les enfants de la résistance"
DESCRIPTION:Dans le cadre du 80e anniversaire du débarquement. \nEn savoir plus
URL:https://gouville-sur-mer.fr/event/expo-les-enfants-de-la-resistance/
LOCATION:La médiathèque de Gouville\, 6\, route de Coutances\, Gouville-sur-mer\, 50560\, France
ATTACH;FMTTYPE=image/jpeg:https://gouville-sur-mer.fr/wp-content/uploads/2023/10/arbres.jpeg
END:VEVENT
BEGIN:VEVENT
DTSTART;TZID=Europe/Paris:20240521T093000
DTEND;TZID=Europe/Paris:20240521T170000
DTSTAMP:20260419T185846
CREATED:20240421T164505Z
LAST-MODIFIED:20240709T182530Z
UID:10962-1716283800-1716310800@gouville-sur-mer.fr
SUMMARY:Randonnée avec pique-nique
DESCRIPTION:9h30 : Tessy-sur-Vire parking du pont\, randonnée de 8 à 10 km \n12h : Pique-nique parking du Mont Robin \n14h : randonnée de 10 à 12 km \nContacts : Daniel H. 06 15 20 40 26\nBernard H. 06 87 36 32 58
URL:https://gouville-sur-mer.fr/event/randonnee-avec-pique-nique/
CATEGORIES:Randonnée
ATTACH;FMTTYPE=image/jpeg:https://gouville-sur-mer.fr/wp-content/uploads/2023/08/pexels_rando.jpeg
END:VEVENT
END:VCALENDAR