BEGIN:VCALENDAR
VERSION:2.0
PRODID:-//Gouville-sur-mer - ECPv6.15.18//NONSGML v1.0//EN
CALSCALE:GREGORIAN
METHOD:PUBLISH
X-WR-CALNAME:Gouville-sur-mer
X-ORIGINAL-URL:https://gouville-sur-mer.fr
X-WR-CALDESC:Évènements pour Gouville-sur-mer
REFRESH-INTERVAL;VALUE=DURATION:PT1H
X-Robots-Tag:noindex
X-PUBLISHED-TTL:PT1H
BEGIN:VTIMEZONE
TZID:Europe/Paris
BEGIN:DAYLIGHT
TZOFFSETFROM:+0100
TZOFFSETTO:+0200
TZNAME:CEST
DTSTART:20230326T010000
END:DAYLIGHT
BEGIN:STANDARD
TZOFFSETFROM:+0200
TZOFFSETTO:+0100
TZNAME:CET
DTSTART:20231029T010000
END:STANDARD
BEGIN:DAYLIGHT
TZOFFSETFROM:+0100
TZOFFSETTO:+0200
TZNAME:CEST
DTSTART:20240331T010000
END:DAYLIGHT
BEGIN:STANDARD
TZOFFSETFROM:+0200
TZOFFSETTO:+0100
TZNAME:CET
DTSTART:20241027T010000
END:STANDARD
BEGIN:DAYLIGHT
TZOFFSETFROM:+0100
TZOFFSETTO:+0200
TZNAME:CEST
DTSTART:20250330T010000
END:DAYLIGHT
BEGIN:STANDARD
TZOFFSETFROM:+0200
TZOFFSETTO:+0100
TZNAME:CET
DTSTART:20251026T010000
END:STANDARD
END:VTIMEZONE
BEGIN:VEVENT
DTSTART;VALUE=DATE:20240608
DTEND;VALUE=DATE:20240610
DTSTAMP:20260419T204004
CREATED:20240403T094229Z
LAST-MODIFIED:20240709T182532Z
UID:10695-1717804800-1717977599@gouville-sur-mer.fr
SUMMARY:Ball-trap de Boisroger
DESCRIPTION:En savoir plus
URL:https://gouville-sur-mer.fr/event/ball-trap-de-boisroger-2/
ATTACH;FMTTYPE=image/jpeg:https://gouville-sur-mer.fr/wp-content/uploads/2023/08/367960381_616555950587912_7046638066453747112_n.jpg
END:VEVENT
BEGIN:VEVENT
DTSTART;VALUE=DATE:20240609
DTEND;VALUE=DATE:20240610
DTSTAMP:20260419T204004
CREATED:20240519T095054Z
LAST-MODIFIED:20240709T182528Z
UID:11205-1717891200-1717977599@gouville-sur-mer.fr
SUMMARY:Elections européennes
DESCRIPTION:
URL:https://gouville-sur-mer.fr/event/elections-europeennes/
ATTACH;FMTTYPE=image/jpeg:https://gouville-sur-mer.fr/wp-content/uploads/2024/05/pexels-dusan-cvetanovic-254415846-12950547.jpg
END:VEVENT
BEGIN:VEVENT
DTSTART;TZID=Europe/Paris:20240609T153000
DTEND;TZID=Europe/Paris:20240609T173000
DTSTAMP:20260419T204004
CREATED:20240519T082907Z
LAST-MODIFIED:20240709T182528Z
UID:11178-1717947000-1717954200@gouville-sur-mer.fr
SUMMARY:Attelage grandes marées
DESCRIPTION:  \nPlus d’informations
URL:https://gouville-sur-mer.fr/event/attelage-grandes-marees-10/
LOCATION:Cale de Gouville (face SNSM)
ATTACH;FMTTYPE=image/jpeg:https://gouville-sur-mer.fr/wp-content/uploads/2023/09/attelage.jpg
END:VEVENT
END:VCALENDAR