BEGIN:VCALENDAR
VERSION:2.0
PRODID:-//Gouville-sur-mer - ECPv6.15.18//NONSGML v1.0//EN
CALSCALE:GREGORIAN
METHOD:PUBLISH
X-ORIGINAL-URL:https://gouville-sur-mer.fr
X-WR-CALDESC:Évènements pour Gouville-sur-mer
REFRESH-INTERVAL;VALUE=DURATION:PT1H
X-Robots-Tag:noindex
X-PUBLISHED-TTL:PT1H
BEGIN:VTIMEZONE
TZID:Europe/Paris
BEGIN:DAYLIGHT
TZOFFSETFROM:+0100
TZOFFSETTO:+0200
TZNAME:CEST
DTSTART:20230326T010000
END:DAYLIGHT
BEGIN:STANDARD
TZOFFSETFROM:+0200
TZOFFSETTO:+0100
TZNAME:CET
DTSTART:20231029T010000
END:STANDARD
BEGIN:DAYLIGHT
TZOFFSETFROM:+0100
TZOFFSETTO:+0200
TZNAME:CEST
DTSTART:20240331T010000
END:DAYLIGHT
BEGIN:STANDARD
TZOFFSETFROM:+0200
TZOFFSETTO:+0100
TZNAME:CET
DTSTART:20241027T010000
END:STANDARD
BEGIN:DAYLIGHT
TZOFFSETFROM:+0100
TZOFFSETTO:+0200
TZNAME:CEST
DTSTART:20250330T010000
END:DAYLIGHT
BEGIN:STANDARD
TZOFFSETFROM:+0200
TZOFFSETTO:+0100
TZNAME:CET
DTSTART:20251026T010000
END:STANDARD
END:VTIMEZONE
BEGIN:VEVENT
DTSTART;TZID=Europe/Paris:20240701T090000
DTEND;TZID=Europe/Paris:20240831T110000
DTSTAMP:20260419T221505
CREATED:20240805T070857Z
LAST-MODIFIED:20240805T071041Z
UID:12342-1719824400-1725102000@gouville-sur-mer.fr
SUMMARY:Aqua-gym / Réveil musculaire
DESCRIPTION:Activité proposée tous les matins de l’été au centre « Les sables d’or ». \nEn savoir plus
URL:https://gouville-sur-mer.fr/event/aqua-gym-reveil-musculaire/
LOCATION:Centre les sables d’or\, 16 Rue des Roquerets\, Gouville-sur-mer\, 50560
END:VEVENT
BEGIN:VEVENT
DTSTART;VALUE=DATE:20240720
DTEND;VALUE=DATE:20240811
DTSTAMP:20260419T221505
CREATED:20240612T150442Z
LAST-MODIFIED:20240728T165644Z
UID:11391-1721433600-1723334399@gouville-sur-mer.fr
SUMMARY:Attelages grandes marées
DESCRIPTION:  \nPlus d’informations
URL:https://gouville-sur-mer.fr/event/attelage-grandes-marees-17/
LOCATION:Cale de Gouville (face SNSM)
ATTACH;FMTTYPE=image/jpeg:https://gouville-sur-mer.fr/wp-content/uploads/2023/09/attelage.jpg
END:VEVENT
BEGIN:VEVENT
DTSTART;VALUE=DATE:20240720
DTEND;VALUE=DATE:20240727
DTSTAMP:20260419T221505
CREATED:20240619T123917Z
LAST-MODIFIED:20240709T182526Z
UID:11460-1721433600-1722038399@gouville-sur-mer.fr
SUMMARY:Exposition "Plages normandes et îles Feroe"
DESCRIPTION:En savoir plus
URL:https://gouville-sur-mer.fr/event/exposition-plages-normandes-et-iles-feroe/
LOCATION:La Filature
ATTACH;FMTTYPE=image/jpeg:https://gouville-sur-mer.fr/wp-content/uploads/2024/06/affiche-e1749989178103.jpg
END:VEVENT
BEGIN:VEVENT
DTSTART;TZID=Europe/Paris:20240725T100000
DTEND;TZID=Europe/Paris:20240725T120000
DTSTAMP:20260419T221505
CREATED:20240715T171643Z
LAST-MODIFIED:20240720T091246Z
UID:12046-1721901600-1721908800@gouville-sur-mer.fr
SUMMARY:Bols en papier
DESCRIPTION:En savoir plus
URL:https://gouville-sur-mer.fr/event/bols-en-papier/
LOCATION:La médiathèque de Gouville\, 6\, route de Coutances\, Gouville-sur-mer\, 50560\, France
ATTACH;FMTTYPE=image/jpeg:https://gouville-sur-mer.fr/wp-content/uploads/2024/07/coupes-papier-scaled.jpg
END:VEVENT
BEGIN:VEVENT
DTSTART;TZID=Europe/Paris:20240725T173000
DTEND;TZID=Europe/Paris:20240725T220000
DTSTAMP:20260419T221505
CREATED:20240721T132602Z
LAST-MODIFIED:20240721T132602Z
UID:12123-1721928600-1721944800@gouville-sur-mer.fr
SUMMARY:Marché traditionnel & artisanal semi-nocturne
DESCRIPTION:Chaque jeudi soir de l’été\, place de l’église. \nRestauration et buvette sur place. \nEn savoir plus
URL:https://gouville-sur-mer.fr/event/marche-traditionnel-artisanal-semi-nocturne-8/
LOCATION:Place de l’église
ATTACH;FMTTYPE=image/jpeg:https://gouville-sur-mer.fr/wp-content/uploads/2023/07/wu-yi-4NE2L1n1NpQ-unsplash-scaled-e1688314343859.jpg
END:VEVENT
BEGIN:VEVENT
DTSTART;TZID=Europe/Paris:20240725T180000
DTEND;TZID=Europe/Paris:20240725T180000
DTSTAMP:20260419T221505
CREATED:20240721T133554Z
LAST-MODIFIED:20240721T133554Z
UID:12137-1721930400-1721930400@gouville-sur-mer.fr
SUMMARY:Apéro-concert
DESCRIPTION:En savoir plus
URL:https://gouville-sur-mer.fr/event/apero-concert-4/
LOCATION:Théatre de verdure
END:VEVENT
END:VCALENDAR