BEGIN:VCALENDAR
VERSION:2.0
PRODID:-//Gouville-sur-mer - ECPv6.15.18//NONSGML v1.0//EN
CALSCALE:GREGORIAN
METHOD:PUBLISH
X-ORIGINAL-URL:https://gouville-sur-mer.fr
X-WR-CALDESC:Évènements pour Gouville-sur-mer
REFRESH-INTERVAL;VALUE=DURATION:PT1H
X-Robots-Tag:noindex
X-PUBLISHED-TTL:PT1H
BEGIN:VTIMEZONE
TZID:Europe/Paris
BEGIN:DAYLIGHT
TZOFFSETFROM:+0100
TZOFFSETTO:+0200
TZNAME:CEST
DTSTART:20230326T010000
END:DAYLIGHT
BEGIN:STANDARD
TZOFFSETFROM:+0200
TZOFFSETTO:+0100
TZNAME:CET
DTSTART:20231029T010000
END:STANDARD
BEGIN:DAYLIGHT
TZOFFSETFROM:+0100
TZOFFSETTO:+0200
TZNAME:CEST
DTSTART:20240331T010000
END:DAYLIGHT
BEGIN:STANDARD
TZOFFSETFROM:+0200
TZOFFSETTO:+0100
TZNAME:CET
DTSTART:20241027T010000
END:STANDARD
BEGIN:DAYLIGHT
TZOFFSETFROM:+0100
TZOFFSETTO:+0200
TZNAME:CEST
DTSTART:20250330T010000
END:DAYLIGHT
BEGIN:STANDARD
TZOFFSETFROM:+0200
TZOFFSETTO:+0100
TZNAME:CET
DTSTART:20251026T010000
END:STANDARD
END:VTIMEZONE
BEGIN:VEVENT
DTSTART;TZID=Europe/Paris:20240701T090000
DTEND;TZID=Europe/Paris:20240831T110000
DTSTAMP:20260419T221635
CREATED:20240805T070857Z
LAST-MODIFIED:20240805T071041Z
UID:12342-1719824400-1725102000@gouville-sur-mer.fr
SUMMARY:Aqua-gym / Réveil musculaire
DESCRIPTION:Activité proposée tous les matins de l’été au centre « Les sables d’or ». \nEn savoir plus
URL:https://gouville-sur-mer.fr/event/aqua-gym-reveil-musculaire/
LOCATION:Centre les sables d’or\, 16 Rue des Roquerets\, Gouville-sur-mer\, 50560
END:VEVENT
BEGIN:VEVENT
DTSTART;VALUE=DATE:20240720
DTEND;VALUE=DATE:20240811
DTSTAMP:20260419T221635
CREATED:20240612T150442Z
LAST-MODIFIED:20240728T165644Z
UID:11391-1721433600-1723334399@gouville-sur-mer.fr
SUMMARY:Attelages grandes marées
DESCRIPTION:  \nPlus d’informations
URL:https://gouville-sur-mer.fr/event/attelage-grandes-marees-17/
LOCATION:Cale de Gouville (face SNSM)
ATTACH;FMTTYPE=image/jpeg:https://gouville-sur-mer.fr/wp-content/uploads/2023/09/attelage.jpg
END:VEVENT
BEGIN:VEVENT
DTSTART;VALUE=DATE:20240720
DTEND;VALUE=DATE:20240727
DTSTAMP:20260419T221635
CREATED:20240619T123917Z
LAST-MODIFIED:20240709T182526Z
UID:11460-1721433600-1722038399@gouville-sur-mer.fr
SUMMARY:Exposition "Plages normandes et îles Feroe"
DESCRIPTION:En savoir plus
URL:https://gouville-sur-mer.fr/event/exposition-plages-normandes-et-iles-feroe/
LOCATION:La Filature
ATTACH;FMTTYPE=image/jpeg:https://gouville-sur-mer.fr/wp-content/uploads/2024/06/affiche-e1749989178103.jpg
END:VEVENT
BEGIN:VEVENT
DTSTART;VALUE=DATE:20240726
DTEND;VALUE=DATE:20240729
DTSTAMP:20260419T221635
CREATED:20240612T134438Z
LAST-MODIFIED:20240718T060838Z
UID:11350-1721952000-1722211199@gouville-sur-mer.fr
SUMMARY:En route vers la liberté !
DESCRIPTION:3 jours de festivités pour le 80e anniversaire du débarquement\, à Montsurvent le 26 juillet\, Gouville le 27 juillet et Anneville le 28 juillet. \nEn savoir plus
URL:https://gouville-sur-mer.fr/event/en-route-vers-la-liberte/
ATTACH;FMTTYPE=image/png:https://gouville-sur-mer.fr/wp-content/uploads/2024/06/80e-anniversaire.png
END:VEVENT
BEGIN:VEVENT
DTSTART;VALUE=DATE:20240726
DTEND;VALUE=DATE:20240729
DTSTAMP:20260419T221635
CREATED:20240612T135633Z
LAST-MODIFIED:20240709T182527Z
UID:11358-1721952000-1722211199@gouville-sur-mer.fr
SUMMARY:Histoire d'un pilote américain
DESCRIPTION:Exposition à la médiathèque. \n 
URL:https://gouville-sur-mer.fr/event/histoire-dun-pilote-americain/
ATTACH;FMTTYPE=image/jpeg:https://gouville-sur-mer.fr/wp-content/uploads/2023/10/arbres.jpeg
END:VEVENT
BEGIN:VEVENT
DTSTART;TZID=Europe/Paris:20240726T093000
DTEND;TZID=Europe/Paris:20240726T110000
DTSTAMP:20260419T221635
CREATED:20240612T150906Z
LAST-MODIFIED:20240710T103137Z
UID:11393-1721986200-1721991600@gouville-sur-mer.fr
SUMMARY:Balade bien-être
DESCRIPTION:« voir la vie en couleurs »\nEn savoir plus
URL:https://gouville-sur-mer.fr/event/balade-bien-etre-voir-la-vie-en-couleurs-2/
ATTACH;FMTTYPE=image/png:https://gouville-sur-mer.fr/wp-content/uploads/2024/05/photo_©aimieSophrologie.png
END:VEVENT
BEGIN:VEVENT
DTSTART;TZID=Europe/Paris:20240726T100000
DTEND;TZID=Europe/Paris:20240726T120000
DTSTAMP:20260419T221635
CREATED:20240614T094613Z
LAST-MODIFIED:20240709T182527Z
UID:11418-1721988000-1721995200@gouville-sur-mer.fr
SUMMARY:Atelier modelage parents/enfants
DESCRIPTION:En savoir plus
URL:https://gouville-sur-mer.fr/event/atelier-modelage-parents-enfants-2/
LOCATION:Dereva Studio
ATTACH;FMTTYPE=image/png:https://gouville-sur-mer.fr/wp-content/uploads/2024/06/modelage_parents-enfants.png
END:VEVENT
BEGIN:VEVENT
DTSTART;TZID=Europe/Paris:20240726T150000
DTEND;TZID=Europe/Paris:20240726T170000
DTSTAMP:20260419T221635
CREATED:20240121T131405Z
LAST-MODIFIED:20240709T182534Z
UID:11236-1722006000-1722013200@gouville-sur-mer.fr
SUMMARY:Papillons et cie
DESCRIPTION:En savoir plus
URL:https://gouville-sur-mer.fr/event/papillons-et-cie/
ATTACH;FMTTYPE=image/jpeg:https://gouville-sur-mer.fr/wp-content/uploads/2023/06/aaron-burden-TYvt5pmKng-unsplash-scaled.jpg
END:VEVENT
END:VCALENDAR