BEGIN:VCALENDAR
VERSION:2.0
PRODID:-//Gouville-sur-mer - ECPv6.15.18//NONSGML v1.0//EN
CALSCALE:GREGORIAN
METHOD:PUBLISH
X-WR-CALNAME:Gouville-sur-mer
X-ORIGINAL-URL:https://gouville-sur-mer.fr
X-WR-CALDESC:Évènements pour Gouville-sur-mer
REFRESH-INTERVAL;VALUE=DURATION:PT1H
X-Robots-Tag:noindex
X-PUBLISHED-TTL:PT1H
BEGIN:VTIMEZONE
TZID:Europe/Paris
BEGIN:DAYLIGHT
TZOFFSETFROM:+0100
TZOFFSETTO:+0200
TZNAME:CEST
DTSTART:20230326T010000
END:DAYLIGHT
BEGIN:STANDARD
TZOFFSETFROM:+0200
TZOFFSETTO:+0100
TZNAME:CET
DTSTART:20231029T010000
END:STANDARD
BEGIN:DAYLIGHT
TZOFFSETFROM:+0100
TZOFFSETTO:+0200
TZNAME:CEST
DTSTART:20240331T010000
END:DAYLIGHT
BEGIN:STANDARD
TZOFFSETFROM:+0200
TZOFFSETTO:+0100
TZNAME:CET
DTSTART:20241027T010000
END:STANDARD
BEGIN:DAYLIGHT
TZOFFSETFROM:+0100
TZOFFSETTO:+0200
TZNAME:CEST
DTSTART:20250330T010000
END:DAYLIGHT
BEGIN:STANDARD
TZOFFSETFROM:+0200
TZOFFSETTO:+0100
TZNAME:CET
DTSTART:20251026T010000
END:STANDARD
END:VTIMEZONE
BEGIN:VEVENT
DTSTART;TZID=Europe/Paris:20240701T090000
DTEND;TZID=Europe/Paris:20240831T110000
DTSTAMP:20260419T221312
CREATED:20240805T070857Z
LAST-MODIFIED:20240805T071041Z
UID:12342-1719824400-1725102000@gouville-sur-mer.fr
SUMMARY:Aqua-gym / Réveil musculaire
DESCRIPTION:Activité proposée tous les matins de l’été au centre « Les sables d’or ». \nEn savoir plus
URL:https://gouville-sur-mer.fr/event/aqua-gym-reveil-musculaire/
LOCATION:Centre les sables d’or\, 16 Rue des Roquerets\, Gouville-sur-mer\, 50560
END:VEVENT
BEGIN:VEVENT
DTSTART;VALUE=DATE:20240720
DTEND;VALUE=DATE:20240811
DTSTAMP:20260419T221312
CREATED:20240612T150442Z
LAST-MODIFIED:20240728T165644Z
UID:11391-1721433600-1723334399@gouville-sur-mer.fr
SUMMARY:Attelages grandes marées
DESCRIPTION:  \nPlus d’informations
URL:https://gouville-sur-mer.fr/event/attelage-grandes-marees-17/
LOCATION:Cale de Gouville (face SNSM)
ATTACH;FMTTYPE=image/jpeg:https://gouville-sur-mer.fr/wp-content/uploads/2023/09/attelage.jpg
END:VEVENT
BEGIN:VEVENT
DTSTART;VALUE=DATE:20240726
DTEND;VALUE=DATE:20240729
DTSTAMP:20260419T221312
CREATED:20240612T134438Z
LAST-MODIFIED:20240718T060838Z
UID:11350-1721952000-1722211199@gouville-sur-mer.fr
SUMMARY:En route vers la liberté !
DESCRIPTION:3 jours de festivités pour le 80e anniversaire du débarquement\, à Montsurvent le 26 juillet\, Gouville le 27 juillet et Anneville le 28 juillet. \nEn savoir plus
URL:https://gouville-sur-mer.fr/event/en-route-vers-la-liberte/
ATTACH;FMTTYPE=image/png:https://gouville-sur-mer.fr/wp-content/uploads/2024/06/80e-anniversaire.png
END:VEVENT
BEGIN:VEVENT
DTSTART;VALUE=DATE:20240726
DTEND;VALUE=DATE:20240729
DTSTAMP:20260419T221312
CREATED:20240612T135633Z
LAST-MODIFIED:20240709T182527Z
UID:11358-1721952000-1722211199@gouville-sur-mer.fr
SUMMARY:Histoire d'un pilote américain
DESCRIPTION:Exposition à la médiathèque. \n 
URL:https://gouville-sur-mer.fr/event/histoire-dun-pilote-americain/
ATTACH;FMTTYPE=image/jpeg:https://gouville-sur-mer.fr/wp-content/uploads/2023/10/arbres.jpeg
END:VEVENT
BEGIN:VEVENT
DTSTART;VALUE=DATE:20240727
DTEND;VALUE=DATE:20240729
DTSTAMP:20260419T221312
CREATED:20240614T095842Z
LAST-MODIFIED:20240709T182527Z
UID:11428-1722038400-1722211199@gouville-sur-mer.fr
SUMMARY:Stage céramique
DESCRIPTION:À partir de 13 ans. \nStage complet sur 2 jours\, incluant le tournage. \nEn savoir plus
URL:https://gouville-sur-mer.fr/event/stage-ceramique/
LOCATION:Dereva Studio
ATTACH;FMTTYPE=image/png:https://gouville-sur-mer.fr/wp-content/uploads/2024/06/tournage.png
END:VEVENT
BEGIN:VEVENT
DTSTART;VALUE=DATE:20240727
DTEND;VALUE=DATE:20240803
DTSTAMP:20260419T221312
CREATED:20240723T152626Z
LAST-MODIFIED:20240728T152627Z
UID:12193-1722038400-1722643199@gouville-sur-mer.fr
SUMMARY:Exposition "Charline Leclerc"
DESCRIPTION:A la Filature \nEn savoir plus
URL:https://gouville-sur-mer.fr/event/leclerc/
END:VEVENT
BEGIN:VEVENT
DTSTART;TZID=Europe/Paris:20240727T060000
DTEND;TZID=Europe/Paris:20240727T170000
DTSTAMP:20260419T221312
CREATED:20240716T120957Z
LAST-MODIFIED:20240718T060145Z
UID:12074-1722060000-1722099600@gouville-sur-mer.fr
SUMMARY:Vide-grenier
DESCRIPTION:à Gouville
URL:https://gouville-sur-mer.fr/event/vide-grenier-de-la-liberation/
LOCATION:Place de l’église
END:VEVENT
BEGIN:VEVENT
DTSTART;TZID=Europe/Paris:20240727T110000
DTEND;TZID=Europe/Paris:20240727T123000
DTSTAMP:20260419T221312
CREATED:20240716T121959Z
LAST-MODIFIED:20240716T122006Z
UID:12076-1722078000-1722083400@gouville-sur-mer.fr
SUMMARY:Apéro-Concert
DESCRIPTION:avec le groupe la Mafia normande
URL:https://gouville-sur-mer.fr/event/apero-concet/
LOCATION:Théatre de verdure
END:VEVENT
BEGIN:VEVENT
DTSTART;TZID=Europe/Paris:20240727T183000
DTEND;TZID=Europe/Paris:20240727T193000
DTSTAMP:20260419T221312
CREATED:20240718T060630Z
LAST-MODIFIED:20240718T060630Z
UID:12089-1722105000-1722108600@gouville-sur-mer.fr
SUMMARY:Inauguration / hommage
DESCRIPTION:Place de la Mairie de Montsurvent
URL:https://gouville-sur-mer.fr/event/inauguration-hommage/
LOCATION:Montsurvent\, place de l'église\, Montsurvent\, France
ATTACH;FMTTYPE=image/jpeg:https://gouville-sur-mer.fr/wp-content/uploads/2024/07/stele_montsurvent.jpg
END:VEVENT
BEGIN:VEVENT
DTSTART;TZID=Europe/Paris:20240727T190000
DTEND;TZID=Europe/Paris:20240727T230000
DTSTAMP:20260419T221312
CREATED:20240716T122119Z
LAST-MODIFIED:20240716T122119Z
UID:12079-1722106800-1722121200@gouville-sur-mer.fr
SUMMARY:Barbecue
DESCRIPTION:
URL:https://gouville-sur-mer.fr/event/barbecue/
LOCATION:Salle des fêtes de Gouville-sur-mer\, 19 route de Coutances\, Gouville-sur-mer\, 50560\, France
END:VEVENT
BEGIN:VEVENT
DTSTART;TZID=Europe/Paris:20240727T200000
DTEND;TZID=Europe/Paris:20240727T220000
DTSTAMP:20260419T221312
CREATED:20240716T122319Z
LAST-MODIFIED:20240716T122319Z
UID:12081-1722110400-1722117600@gouville-sur-mer.fr
SUMMARY:Concert
DESCRIPTION:avec le groupe Reveal Quartet
URL:https://gouville-sur-mer.fr/event/concert/
LOCATION:Salle des fêtes de Gouville-sur-mer\, 19 route de Coutances\, Gouville-sur-mer\, 50560\, France
END:VEVENT
BEGIN:VEVENT
DTSTART;TZID=Europe/Paris:20240727T223000
DTEND;TZID=Europe/Paris:20240727T233000
DTSTAMP:20260419T221312
CREATED:20240716T122441Z
LAST-MODIFIED:20240716T122441Z
UID:12083-1722119400-1722123000@gouville-sur-mer.fr
SUMMARY:Spectacle son & lumière
DESCRIPTION:
URL:https://gouville-sur-mer.fr/event/spectacle-son-lumiere/
LOCATION:Stade de Gouville-sur-mer
END:VEVENT
END:VCALENDAR