BEGIN:VCALENDAR
VERSION:2.0
PRODID:-//Gouville-sur-mer - ECPv6.15.18//NONSGML v1.0//EN
CALSCALE:GREGORIAN
METHOD:PUBLISH
X-ORIGINAL-URL:https://gouville-sur-mer.fr
X-WR-CALDESC:Évènements pour Gouville-sur-mer
REFRESH-INTERVAL;VALUE=DURATION:PT1H
X-Robots-Tag:noindex
X-PUBLISHED-TTL:PT1H
BEGIN:VTIMEZONE
TZID:Europe/Paris
BEGIN:DAYLIGHT
TZOFFSETFROM:+0100
TZOFFSETTO:+0200
TZNAME:CEST
DTSTART:20230326T010000
END:DAYLIGHT
BEGIN:STANDARD
TZOFFSETFROM:+0200
TZOFFSETTO:+0100
TZNAME:CET
DTSTART:20231029T010000
END:STANDARD
BEGIN:DAYLIGHT
TZOFFSETFROM:+0100
TZOFFSETTO:+0200
TZNAME:CEST
DTSTART:20240331T010000
END:DAYLIGHT
BEGIN:STANDARD
TZOFFSETFROM:+0200
TZOFFSETTO:+0100
TZNAME:CET
DTSTART:20241027T010000
END:STANDARD
BEGIN:DAYLIGHT
TZOFFSETFROM:+0100
TZOFFSETTO:+0200
TZNAME:CEST
DTSTART:20250330T010000
END:DAYLIGHT
BEGIN:STANDARD
TZOFFSETFROM:+0200
TZOFFSETTO:+0100
TZNAME:CET
DTSTART:20251026T010000
END:STANDARD
END:VTIMEZONE
BEGIN:VEVENT
DTSTART;TZID=Europe/Paris:20240701T090000
DTEND;TZID=Europe/Paris:20240831T110000
DTSTAMP:20260419T221440
CREATED:20240805T070857Z
LAST-MODIFIED:20240805T071041Z
UID:12342-1719824400-1725102000@gouville-sur-mer.fr
SUMMARY:Aqua-gym / Réveil musculaire
DESCRIPTION:Activité proposée tous les matins de l’été au centre « Les sables d’or ». \nEn savoir plus
URL:https://gouville-sur-mer.fr/event/aqua-gym-reveil-musculaire/
LOCATION:Centre les sables d’or\, 16 Rue des Roquerets\, Gouville-sur-mer\, 50560
END:VEVENT
BEGIN:VEVENT
DTSTART;VALUE=DATE:20240720
DTEND;VALUE=DATE:20240811
DTSTAMP:20260419T221440
CREATED:20240612T150442Z
LAST-MODIFIED:20240728T165644Z
UID:11391-1721433600-1723334399@gouville-sur-mer.fr
SUMMARY:Attelages grandes marées
DESCRIPTION:  \nPlus d’informations
URL:https://gouville-sur-mer.fr/event/attelage-grandes-marees-17/
LOCATION:Cale de Gouville (face SNSM)
ATTACH;FMTTYPE=image/jpeg:https://gouville-sur-mer.fr/wp-content/uploads/2023/09/attelage.jpg
END:VEVENT
BEGIN:VEVENT
DTSTART;VALUE=DATE:20240727
DTEND;VALUE=DATE:20240803
DTSTAMP:20260419T221440
CREATED:20240723T152626Z
LAST-MODIFIED:20240728T152627Z
UID:12193-1722038400-1722643199@gouville-sur-mer.fr
SUMMARY:Exposition "Charline Leclerc"
DESCRIPTION:A la Filature \nEn savoir plus
URL:https://gouville-sur-mer.fr/event/leclerc/
END:VEVENT
BEGIN:VEVENT
DTSTART;TZID=Europe/Paris:20240801T143000
DTEND;TZID=Europe/Paris:20240801T163000
DTSTAMP:20260419T221440
CREATED:20240728T161743Z
LAST-MODIFIED:20240728T161743Z
UID:12249-1722522600-1722529800@gouville-sur-mer.fr
SUMMARY:Atelier modelage parent/enfant
DESCRIPTION:Partagez un moment de créativité avec vos enfants. Une initiation aux techniques du modelage pour créer ensemble vos propres pièces en céramique (de 4 à 99 ans). \nRendez-vous au Studio Dereva\, 2b\, rue du Bord du Moulin à Gouville-sur-mer.
URL:https://gouville-sur-mer.fr/event/atelier-modelage-parent-enfant/
LOCATION:Dereva Studio
ATTACH;FMTTYPE=image/png:https://gouville-sur-mer.fr/wp-content/uploads/2024/06/modelage_parents-enfants.png
END:VEVENT
BEGIN:VEVENT
DTSTART;TZID=Europe/Paris:20240801T143000
DTEND;TZID=Europe/Paris:20240801T163000
DTSTAMP:20260419T221440
CREATED:20240731T083300Z
LAST-MODIFIED:20240731T083458Z
UID:12273-1722522600-1722529800@gouville-sur-mer.fr
SUMMARY:Découverte des dunes
DESCRIPTION:En savoir plus
URL:https://gouville-sur-mer.fr/event/decouverte-des-dunes-2/
LOCATION:Cale de Gouville (face SNSM)
ATTACH;FMTTYPE=image/jpeg:https://gouville-sur-mer.fr/wp-content/uploads/2022/05/IMG_2072-scaled.jpg
END:VEVENT
BEGIN:VEVENT
DTSTART;TZID=Europe/Paris:20240801T173000
DTEND;TZID=Europe/Paris:20240801T220000
DTSTAMP:20260419T221440
CREATED:20240721T132733Z
LAST-MODIFIED:20240721T132733Z
UID:12125-1722533400-1722549600@gouville-sur-mer.fr
SUMMARY:Marché traditionnel & artisanal semi-nocturne
DESCRIPTION:Chaque jeudi soir de l’été\, place de l’église. \nRestauration et buvette sur place. \nEn savoir plus
URL:https://gouville-sur-mer.fr/event/marche-traditionnel-artisanal-semi-nocturne-9/
LOCATION:Place de l’église
ATTACH;FMTTYPE=image/jpeg:https://gouville-sur-mer.fr/wp-content/uploads/2023/07/wu-yi-4NE2L1n1NpQ-unsplash-scaled-e1688314343859.jpg
END:VEVENT
BEGIN:VEVENT
DTSTART;TZID=Europe/Paris:20240801T180000
DTEND;TZID=Europe/Paris:20240801T180000
DTSTAMP:20260419T221440
CREATED:20240721T133658Z
LAST-MODIFIED:20240721T133658Z
UID:12139-1722535200-1722535200@gouville-sur-mer.fr
SUMMARY:Apéro-concert
DESCRIPTION:En savoir plus
URL:https://gouville-sur-mer.fr/event/apero-concert-5/
LOCATION:Théatre de verdure
END:VEVENT
END:VCALENDAR