BEGIN:VCALENDAR
VERSION:2.0
PRODID:-//Gouville-sur-mer - ECPv6.15.18//NONSGML v1.0//EN
CALSCALE:GREGORIAN
METHOD:PUBLISH
X-ORIGINAL-URL:https://gouville-sur-mer.fr
X-WR-CALDESC:Évènements pour Gouville-sur-mer
REFRESH-INTERVAL;VALUE=DURATION:PT1H
X-Robots-Tag:noindex
X-PUBLISHED-TTL:PT1H
BEGIN:VTIMEZONE
TZID:Europe/Paris
BEGIN:DAYLIGHT
TZOFFSETFROM:+0100
TZOFFSETTO:+0200
TZNAME:CEST
DTSTART:20230326T010000
END:DAYLIGHT
BEGIN:STANDARD
TZOFFSETFROM:+0200
TZOFFSETTO:+0100
TZNAME:CET
DTSTART:20231029T010000
END:STANDARD
BEGIN:DAYLIGHT
TZOFFSETFROM:+0100
TZOFFSETTO:+0200
TZNAME:CEST
DTSTART:20240331T010000
END:DAYLIGHT
BEGIN:STANDARD
TZOFFSETFROM:+0200
TZOFFSETTO:+0100
TZNAME:CET
DTSTART:20241027T010000
END:STANDARD
BEGIN:DAYLIGHT
TZOFFSETFROM:+0100
TZOFFSETTO:+0200
TZNAME:CEST
DTSTART:20250330T010000
END:DAYLIGHT
BEGIN:STANDARD
TZOFFSETFROM:+0200
TZOFFSETTO:+0100
TZNAME:CET
DTSTART:20251026T010000
END:STANDARD
END:VTIMEZONE
BEGIN:VEVENT
DTSTART;TZID=Europe/Paris:20240701T090000
DTEND;TZID=Europe/Paris:20240831T110000
DTSTAMP:20260419T221503
CREATED:20240805T070857Z
LAST-MODIFIED:20240805T071041Z
UID:12342-1719824400-1725102000@gouville-sur-mer.fr
SUMMARY:Aqua-gym / Réveil musculaire
DESCRIPTION:Activité proposée tous les matins de l’été au centre « Les sables d’or ». \nEn savoir plus
URL:https://gouville-sur-mer.fr/event/aqua-gym-reveil-musculaire/
LOCATION:Centre les sables d’or\, 16 Rue des Roquerets\, Gouville-sur-mer\, 50560
END:VEVENT
BEGIN:VEVENT
DTSTART;VALUE=DATE:20240720
DTEND;VALUE=DATE:20240811
DTSTAMP:20260419T221503
CREATED:20240612T150442Z
LAST-MODIFIED:20240728T165644Z
UID:11391-1721433600-1723334399@gouville-sur-mer.fr
SUMMARY:Attelages grandes marées
DESCRIPTION:  \nPlus d’informations
URL:https://gouville-sur-mer.fr/event/attelage-grandes-marees-17/
LOCATION:Cale de Gouville (face SNSM)
ATTACH;FMTTYPE=image/jpeg:https://gouville-sur-mer.fr/wp-content/uploads/2023/09/attelage.jpg
END:VEVENT
BEGIN:VEVENT
DTSTART;VALUE=DATE:20240802
DTEND;VALUE=DATE:20240804
DTSTAMP:20260419T221503
CREATED:20240706T084145Z
LAST-MODIFIED:20240712T071701Z
UID:11516-1722556800-1722729599@gouville-sur-mer.fr
SUMMARY:Fête du moulin de Gouville
DESCRIPTION:  \nVoir le programme
URL:https://gouville-sur-mer.fr/event/fete-du-moulin-de-gouville-2/
CATEGORIES:Spectacle
ATTACH;FMTTYPE=image/jpeg:https://gouville-sur-mer.fr/wp-content/uploads/2024/07/fete_moulin.jpg
END:VEVENT
BEGIN:VEVENT
DTSTART;VALUE=DATE:20240803
DTEND;VALUE=DATE:20240810
DTSTAMP:20260419T221503
CREATED:20230607T103754Z
LAST-MODIFIED:20240804T111300Z
UID:8821-1722643200-1723247999@gouville-sur-mer.fr
SUMMARY:Exposition Ybertin'art\, Virginie COENEN\, Coline LEPLUMEY\, Nathalie DECHAUME
DESCRIPTION:Tableaux lumineux\, bijoux\, sacs\, illustrations graphiques \nDétail des expositions
URL:https://gouville-sur-mer.fr/event/exposition-virginie-cohen/
LOCATION:La Filature
ATTACH;FMTTYPE=image/png:https://gouville-sur-mer.fr/wp-content/uploads/2023/06/ybertinart.png
END:VEVENT
BEGIN:VEVENT
DTSTART;TZID=Europe/Paris:20240803T143000
DTEND;TZID=Europe/Paris:20240803T163000
DTSTAMP:20260419T221503
CREATED:20240728T162146Z
LAST-MODIFIED:20240728T162250Z
UID:12251-1722695400-1722702600@gouville-sur-mer.fr
SUMMARY:Peinture sur céramique
DESCRIPTION:En savoir plus
URL:https://gouville-sur-mer.fr/event/peinture-sur-ceramique-4/
LOCATION:Dereva Studio
ATTACH;FMTTYPE=image/png:https://gouville-sur-mer.fr/wp-content/uploads/2024/06/peinture_ceramique.png
END:VEVENT
BEGIN:VEVENT
DTSTART;TZID=Europe/Paris:20240803T190000
DTEND;TZID=Europe/Paris:20240803T190000
DTSTAMP:20260419T221503
CREATED:20240723T155704Z
LAST-MODIFIED:20240723T155829Z
UID:12207-1722711600-1722711600@gouville-sur-mer.fr
SUMMARY:Spectacle son et lumière et repas sous tente
DESCRIPTION:
URL:https://gouville-sur-mer.fr/event/spectacle-son-et-lumiere-et-repas-sous-tente/
LOCATION:Moulin de Gouville
END:VEVENT
END:VCALENDAR