BEGIN:VCALENDAR
VERSION:2.0
PRODID:-//Gouville-sur-mer - ECPv6.15.18//NONSGML v1.0//EN
CALSCALE:GREGORIAN
METHOD:PUBLISH
X-ORIGINAL-URL:https://gouville-sur-mer.fr
X-WR-CALDESC:Évènements pour Gouville-sur-mer
REFRESH-INTERVAL;VALUE=DURATION:PT1H
X-Robots-Tag:noindex
X-PUBLISHED-TTL:PT1H
BEGIN:VTIMEZONE
TZID:Europe/Paris
BEGIN:DAYLIGHT
TZOFFSETFROM:+0100
TZOFFSETTO:+0200
TZNAME:CEST
DTSTART:20230326T010000
END:DAYLIGHT
BEGIN:STANDARD
TZOFFSETFROM:+0200
TZOFFSETTO:+0100
TZNAME:CET
DTSTART:20231029T010000
END:STANDARD
BEGIN:DAYLIGHT
TZOFFSETFROM:+0100
TZOFFSETTO:+0200
TZNAME:CEST
DTSTART:20240331T010000
END:DAYLIGHT
BEGIN:STANDARD
TZOFFSETFROM:+0200
TZOFFSETTO:+0100
TZNAME:CET
DTSTART:20241027T010000
END:STANDARD
BEGIN:DAYLIGHT
TZOFFSETFROM:+0100
TZOFFSETTO:+0200
TZNAME:CEST
DTSTART:20250330T010000
END:DAYLIGHT
BEGIN:STANDARD
TZOFFSETFROM:+0200
TZOFFSETTO:+0100
TZNAME:CET
DTSTART:20251026T010000
END:STANDARD
END:VTIMEZONE
BEGIN:VEVENT
DTSTART;TZID=Europe/Paris:20240701T090000
DTEND;TZID=Europe/Paris:20240831T110000
DTSTAMP:20260420T001220
CREATED:20240805T070857Z
LAST-MODIFIED:20240805T071041Z
UID:12342-1719824400-1725102000@gouville-sur-mer.fr
SUMMARY:Aqua-gym / Réveil musculaire
DESCRIPTION:Activité proposée tous les matins de l’été au centre « Les sables d’or ». \nEn savoir plus
URL:https://gouville-sur-mer.fr/event/aqua-gym-reveil-musculaire/
LOCATION:Centre les sables d’or\, 16 Rue des Roquerets\, Gouville-sur-mer\, 50560
END:VEVENT
BEGIN:VEVENT
DTSTART;VALUE=DATE:20240805
DTEND;VALUE=DATE:20240831
DTSTAMP:20260420T001220
CREATED:20240805T110001Z
LAST-MODIFIED:20240805T155939Z
UID:12352-1722816000-1725062399@gouville-sur-mer.fr
SUMMARY:Exposition "Et si mon ombre vivait sa vie"
DESCRIPTION:En savoir plus
URL:https://gouville-sur-mer.fr/event/exposition-jeux-dombres/
LOCATION:La médiathèque de Gouville\, 6\, route de Coutances\, Gouville-sur-mer\, 50560\, France
ATTACH;FMTTYPE=image/png:https://gouville-sur-mer.fr/wp-content/uploads/2024/07/ombre_expo.png
END:VEVENT
BEGIN:VEVENT
DTSTART;VALUE=DATE:20240810
DTEND;VALUE=DATE:20240817
DTSTAMP:20260420T001220
CREATED:20240811T093306Z
LAST-MODIFIED:20240811T093410Z
UID:12388-1723248000-1723852799@gouville-sur-mer.fr
SUMMARY:Exposition "Entomaginaires"
DESCRIPTION:en savoir plus
URL:https://gouville-sur-mer.fr/event/exposition-entomaginaires/
LOCATION:La Filature
END:VEVENT
BEGIN:VEVENT
DTSTART;VALUE=DATE:20240813
DTEND;VALUE=DATE:20240814
DTSTAMP:20260420T001220
CREATED:20240723T152252Z
LAST-MODIFIED:20240723T160948Z
UID:12191-1723507200-1723593599@gouville-sur-mer.fr
SUMMARY:Initiation skimboard
DESCRIPTION:Tournée des plages Mauna Kea
URL:https://gouville-sur-mer.fr/event/tournee-des-plages-mauna-kea-2/
LOCATION:Plage de Gouville
END:VEVENT
BEGIN:VEVENT
DTSTART;TZID=Europe/Paris:20240813T140000
DTEND;TZID=Europe/Paris:20240813T153000
DTSTAMP:20260420T001220
CREATED:20240804T145557Z
LAST-MODIFIED:20240804T145557Z
UID:12318-1723557600-1723563000@gouville-sur-mer.fr
SUMMARY:Escape-game JO
DESCRIPTION:
URL:https://gouville-sur-mer.fr/event/escape-game-jo/
LOCATION:La médiathèque de Gouville\, 6\, route de Coutances\, Gouville-sur-mer\, 50560\, France
ATTACH;FMTTYPE=image/png:https://gouville-sur-mer.fr/wp-content/uploads/2024/08/escapegame.png
END:VEVENT
END:VCALENDAR