BEGIN:VCALENDAR
VERSION:2.0
PRODID:-//Gouville-sur-mer - ECPv6.15.18//NONSGML v1.0//EN
CALSCALE:GREGORIAN
METHOD:PUBLISH
X-ORIGINAL-URL:https://gouville-sur-mer.fr
X-WR-CALDESC:Évènements pour Gouville-sur-mer
REFRESH-INTERVAL;VALUE=DURATION:PT1H
X-Robots-Tag:noindex
X-PUBLISHED-TTL:PT1H
BEGIN:VTIMEZONE
TZID:Europe/Paris
BEGIN:DAYLIGHT
TZOFFSETFROM:+0100
TZOFFSETTO:+0200
TZNAME:CEST
DTSTART:20230326T010000
END:DAYLIGHT
BEGIN:STANDARD
TZOFFSETFROM:+0200
TZOFFSETTO:+0100
TZNAME:CET
DTSTART:20231029T010000
END:STANDARD
BEGIN:DAYLIGHT
TZOFFSETFROM:+0100
TZOFFSETTO:+0200
TZNAME:CEST
DTSTART:20240331T010000
END:DAYLIGHT
BEGIN:STANDARD
TZOFFSETFROM:+0200
TZOFFSETTO:+0100
TZNAME:CET
DTSTART:20241027T010000
END:STANDARD
BEGIN:DAYLIGHT
TZOFFSETFROM:+0100
TZOFFSETTO:+0200
TZNAME:CEST
DTSTART:20250330T010000
END:DAYLIGHT
BEGIN:STANDARD
TZOFFSETFROM:+0200
TZOFFSETTO:+0100
TZNAME:CET
DTSTART:20251026T010000
END:STANDARD
END:VTIMEZONE
BEGIN:VEVENT
DTSTART;TZID=Europe/Paris:20240701T090000
DTEND;TZID=Europe/Paris:20240831T110000
DTSTAMP:20260420T001117
CREATED:20240805T070857Z
LAST-MODIFIED:20240805T071041Z
UID:12342-1719824400-1725102000@gouville-sur-mer.fr
SUMMARY:Aqua-gym / Réveil musculaire
DESCRIPTION:Activité proposée tous les matins de l’été au centre « Les sables d’or ». \nEn savoir plus
URL:https://gouville-sur-mer.fr/event/aqua-gym-reveil-musculaire/
LOCATION:Centre les sables d’or\, 16 Rue des Roquerets\, Gouville-sur-mer\, 50560
END:VEVENT
BEGIN:VEVENT
DTSTART;VALUE=DATE:20240805
DTEND;VALUE=DATE:20240831
DTSTAMP:20260420T001117
CREATED:20240805T110001Z
LAST-MODIFIED:20240805T155939Z
UID:12352-1722816000-1725062399@gouville-sur-mer.fr
SUMMARY:Exposition "Et si mon ombre vivait sa vie"
DESCRIPTION:En savoir plus
URL:https://gouville-sur-mer.fr/event/exposition-jeux-dombres/
LOCATION:La médiathèque de Gouville\, 6\, route de Coutances\, Gouville-sur-mer\, 50560\, France
ATTACH;FMTTYPE=image/png:https://gouville-sur-mer.fr/wp-content/uploads/2024/07/ombre_expo.png
END:VEVENT
BEGIN:VEVENT
DTSTART;VALUE=DATE:20240817
DTEND;VALUE=DATE:20240901
DTSTAMP:20260420T001117
CREATED:20240805T072907Z
LAST-MODIFIED:20240805T072908Z
UID:12346-1723852800-1725148799@gouville-sur-mer.fr
SUMMARY:Attelages grandes marées
DESCRIPTION:  \nPlus d’informations
URL:https://gouville-sur-mer.fr/event/attelages-grandes-marees/
LOCATION:Cale de Gouville (face SNSM)
ATTACH;FMTTYPE=image/jpeg:https://gouville-sur-mer.fr/wp-content/uploads/2023/09/attelage.jpg
END:VEVENT
BEGIN:VEVENT
DTSTART;VALUE=DATE:20240817
DTEND;VALUE=DATE:20240831
DTSTAMP:20260420T001117
CREATED:20240714T151923Z
LAST-MODIFIED:20240723T162259Z
UID:12019-1723852800-1725062399@gouville-sur-mer.fr
SUMMARY:Photos & objets artisanaux
DESCRIPTION:Exposition à la Filature \nEn savoir plus
URL:https://gouville-sur-mer.fr/event/photos-objets-artisanaux/
LOCATION:La Filature
ATTACH;FMTTYPE=image/jpeg:https://gouville-sur-mer.fr/wp-content/uploads/2024/07/Expo_Merimee-e1723987139702.jpg
END:VEVENT
BEGIN:VEVENT
DTSTART;TZID=Europe/Paris:20240821T190000
DTEND;TZID=Europe/Paris:20240821T220000
DTSTAMP:20260420T001117
CREATED:20240723T161739Z
LAST-MODIFIED:20240804T152549Z
UID:12226-1724266800-1724277600@gouville-sur-mer.fr
SUMMARY:Randonnée à Boisroger
DESCRIPTION:Gratuit et sans réservation. \nRendez-vous à 19h sur le parking de la Mairie de Boisroger.
URL:https://gouville-sur-mer.fr/event/randonnee-a-boisroger-3/
ATTACH;FMTTYPE=image/jpeg:https://gouville-sur-mer.fr/wp-content/uploads/2023/08/pexels_rando.jpeg
END:VEVENT
END:VCALENDAR