BEGIN:VCALENDAR
VERSION:2.0
PRODID:-//Gouville-sur-mer - ECPv6.15.18//NONSGML v1.0//EN
CALSCALE:GREGORIAN
METHOD:PUBLISH
X-ORIGINAL-URL:https://gouville-sur-mer.fr
X-WR-CALDESC:Évènements pour Gouville-sur-mer
REFRESH-INTERVAL;VALUE=DURATION:PT1H
X-Robots-Tag:noindex
X-PUBLISHED-TTL:PT1H
BEGIN:VTIMEZONE
TZID:Europe/Paris
BEGIN:DAYLIGHT
TZOFFSETFROM:+0100
TZOFFSETTO:+0200
TZNAME:CEST
DTSTART:20230326T010000
END:DAYLIGHT
BEGIN:STANDARD
TZOFFSETFROM:+0200
TZOFFSETTO:+0100
TZNAME:CET
DTSTART:20231029T010000
END:STANDARD
BEGIN:DAYLIGHT
TZOFFSETFROM:+0100
TZOFFSETTO:+0200
TZNAME:CEST
DTSTART:20240331T010000
END:DAYLIGHT
BEGIN:STANDARD
TZOFFSETFROM:+0200
TZOFFSETTO:+0100
TZNAME:CET
DTSTART:20241027T010000
END:STANDARD
BEGIN:DAYLIGHT
TZOFFSETFROM:+0100
TZOFFSETTO:+0200
TZNAME:CEST
DTSTART:20250330T010000
END:DAYLIGHT
BEGIN:STANDARD
TZOFFSETFROM:+0200
TZOFFSETTO:+0100
TZNAME:CET
DTSTART:20251026T010000
END:STANDARD
END:VTIMEZONE
BEGIN:VEVENT
DTSTART;TZID=Europe/Paris:20241020T143000
DTEND;TZID=Europe/Paris:20241103T180000
DTSTAMP:20260420T033111
CREATED:20241020T091437Z
LAST-MODIFIED:20241020T091544Z
UID:12771-1729434600-1730656800@gouville-sur-mer.fr
SUMMARY:Sénequ'ART
DESCRIPTION:Exposition à la Filature
URL:https://gouville-sur-mer.fr/event/senequart/
LOCATION:La Filature
ATTACH;FMTTYPE=image/jpeg:https://gouville-sur-mer.fr/wp-content/uploads/2022/06/LSDC__LSD8740-scaled.jpg
END:VEVENT
BEGIN:VEVENT
DTSTART;TZID=Europe/Paris:20241023T100000
DTEND;TZID=Europe/Paris:20241023T180000
DTSTAMP:20260420T033111
CREATED:20241011T093736Z
LAST-MODIFIED:20241011T093937Z
UID:12724-1729677600-1729706400@gouville-sur-mer.fr
SUMMARY:Journée "land art"
DESCRIPTION:En savoir plus
URL:https://gouville-sur-mer.fr/event/journee-land-art/
ATTACH;FMTTYPE=image/jpeg:https://gouville-sur-mer.fr/wp-content/uploads/2024/10/pexels-shiva-smyth-394854-1051449-scaled.jpg
END:VEVENT
BEGIN:VEVENT
DTSTART;TZID=Europe/Paris:20241023T133000
DTEND;TZID=Europe/Paris:20241023T170000
DTSTAMP:20260420T033111
CREATED:20240924T094226Z
LAST-MODIFIED:20240924T094244Z
UID:12657-1729690200-1729702800@gouville-sur-mer.fr
SUMMARY:Bus France Service
DESCRIPTION:En savoir plus
URL:https://gouville-sur-mer.fr/event/bus-france-service-10/
LOCATION:Parking de la Poste
ATTACH;FMTTYPE=image/jpeg:https://gouville-sur-mer.fr/wp-content/uploads/2022/11/305479481_1446445212521996_4692782395232731535_n.jpg
END:VEVENT
END:VCALENDAR