BEGIN:VCALENDAR
VERSION:2.0
PRODID:-//Gouville-sur-mer - ECPv6.15.18//NONSGML v1.0//EN
CALSCALE:GREGORIAN
METHOD:PUBLISH
X-ORIGINAL-URL:https://gouville-sur-mer.fr
X-WR-CALDESC:Évènements pour Gouville-sur-mer
REFRESH-INTERVAL;VALUE=DURATION:PT1H
X-Robots-Tag:noindex
X-PUBLISHED-TTL:PT1H
BEGIN:VTIMEZONE
TZID:Europe/Paris
BEGIN:DAYLIGHT
TZOFFSETFROM:+0100
TZOFFSETTO:+0200
TZNAME:CEST
DTSTART:20230326T010000
END:DAYLIGHT
BEGIN:STANDARD
TZOFFSETFROM:+0200
TZOFFSETTO:+0100
TZNAME:CET
DTSTART:20231029T010000
END:STANDARD
BEGIN:DAYLIGHT
TZOFFSETFROM:+0100
TZOFFSETTO:+0200
TZNAME:CEST
DTSTART:20240331T010000
END:DAYLIGHT
BEGIN:STANDARD
TZOFFSETFROM:+0200
TZOFFSETTO:+0100
TZNAME:CET
DTSTART:20241027T010000
END:STANDARD
BEGIN:DAYLIGHT
TZOFFSETFROM:+0100
TZOFFSETTO:+0200
TZNAME:CEST
DTSTART:20250330T010000
END:DAYLIGHT
BEGIN:STANDARD
TZOFFSETFROM:+0200
TZOFFSETTO:+0100
TZNAME:CET
DTSTART:20251026T010000
END:STANDARD
END:VTIMEZONE
BEGIN:VEVENT
DTSTART;TZID=Europe/Paris:20241020T143000
DTEND;TZID=Europe/Paris:20241103T180000
DTSTAMP:20260420T033104
CREATED:20241020T091437Z
LAST-MODIFIED:20241020T091544Z
UID:12771-1729434600-1730656800@gouville-sur-mer.fr
SUMMARY:Sénequ'ART
DESCRIPTION:Exposition à la Filature
URL:https://gouville-sur-mer.fr/event/senequart/
LOCATION:La Filature
ATTACH;FMTTYPE=image/jpeg:https://gouville-sur-mer.fr/wp-content/uploads/2022/06/LSDC__LSD8740-scaled.jpg
END:VEVENT
BEGIN:VEVENT
DTSTART;TZID=Europe/Paris:20241030T143000
DTEND;TZID=Europe/Paris:20241030T163000
DTSTAMP:20260420T033104
CREATED:20241020T092647Z
LAST-MODIFIED:20241020T093014Z
UID:12778-1730298600-1730305800@gouville-sur-mer.fr
SUMMARY:Tableau végétal
DESCRIPTION:Atelier à la médiathèque \nEn savoir plus
URL:https://gouville-sur-mer.fr/event/tableau-vegetal/
LOCATION:La médiathèque de Gouville\, 6\, route de Coutances\, Gouville-sur-mer\, 50560\, France
END:VEVENT
BEGIN:VEVENT
DTSTART;TZID=Europe/Paris:20241030T203000
DTEND;TZID=Europe/Paris:20241030T223000
DTSTAMP:20260420T033104
CREATED:20241026T091854Z
LAST-MODIFIED:20241026T091904Z
UID:12792-1730320200-1730327400@gouville-sur-mer.fr
SUMMARY:Conseil municipal
DESCRIPTION:ORDRE DU JOUR \n– Désignation d’un secrétaire de séance\n– Approbation du procès-verbal de la réunion du 26 septembre 2024\n– PPAD\n– Schéma directeur\, assainissement et eaux pluviales\n– Participation au financement de la protection sociale complémentaire\n– Bornage rue des Chouques\n– Devis cuisine MAM\n– Virement de crédit – budget commune\n– Devis Signaux Girod\n– Divers
URL:https://gouville-sur-mer.fr/event/conseil-municipal-3/
LOCATION:Mairie de Gouville
ATTACH;FMTTYPE=image/jpeg:https://gouville-sur-mer.fr/wp-content/uploads/2023/09/LSDC_DSC_2148_2-scaled-1.jpg
END:VEVENT
END:VCALENDAR