BEGIN:VCALENDAR
VERSION:2.0
PRODID:-//Gouville-sur-mer - ECPv6.15.18//NONSGML v1.0//EN
CALSCALE:GREGORIAN
METHOD:PUBLISH
X-WR-CALNAME:Gouville-sur-mer
X-ORIGINAL-URL:https://gouville-sur-mer.fr
X-WR-CALDESC:Évènements pour Gouville-sur-mer
REFRESH-INTERVAL;VALUE=DURATION:PT1H
X-Robots-Tag:noindex
X-PUBLISHED-TTL:PT1H
BEGIN:VTIMEZONE
TZID:Europe/Paris
BEGIN:DAYLIGHT
TZOFFSETFROM:+0100
TZOFFSETTO:+0200
TZNAME:CEST
DTSTART:20230326T010000
END:DAYLIGHT
BEGIN:STANDARD
TZOFFSETFROM:+0200
TZOFFSETTO:+0100
TZNAME:CET
DTSTART:20231029T010000
END:STANDARD
BEGIN:DAYLIGHT
TZOFFSETFROM:+0100
TZOFFSETTO:+0200
TZNAME:CEST
DTSTART:20240331T010000
END:DAYLIGHT
BEGIN:STANDARD
TZOFFSETFROM:+0200
TZOFFSETTO:+0100
TZNAME:CET
DTSTART:20241027T010000
END:STANDARD
BEGIN:DAYLIGHT
TZOFFSETFROM:+0100
TZOFFSETTO:+0200
TZNAME:CEST
DTSTART:20250330T010000
END:DAYLIGHT
BEGIN:STANDARD
TZOFFSETFROM:+0200
TZOFFSETTO:+0100
TZNAME:CET
DTSTART:20251026T010000
END:STANDARD
END:VTIMEZONE
BEGIN:VEVENT
DTSTART;TZID=Europe/Paris:20241207T100000
DTEND;TZID=Europe/Paris:20241208T170000
DTSTAMP:20260420T070109
CREATED:20241009T091734Z
LAST-MODIFIED:20241103T063434Z
UID:12690-1733565600-1733677200@gouville-sur-mer.fr
SUMMARY:Marché de Noël
DESCRIPTION:En savoir plus
URL:https://gouville-sur-mer.fr/event/marche-de-noel-3/
LOCATION:Village du phare\, 31 Rue des Hougues\, Gouville-sur-mer\, 50560
ATTACH;FMTTYPE=image/jpeg:https://gouville-sur-mer.fr/wp-content/uploads/2024/10/marche0-2.jpg
END:VEVENT
BEGIN:VEVENT
DTSTART;VALUE=DATE:20241208
DTEND;VALUE=DATE:20241209
DTSTAMP:20260420T070109
CREATED:20240917T134108Z
LAST-MODIFIED:20240917T134108Z
UID:12597-1733616000-1733702399@gouville-sur-mer.fr
SUMMARY:Noël des enfants à Boisroger
DESCRIPTION:
URL:https://gouville-sur-mer.fr/event/noel-des-enfants-a-boisroger/
END:VEVENT
END:VCALENDAR