BEGIN:VCALENDAR
VERSION:2.0
PRODID:-//Gouville-sur-mer - ECPv6.15.18//NONSGML v1.0//EN
CALSCALE:GREGORIAN
METHOD:PUBLISH
X-WR-CALNAME:Gouville-sur-mer
X-ORIGINAL-URL:https://gouville-sur-mer.fr
X-WR-CALDESC:Évènements pour Gouville-sur-mer
REFRESH-INTERVAL;VALUE=DURATION:PT1H
X-Robots-Tag:noindex
X-PUBLISHED-TTL:PT1H
BEGIN:VTIMEZONE
TZID:Europe/Paris
BEGIN:DAYLIGHT
TZOFFSETFROM:+0100
TZOFFSETTO:+0200
TZNAME:CEST
DTSTART:20240331T010000
END:DAYLIGHT
BEGIN:STANDARD
TZOFFSETFROM:+0200
TZOFFSETTO:+0100
TZNAME:CET
DTSTART:20241027T010000
END:STANDARD
BEGIN:DAYLIGHT
TZOFFSETFROM:+0100
TZOFFSETTO:+0200
TZNAME:CEST
DTSTART:20250330T010000
END:DAYLIGHT
BEGIN:STANDARD
TZOFFSETFROM:+0200
TZOFFSETTO:+0100
TZNAME:CET
DTSTART:20251026T010000
END:STANDARD
BEGIN:DAYLIGHT
TZOFFSETFROM:+0100
TZOFFSETTO:+0200
TZNAME:CEST
DTSTART:20260329T010000
END:DAYLIGHT
BEGIN:STANDARD
TZOFFSETFROM:+0200
TZOFFSETTO:+0100
TZNAME:CET
DTSTART:20261025T010000
END:STANDARD
END:VTIMEZONE
BEGIN:VEVENT
DTSTART;VALUE=DATE:20250114
DTEND;VALUE=DATE:20250221
DTSTAMP:20260420T103859
CREATED:20241227T164225Z
LAST-MODIFIED:20241227T164321Z
UID:12990-1736812800-1740095999@gouville-sur-mer.fr
SUMMARY:Exposition à la médiathèque
DESCRIPTION:En savoir plus
URL:https://gouville-sur-mer.fr/event/exposition-a-la-mediatheque/
LOCATION:La médiathèque de Gouville\, 6\, route de Coutances\, Gouville-sur-mer\, 50560\, France
ATTACH;FMTTYPE=image/png:https://gouville-sur-mer.fr/wp-content/uploads/2024/12/contes.png
END:VEVENT
BEGIN:VEVENT
DTSTART;TZID=Europe/Paris:20250206T180000
DTEND;TZID=Europe/Paris:20250206T193000
DTSTAMP:20260420T103859
CREATED:20250127T132326Z
LAST-MODIFIED:20250127T132509Z
UID:13121-1738864800-1738870200@gouville-sur-mer.fr
SUMMARY:Jeux en famille
DESCRIPTION:En savoir plus
URL:https://gouville-sur-mer.fr/event/jeux-en-famille/
LOCATION:La médiathèque de Gouville\, 6\, route de Coutances\, Gouville-sur-mer\, 50560\, France
ATTACH;FMTTYPE=image/jpeg:https://gouville-sur-mer.fr/wp-content/uploads/2025/01/pexels-pixabay-209728-scaled.jpg
ORGANIZER;CN="R%C3%A9seau des biblioth%C3%A8ques de Coutances mer et bocage":MAILTO:mediatheque.gouville@communaute-coutances.fr
END:VEVENT
BEGIN:VEVENT
DTSTART;TZID=Europe/Paris:20250206T183000
DTEND;TZID=Europe/Paris:20250206T193000
DTSTAMP:20260420T103859
CREATED:20250118T094155Z
LAST-MODIFIED:20250118T094155Z
UID:13068-1738866600-1738870200@gouville-sur-mer.fr
SUMMARY:Réunion publique PLUi
DESCRIPTION:
URL:https://gouville-sur-mer.fr/event/reunion-publique-plui/
LOCATION:Les Unelles – Coutances
ATTACH;FMTTYPE=image/png:https://gouville-sur-mer.fr/wp-content/uploads/2024/12/PLUi_reunion.png
END:VEVENT
END:VCALENDAR