BEGIN:VCALENDAR
VERSION:2.0
PRODID:-//Gouville-sur-mer - ECPv6.15.18//NONSGML v1.0//EN
CALSCALE:GREGORIAN
METHOD:PUBLISH
X-WR-CALNAME:Gouville-sur-mer
X-ORIGINAL-URL:https://gouville-sur-mer.fr
X-WR-CALDESC:Évènements pour Gouville-sur-mer
REFRESH-INTERVAL;VALUE=DURATION:PT1H
X-Robots-Tag:noindex
X-PUBLISHED-TTL:PT1H
BEGIN:VTIMEZONE
TZID:Europe/Paris
BEGIN:DAYLIGHT
TZOFFSETFROM:+0100
TZOFFSETTO:+0200
TZNAME:CEST
DTSTART:20240331T010000
END:DAYLIGHT
BEGIN:STANDARD
TZOFFSETFROM:+0200
TZOFFSETTO:+0100
TZNAME:CET
DTSTART:20241027T010000
END:STANDARD
BEGIN:DAYLIGHT
TZOFFSETFROM:+0100
TZOFFSETTO:+0200
TZNAME:CEST
DTSTART:20250330T010000
END:DAYLIGHT
BEGIN:STANDARD
TZOFFSETFROM:+0200
TZOFFSETTO:+0100
TZNAME:CET
DTSTART:20251026T010000
END:STANDARD
BEGIN:DAYLIGHT
TZOFFSETFROM:+0100
TZOFFSETTO:+0200
TZNAME:CEST
DTSTART:20260329T010000
END:DAYLIGHT
BEGIN:STANDARD
TZOFFSETFROM:+0200
TZOFFSETTO:+0100
TZNAME:CET
DTSTART:20261025T010000
END:STANDARD
END:VTIMEZONE
BEGIN:VEVENT
DTSTART;VALUE=DATE:20250114
DTEND;VALUE=DATE:20250221
DTSTAMP:20260420T122321
CREATED:20241227T164225Z
LAST-MODIFIED:20241227T164321Z
UID:12990-1736812800-1740095999@gouville-sur-mer.fr
SUMMARY:Exposition à la médiathèque
DESCRIPTION:En savoir plus
URL:https://gouville-sur-mer.fr/event/exposition-a-la-mediatheque/
LOCATION:La médiathèque de Gouville\, 6\, route de Coutances\, Gouville-sur-mer\, 50560\, France
ATTACH;FMTTYPE=image/png:https://gouville-sur-mer.fr/wp-content/uploads/2024/12/contes.png
END:VEVENT
BEGIN:VEVENT
DTSTART;TZID=Europe/Paris:20250211T140000
DTEND;TZID=Europe/Paris:20250211T170000
DTSTAMP:20260420T122321
CREATED:20250207T151333Z
LAST-MODIFIED:20250207T151714Z
UID:13197-1739282400-1739293200@gouville-sur-mer.fr
SUMMARY:Pose de sapins : avis aux bénévoles
DESCRIPTION:Mise en place de sapins le long du cordon dunaire au sud de la cale.
URL:https://gouville-sur-mer.fr/event/avis-aux-benevoles-defense-douce-2/
LOCATION:Cale de Gouville (face SNSM)
END:VEVENT
BEGIN:VEVENT
DTSTART;TZID=Europe/Paris:20250211T140000
DTEND;TZID=Europe/Paris:20250211T180000
DTSTAMP:20260420T122321
CREATED:20250127T142810Z
LAST-MODIFIED:20250127T142825Z
UID:13153-1739282400-1739296800@gouville-sur-mer.fr
SUMMARY:Randonnée à St-Martin-d’Aubigny
DESCRIPTION:En savoir plus
URL:https://gouville-sur-mer.fr/event/randonnee-a-st-martin-daubigny/
ATTACH;FMTTYPE=image/jpeg:https://gouville-sur-mer.fr/wp-content/uploads/2023/08/pexels_rando.jpeg
END:VEVENT
BEGIN:VEVENT
DTSTART;TZID=Europe/Paris:20250211T150000
DTEND;TZID=Europe/Paris:20250211T170000
DTSTAMP:20260420T122321
CREATED:20250207T153427Z
LAST-MODIFIED:20250207T155404Z
UID:13207-1739286000-1739293200@gouville-sur-mer.fr
SUMMARY:Lecture de contes
DESCRIPTION:familles avec enfants +5 ans \nEn savoir plus
URL:https://gouville-sur-mer.fr/event/lecture-de-contes/
LOCATION:La médiathèque de Gouville\, 6\, route de Coutances\, Gouville-sur-mer\, 50560\, France
ATTACH;FMTTYPE=image/jpeg:https://gouville-sur-mer.fr/wp-content/uploads/2022/07/pexels-rynl-studios-1749691-scaled.jpg
END:VEVENT
END:VCALENDAR