BEGIN:VCALENDAR
VERSION:2.0
PRODID:-//Gouville-sur-mer - ECPv6.15.18//NONSGML v1.0//EN
CALSCALE:GREGORIAN
METHOD:PUBLISH
X-ORIGINAL-URL:https://gouville-sur-mer.fr
X-WR-CALDESC:Évènements pour Gouville-sur-mer
REFRESH-INTERVAL;VALUE=DURATION:PT1H
X-Robots-Tag:noindex
X-PUBLISHED-TTL:PT1H
BEGIN:VTIMEZONE
TZID:Europe/Paris
BEGIN:DAYLIGHT
TZOFFSETFROM:+0100
TZOFFSETTO:+0200
TZNAME:CEST
DTSTART:20240331T010000
END:DAYLIGHT
BEGIN:STANDARD
TZOFFSETFROM:+0200
TZOFFSETTO:+0100
TZNAME:CET
DTSTART:20241027T010000
END:STANDARD
BEGIN:DAYLIGHT
TZOFFSETFROM:+0100
TZOFFSETTO:+0200
TZNAME:CEST
DTSTART:20250330T010000
END:DAYLIGHT
BEGIN:STANDARD
TZOFFSETFROM:+0200
TZOFFSETTO:+0100
TZNAME:CET
DTSTART:20251026T010000
END:STANDARD
BEGIN:DAYLIGHT
TZOFFSETFROM:+0100
TZOFFSETTO:+0200
TZNAME:CEST
DTSTART:20260329T010000
END:DAYLIGHT
BEGIN:STANDARD
TZOFFSETFROM:+0200
TZOFFSETTO:+0100
TZNAME:CET
DTSTART:20261025T010000
END:STANDARD
END:VTIMEZONE
BEGIN:VEVENT
DTSTART;VALUE=DATE:20250407
DTEND;VALUE=DATE:20250601
DTSTAMP:20260420T153717
CREATED:20250323T134130Z
LAST-MODIFIED:20250401T133807Z
UID:13595-1743984000-1748735999@gouville-sur-mer.fr
SUMMARY:Exposition "Dis-moi dix mots pour la planète"
DESCRIPTION:En savoir plus
URL:https://gouville-sur-mer.fr/event/exposition-dis-moi-dix-mots-pour-la-planete/
ATTACH;FMTTYPE=image/jpeg:https://gouville-sur-mer.fr/wp-content/uploads/2025/03/affiche_10mots-scaled.jpg
END:VEVENT
BEGIN:VEVENT
DTSTART;VALUE=DATE:20250422
DTEND;VALUE=DATE:20250423
DTSTAMP:20260420T153717
CREATED:20250319T154633Z
LAST-MODIFIED:20250319T155105Z
UID:13523-1745280000-1745366399@gouville-sur-mer.fr
SUMMARY:Randonnée à Ver
DESCRIPTION:En savoir plus
URL:https://gouville-sur-mer.fr/event/randonnee-a-ver-2/
ATTACH;FMTTYPE=image/jpeg:https://gouville-sur-mer.fr/wp-content/uploads/2023/08/pexels_rando.jpeg
END:VEVENT
BEGIN:VEVENT
DTSTART;TZID=Europe/Paris:20250422T190000
DTEND;TZID=Europe/Paris:20250422T210000
DTSTAMP:20260420T153717
CREATED:20250408T100043Z
LAST-MODIFIED:20250408T100043Z
UID:13762-1745348400-1745355600@gouville-sur-mer.fr
SUMMARY:Réunion publique
DESCRIPTION:
URL:https://gouville-sur-mer.fr/event/reunion-publique-2/
LOCATION:Village Vacances  Blainville-sur-mer
ATTACH;FMTTYPE=image/jpeg:https://gouville-sur-mer.fr/wp-content/uploads/2025/04/entre2havres.jpg
END:VEVENT
END:VCALENDAR