BEGIN:VCALENDAR
VERSION:2.0
PRODID:-//Gouville-sur-mer - ECPv6.15.18//NONSGML v1.0//EN
CALSCALE:GREGORIAN
METHOD:PUBLISH
X-WR-CALNAME:Gouville-sur-mer
X-ORIGINAL-URL:https://gouville-sur-mer.fr
X-WR-CALDESC:Évènements pour Gouville-sur-mer
REFRESH-INTERVAL;VALUE=DURATION:PT1H
X-Robots-Tag:noindex
X-PUBLISHED-TTL:PT1H
BEGIN:VTIMEZONE
TZID:Europe/Paris
BEGIN:DAYLIGHT
TZOFFSETFROM:+0100
TZOFFSETTO:+0200
TZNAME:CEST
DTSTART:20240331T010000
END:DAYLIGHT
BEGIN:STANDARD
TZOFFSETFROM:+0200
TZOFFSETTO:+0100
TZNAME:CET
DTSTART:20241027T010000
END:STANDARD
BEGIN:DAYLIGHT
TZOFFSETFROM:+0100
TZOFFSETTO:+0200
TZNAME:CEST
DTSTART:20250330T010000
END:DAYLIGHT
BEGIN:STANDARD
TZOFFSETFROM:+0200
TZOFFSETTO:+0100
TZNAME:CET
DTSTART:20251026T010000
END:STANDARD
BEGIN:DAYLIGHT
TZOFFSETFROM:+0100
TZOFFSETTO:+0200
TZNAME:CEST
DTSTART:20260329T010000
END:DAYLIGHT
BEGIN:STANDARD
TZOFFSETFROM:+0200
TZOFFSETTO:+0100
TZNAME:CET
DTSTART:20261025T010000
END:STANDARD
END:VTIMEZONE
BEGIN:VEVENT
DTSTART;VALUE=DATE:20250407
DTEND;VALUE=DATE:20250601
DTSTAMP:20260420T153515
CREATED:20250323T134130Z
LAST-MODIFIED:20250401T133807Z
UID:13595-1743984000-1748735999@gouville-sur-mer.fr
SUMMARY:Exposition "Dis-moi dix mots pour la planète"
DESCRIPTION:En savoir plus
URL:https://gouville-sur-mer.fr/event/exposition-dis-moi-dix-mots-pour-la-planete/
ATTACH;FMTTYPE=image/jpeg:https://gouville-sur-mer.fr/wp-content/uploads/2025/03/affiche_10mots-scaled.jpg
END:VEVENT
BEGIN:VEVENT
DTSTART;VALUE=DATE:20250529
DTEND;VALUE=DATE:20250602
DTSTAMP:20260420T153515
CREATED:20250307T174826Z
LAST-MODIFIED:20250307T174826Z
UID:13429-1748476800-1748822399@gouville-sur-mer.fr
SUMMARY:Exposition des 3A à « A propos de sculpture » 
DESCRIPTION:au château de Gratôt
URL:https://gouville-sur-mer.fr/event/exposition-des-3a-a-a-propos-de-sculpture/
END:VEVENT
BEGIN:VEVENT
DTSTART;TZID=Europe/Paris:20250531T100000
DTEND;TZID=Europe/Paris:20250531T120000
DTSTAMP:20260420T153515
CREATED:20250504T163612Z
LAST-MODIFIED:20250504T163928Z
UID:13884-1748685600-1748692800@gouville-sur-mer.fr
SUMMARY:Atelier modelage adulte
DESCRIPTION:à partir de 12 ans \nEn savoir plus
URL:https://gouville-sur-mer.fr/event/atelier-modelage-adulte/
LOCATION:Dereva Studio
ATTACH;FMTTYPE=image/png:https://gouville-sur-mer.fr/wp-content/uploads/2024/06/peinture_ceramique.png
END:VEVENT
BEGIN:VEVENT
DTSTART;TZID=Europe/Paris:20250531T180000
DTEND;TZID=Europe/Paris:20250531T210000
DTSTAMP:20260420T153515
CREATED:20250307T174608Z
LAST-MODIFIED:20250307T174608Z
UID:13427-1748714400-1748725200@gouville-sur-mer.fr
SUMMARY:Apéro-concert à Montsurvent
DESCRIPTION:avec le groupe LONG’AVENUE
URL:https://gouville-sur-mer.fr/event/apero-concert-a-montsurvent-2/
END:VEVENT
END:VCALENDAR