BEGIN:VCALENDAR
VERSION:2.0
PRODID:-//Gouville-sur-mer - ECPv6.15.18//NONSGML v1.0//EN
CALSCALE:GREGORIAN
METHOD:PUBLISH
X-WR-CALNAME:Gouville-sur-mer
X-ORIGINAL-URL:https://gouville-sur-mer.fr
X-WR-CALDESC:Évènements pour Gouville-sur-mer
REFRESH-INTERVAL;VALUE=DURATION:PT1H
X-Robots-Tag:noindex
X-PUBLISHED-TTL:PT1H
BEGIN:VTIMEZONE
TZID:Europe/Paris
BEGIN:DAYLIGHT
TZOFFSETFROM:+0100
TZOFFSETTO:+0200
TZNAME:CEST
DTSTART:20240331T010000
END:DAYLIGHT
BEGIN:STANDARD
TZOFFSETFROM:+0200
TZOFFSETTO:+0100
TZNAME:CET
DTSTART:20241027T010000
END:STANDARD
BEGIN:DAYLIGHT
TZOFFSETFROM:+0100
TZOFFSETTO:+0200
TZNAME:CEST
DTSTART:20250330T010000
END:DAYLIGHT
BEGIN:STANDARD
TZOFFSETFROM:+0200
TZOFFSETTO:+0100
TZNAME:CET
DTSTART:20251026T010000
END:STANDARD
BEGIN:DAYLIGHT
TZOFFSETFROM:+0100
TZOFFSETTO:+0200
TZNAME:CEST
DTSTART:20260329T010000
END:DAYLIGHT
BEGIN:STANDARD
TZOFFSETFROM:+0200
TZOFFSETTO:+0100
TZNAME:CET
DTSTART:20261025T010000
END:STANDARD
END:VTIMEZONE
BEGIN:VEVENT
DTSTART;VALUE=DATE:20250619
DTEND;VALUE=DATE:20250703
DTSTAMP:20260420T170640
CREATED:20250617T140724Z
LAST-MODIFIED:20250617T140724Z
UID:14336-1750291200-1751500799@gouville-sur-mer.fr
SUMMARY:Concours de fleurissement
DESCRIPTION:En savoir plus
URL:https://gouville-sur-mer.fr/event/concours-de-fleurissement/
ATTACH;FMTTYPE=image/jpeg:https://gouville-sur-mer.fr/wp-content/uploads/2022/04/annie-spratt-VviNSpJuGj0-unsplash-scaled-e1750168872927.jpg
END:VEVENT
BEGIN:VEVENT
DTSTART;VALUE=DATE:20250626
DTEND;VALUE=DATE:20250630
DTSTAMP:20260420T170640
CREATED:20250613T085259Z
LAST-MODIFIED:20250613T085259Z
UID:14168-1750896000-1751241599@gouville-sur-mer.fr
SUMMARY:Piano piano\, une marche à contre-courant
DESCRIPTION:En savoir plus
URL:https://gouville-sur-mer.fr/event/piano-piano-une-marche-a-contre-courant/
ATTACH;FMTTYPE=image/jpeg:https://gouville-sur-mer.fr/wp-content/uploads/2025/03/rando_pexels.jpg
END:VEVENT
BEGIN:VEVENT
DTSTART;TZID=Europe/Paris:20250628T190000
DTEND;TZID=Europe/Paris:20250628T230000
DTSTAMP:20260420T170640
CREATED:20250316T152208Z
LAST-MODIFIED:20250316T152208Z
UID:13504-1751137200-1751151600@gouville-sur-mer.fr
SUMMARY:Apéro-concert à Boisroger
DESCRIPTION:avec le groupe Catharsis
URL:https://gouville-sur-mer.fr/event/apero-concert-a-boisroger-2/
END:VEVENT
END:VCALENDAR