BEGIN:VCALENDAR
VERSION:2.0
PRODID:-//Gouville-sur-mer - ECPv6.15.18//NONSGML v1.0//EN
CALSCALE:GREGORIAN
METHOD:PUBLISH
X-ORIGINAL-URL:https://gouville-sur-mer.fr
X-WR-CALDESC:Évènements pour Gouville-sur-mer
REFRESH-INTERVAL;VALUE=DURATION:PT1H
X-Robots-Tag:noindex
X-PUBLISHED-TTL:PT1H
BEGIN:VTIMEZONE
TZID:Europe/Paris
BEGIN:DAYLIGHT
TZOFFSETFROM:+0100
TZOFFSETTO:+0200
TZNAME:CEST
DTSTART:20240331T010000
END:DAYLIGHT
BEGIN:STANDARD
TZOFFSETFROM:+0200
TZOFFSETTO:+0100
TZNAME:CET
DTSTART:20241027T010000
END:STANDARD
BEGIN:DAYLIGHT
TZOFFSETFROM:+0100
TZOFFSETTO:+0200
TZNAME:CEST
DTSTART:20250330T010000
END:DAYLIGHT
BEGIN:STANDARD
TZOFFSETFROM:+0200
TZOFFSETTO:+0100
TZNAME:CET
DTSTART:20251026T010000
END:STANDARD
BEGIN:DAYLIGHT
TZOFFSETFROM:+0100
TZOFFSETTO:+0200
TZNAME:CEST
DTSTART:20260329T010000
END:DAYLIGHT
BEGIN:STANDARD
TZOFFSETFROM:+0200
TZOFFSETTO:+0100
TZNAME:CET
DTSTART:20261025T010000
END:STANDARD
END:VTIMEZONE
BEGIN:VEVENT
DTSTART;VALUE=DATE:20250705
DTEND;VALUE=DATE:20250825
DTSTAMP:20260420T185152
CREATED:20250615T145008Z
LAST-MODIFIED:20250825T100318Z
UID:14313-1751673600-1756079999@gouville-sur-mer.fr
SUMMARY:Expositions à la FIlature
DESCRIPTION:Programme été 2025
URL:https://gouville-sur-mer.fr/event/expositions-artistiques/
LOCATION:La Filature
END:VEVENT
BEGIN:VEVENT
DTSTART;VALUE=DATE:20250717
DTEND;VALUE=DATE:20250718
DTSTAMP:20260420T185152
CREATED:20250615T112729Z
LAST-MODIFIED:20250615T112752Z
UID:14262-1752710400-1752796799@gouville-sur-mer.fr
SUMMARY:Loto de l'Animation Touristique ATGM
DESCRIPTION:Le loto permet en partie le financement des animations organisées par l’ATGM. \nVenez nombreux nous soutenir !
URL:https://gouville-sur-mer.fr/event/loto-de-lanimation-touristique-atgm/
LOCATION:Salle des fêtes de Gouville-sur-mer\, 19 route de Coutances\, Gouville-sur-mer\, 50560\, France
ATTACH;FMTTYPE=image/jpeg:https://gouville-sur-mer.fr/wp-content/uploads/2023/06/russkoe-loto-g0e5fbba96_1280.jpg
END:VEVENT
BEGIN:VEVENT
DTSTART;TZID=Europe/Paris:20250717T140000
DTEND;TZID=Europe/Paris:20250717T170000
DTSTAMP:20260420T185152
CREATED:20250515T112314Z
LAST-MODIFIED:20250529T090113Z
UID:13943-1752760800-1752771600@gouville-sur-mer.fr
SUMMARY:La mer monte\, tous à vélo !
DESCRIPTION:En savoir plus
URL:https://gouville-sur-mer.fr/event/la-mer-monte-tous-a-velo-6/
ATTACH;FMTTYPE=image/png:https://gouville-sur-mer.fr/wp-content/uploads/2025/05/affiche_cyclo_decouverte.png
END:VEVENT
BEGIN:VEVENT
DTSTART;TZID=Europe/Paris:20250717T140000
DTEND;TZID=Europe/Paris:20250717T170000
DTSTAMP:20260420T185152
CREATED:20250708T141303Z
LAST-MODIFIED:20250708T141303Z
UID:14534-1752760800-1752771600@gouville-sur-mer.fr
SUMMARY:Fresque de la biodiversité
DESCRIPTION:En savoir plus
URL:https://gouville-sur-mer.fr/event/fresque-de-la-biodiversite/
LOCATION:La médiathèque de Gouville\, 6\, route de Coutances\, Gouville-sur-mer\, 50560\, France
ATTACH;FMTTYPE=image/jpeg:https://gouville-sur-mer.fr/wp-content/uploads/2025/07/biodiversité.jpg
ORGANIZER;CN="R%C3%A9seau des biblioth%C3%A8ques de Coutances mer et bocage":MAILTO:mediatheque.gouville@communaute-coutances.fr
END:VEVENT
END:VCALENDAR