BEGIN:VCALENDAR
VERSION:2.0
PRODID:-//Gouville-sur-mer - ECPv6.15.18//NONSGML v1.0//EN
CALSCALE:GREGORIAN
METHOD:PUBLISH
X-ORIGINAL-URL:https://gouville-sur-mer.fr
X-WR-CALDESC:Évènements pour Gouville-sur-mer
REFRESH-INTERVAL;VALUE=DURATION:PT1H
X-Robots-Tag:noindex
X-PUBLISHED-TTL:PT1H
BEGIN:VTIMEZONE
TZID:Europe/Paris
BEGIN:DAYLIGHT
TZOFFSETFROM:+0100
TZOFFSETTO:+0200
TZNAME:CEST
DTSTART:20240331T010000
END:DAYLIGHT
BEGIN:STANDARD
TZOFFSETFROM:+0200
TZOFFSETTO:+0100
TZNAME:CET
DTSTART:20241027T010000
END:STANDARD
BEGIN:DAYLIGHT
TZOFFSETFROM:+0100
TZOFFSETTO:+0200
TZNAME:CEST
DTSTART:20250330T010000
END:DAYLIGHT
BEGIN:STANDARD
TZOFFSETFROM:+0200
TZOFFSETTO:+0100
TZNAME:CET
DTSTART:20251026T010000
END:STANDARD
BEGIN:DAYLIGHT
TZOFFSETFROM:+0100
TZOFFSETTO:+0200
TZNAME:CEST
DTSTART:20260329T010000
END:DAYLIGHT
BEGIN:STANDARD
TZOFFSETFROM:+0200
TZOFFSETTO:+0100
TZNAME:CET
DTSTART:20261025T010000
END:STANDARD
END:VTIMEZONE
BEGIN:VEVENT
DTSTART;VALUE=DATE:20250705
DTEND;VALUE=DATE:20250825
DTSTAMP:20260420T185336
CREATED:20250615T145008Z
LAST-MODIFIED:20250825T100318Z
UID:14313-1751673600-1756079999@gouville-sur-mer.fr
SUMMARY:Expositions à la FIlature
DESCRIPTION:Programme été 2025
URL:https://gouville-sur-mer.fr/event/expositions-artistiques/
LOCATION:La Filature
END:VEVENT
BEGIN:VEVENT
DTSTART;TZID=Europe/Paris:20250725T180000
DTEND;TZID=Europe/Paris:20250725T193000
DTSTAMP:20260420T185336
CREATED:20250719T091718Z
LAST-MODIFIED:20250723T153654Z
UID:14609-1753466400-1753471800@gouville-sur-mer.fr
SUMMARY:Concert de Harpe
DESCRIPTION:A l’église de Linverville. \nParticipation libre \nEn savoir plus
URL:https://gouville-sur-mer.fr/event/concert-de-harpe/
LOCATION:Linverville
ATTACH;FMTTYPE=image/png:https://gouville-sur-mer.fr/wp-content/uploads/2025/07/harpiste_A_Legras.png
END:VEVENT
BEGIN:VEVENT
DTSTART;TZID=Europe/Paris:20250725T193000
DTEND;TZID=Europe/Paris:20250725T233000
DTSTAMP:20260420T185336
CREATED:20250722T195444Z
LAST-MODIFIED:20250722T195444Z
UID:14646-1753471800-1753486200@gouville-sur-mer.fr
SUMMARY:Bal guinguette à Montsurvent
DESCRIPTION:avec ASVE 44
URL:https://gouville-sur-mer.fr/event/bal-guinguette-a-montsurvent/
ATTACH;FMTTYPE=image/jpeg:https://gouville-sur-mer.fr/wp-content/uploads/2025/07/dance-1057707_1280.jpg
END:VEVENT
END:VCALENDAR