BEGIN:VCALENDAR
VERSION:2.0
PRODID:-//Gouville-sur-mer - ECPv6.15.18//NONSGML v1.0//EN
CALSCALE:GREGORIAN
METHOD:PUBLISH
X-WR-CALNAME:Gouville-sur-mer
X-ORIGINAL-URL:https://gouville-sur-mer.fr
X-WR-CALDESC:Évènements pour Gouville-sur-mer
REFRESH-INTERVAL;VALUE=DURATION:PT1H
X-Robots-Tag:noindex
X-PUBLISHED-TTL:PT1H
BEGIN:VTIMEZONE
TZID:Europe/Paris
BEGIN:DAYLIGHT
TZOFFSETFROM:+0100
TZOFFSETTO:+0200
TZNAME:CEST
DTSTART:20240331T010000
END:DAYLIGHT
BEGIN:STANDARD
TZOFFSETFROM:+0200
TZOFFSETTO:+0100
TZNAME:CET
DTSTART:20241027T010000
END:STANDARD
BEGIN:DAYLIGHT
TZOFFSETFROM:+0100
TZOFFSETTO:+0200
TZNAME:CEST
DTSTART:20250330T010000
END:DAYLIGHT
BEGIN:STANDARD
TZOFFSETFROM:+0200
TZOFFSETTO:+0100
TZNAME:CET
DTSTART:20251026T010000
END:STANDARD
BEGIN:DAYLIGHT
TZOFFSETFROM:+0100
TZOFFSETTO:+0200
TZNAME:CEST
DTSTART:20260329T010000
END:DAYLIGHT
BEGIN:STANDARD
TZOFFSETFROM:+0200
TZOFFSETTO:+0100
TZNAME:CET
DTSTART:20261025T010000
END:STANDARD
END:VTIMEZONE
BEGIN:VEVENT
DTSTART;VALUE=DATE:20250705
DTEND;VALUE=DATE:20250825
DTSTAMP:20260420T202125
CREATED:20250615T145008Z
LAST-MODIFIED:20250825T100318Z
UID:14313-1751673600-1756079999@gouville-sur-mer.fr
SUMMARY:Expositions à la FIlature
DESCRIPTION:Programme été 2025
URL:https://gouville-sur-mer.fr/event/expositions-artistiques/
LOCATION:La Filature
END:VEVENT
BEGIN:VEVENT
DTSTART;TZID=Europe/Paris:20250813T090000
DTEND;TZID=Europe/Paris:20250813T120000
DTSTAMP:20260420T202125
CREATED:20250728T081911Z
LAST-MODIFIED:20250728T081911Z
UID:14692-1755075600-1755086400@gouville-sur-mer.fr
SUMMARY:Transformations littoral
DESCRIPTION:Réunion d’information
URL:https://gouville-sur-mer.fr/event/transformations-littoral/
LOCATION:Camping le Sénéquet\, 76 rue Beau Rivage\, Gouville-sur-mer\, 50560
ATTACH;FMTTYPE=image/png:https://gouville-sur-mer.fr/wp-content/uploads/2025/07/littoral-e1762424818354.png
END:VEVENT
BEGIN:VEVENT
DTSTART;TZID=Europe/Paris:20250813T140000
DTEND;TZID=Europe/Paris:20250813T170000
DTSTAMP:20260420T202125
CREATED:20250809T082526Z
LAST-MODIFIED:20250809T082743Z
UID:14771-1755093600-1755104400@gouville-sur-mer.fr
SUMMARY:Concours de pétanque
DESCRIPTION:1er Concours Amical du mois d’août\nVenez nombreux\, en famille avec les enfants\, entre Amis\, le concours est ouvert à tous.\nBuvette sur place.
URL:https://gouville-sur-mer.fr/event/concours-de-petanque-10/
ATTACH;FMTTYPE=image/jpeg:https://gouville-sur-mer.fr/wp-content/uploads/2022/06/petanque-gc681c7669_1920.jpg
ORGANIZER;CN="La boule Gouvillaise":MAILTO:Laboulegouvillaise50@gmail.com
END:VEVENT
BEGIN:VEVENT
DTSTART;TZID=Europe/Paris:20250813T190000
DTEND;TZID=Europe/Paris:20250813T220000
DTSTAMP:20260420T202125
CREATED:20250615T131521Z
LAST-MODIFIED:20250615T132338Z
UID:14300-1755111600-1755122400@gouville-sur-mer.fr
SUMMARY:Randonnée "côté terre"
DESCRIPTION:En savoir plus
URL:https://gouville-sur-mer.fr/event/randonnee-cote-terre-3/
ATTACH;FMTTYPE=image/jpeg:https://gouville-sur-mer.fr/wp-content/uploads/2021/05/Randonnees-02.jpg
END:VEVENT
END:VCALENDAR