BEGIN:VCALENDAR
VERSION:2.0
PRODID:-//Gouville-sur-mer - ECPv6.15.18//NONSGML v1.0//EN
CALSCALE:GREGORIAN
METHOD:PUBLISH
X-WR-CALNAME:Gouville-sur-mer
X-ORIGINAL-URL:https://gouville-sur-mer.fr
X-WR-CALDESC:Évènements pour Gouville-sur-mer
REFRESH-INTERVAL;VALUE=DURATION:PT1H
X-Robots-Tag:noindex
X-PUBLISHED-TTL:PT1H
BEGIN:VTIMEZONE
TZID:Europe/Paris
BEGIN:DAYLIGHT
TZOFFSETFROM:+0100
TZOFFSETTO:+0200
TZNAME:CEST
DTSTART:20240331T010000
END:DAYLIGHT
BEGIN:STANDARD
TZOFFSETFROM:+0200
TZOFFSETTO:+0100
TZNAME:CET
DTSTART:20241027T010000
END:STANDARD
BEGIN:DAYLIGHT
TZOFFSETFROM:+0100
TZOFFSETTO:+0200
TZNAME:CEST
DTSTART:20250330T010000
END:DAYLIGHT
BEGIN:STANDARD
TZOFFSETFROM:+0200
TZOFFSETTO:+0100
TZNAME:CET
DTSTART:20251026T010000
END:STANDARD
BEGIN:DAYLIGHT
TZOFFSETFROM:+0100
TZOFFSETTO:+0200
TZNAME:CEST
DTSTART:20260329T010000
END:DAYLIGHT
BEGIN:STANDARD
TZOFFSETFROM:+0200
TZOFFSETTO:+0100
TZNAME:CET
DTSTART:20261025T010000
END:STANDARD
END:VTIMEZONE
BEGIN:VEVENT
DTSTART;VALUE=DATE:20250705
DTEND;VALUE=DATE:20250825
DTSTAMP:20260420T202207
CREATED:20250615T145008Z
LAST-MODIFIED:20250825T100318Z
UID:14313-1751673600-1756079999@gouville-sur-mer.fr
SUMMARY:Expositions à la FIlature
DESCRIPTION:Programme été 2025
URL:https://gouville-sur-mer.fr/event/expositions-artistiques/
LOCATION:La Filature
END:VEVENT
BEGIN:VEVENT
DTSTART;TZID=Europe/Paris:20250821T100000
DTEND;TZID=Europe/Paris:20250821T120000
DTSTAMP:20260420T202207
CREATED:20250328T134922Z
LAST-MODIFIED:20250328T134922Z
UID:13675-1755770400-1755777600@gouville-sur-mer.fr
SUMMARY:Sortie découverte : Les dunes et leurs richesses
DESCRIPTION:En savoir plus
URL:https://gouville-sur-mer.fr/event/sortie-decouverte-les-dunes-et-leurs-richesses/
ATTACH;FMTTYPE=image/jpeg:https://gouville-sur-mer.fr/wp-content/uploads/2025/03/dunes-1936086_1280.jpg
END:VEVENT
BEGIN:VEVENT
DTSTART;TZID=Europe/Paris:20250821T180000
DTEND;TZID=Europe/Paris:20250821T203000
DTSTAMP:20260420T202207
CREATED:20250615T132737Z
LAST-MODIFIED:20250615T132804Z
UID:14307-1755799200-1755808200@gouville-sur-mer.fr
SUMMARY:Concert au Théâtre de verdure
DESCRIPTION:En savoir plus
URL:https://gouville-sur-mer.fr/event/concert-au-theatre-de-verdure/
LOCATION:Théatre de verdure
ATTACH;FMTTYPE=image/png:https://gouville-sur-mer.fr/wp-content/uploads/2022/07/theatredeverdure-e1659012948101.png
END:VEVENT
END:VCALENDAR