BEGIN:VCALENDAR
VERSION:2.0
PRODID:-//Gouville-sur-mer - ECPv6.15.18//NONSGML v1.0//EN
CALSCALE:GREGORIAN
METHOD:PUBLISH
X-WR-CALNAME:Gouville-sur-mer
X-ORIGINAL-URL:https://gouville-sur-mer.fr
X-WR-CALDESC:Évènements pour Gouville-sur-mer
REFRESH-INTERVAL;VALUE=DURATION:PT1H
X-Robots-Tag:noindex
X-PUBLISHED-TTL:PT1H
BEGIN:VTIMEZONE
TZID:Europe/Paris
BEGIN:DAYLIGHT
TZOFFSETFROM:+0100
TZOFFSETTO:+0200
TZNAME:CEST
DTSTART:20230326T010000
END:DAYLIGHT
BEGIN:STANDARD
TZOFFSETFROM:+0200
TZOFFSETTO:+0100
TZNAME:CET
DTSTART:20231029T010000
END:STANDARD
BEGIN:DAYLIGHT
TZOFFSETFROM:+0100
TZOFFSETTO:+0200
TZNAME:CEST
DTSTART:20240331T010000
END:DAYLIGHT
BEGIN:STANDARD
TZOFFSETFROM:+0200
TZOFFSETTO:+0100
TZNAME:CET
DTSTART:20241027T010000
END:STANDARD
BEGIN:DAYLIGHT
TZOFFSETFROM:+0100
TZOFFSETTO:+0200
TZNAME:CEST
DTSTART:20250330T010000
END:DAYLIGHT
BEGIN:STANDARD
TZOFFSETFROM:+0200
TZOFFSETTO:+0100
TZNAME:CET
DTSTART:20251026T010000
END:STANDARD
END:VTIMEZONE
BEGIN:VEVENT
DTSTART;VALUE=DATE:20240309
DTEND;VALUE=DATE:20240418
DTSTAMP:20260419T151248
CREATED:20240321T153416Z
LAST-MODIFIED:20240709T182532Z
UID:10651-1709942400-1713398399@gouville-sur-mer.fr
SUMMARY:Exposition "Animaux"
DESCRIPTION:Dessins d’Elizabeth Marie. \nExposition à la bibliothèque
URL:https://gouville-sur-mer.fr/event/exposition-animaux/
ATTACH;FMTTYPE=image/jpeg:https://gouville-sur-mer.fr/wp-content/uploads/2023/10/arbres.jpeg
END:VEVENT
BEGIN:VEVENT
DTSTART;TZID=Europe/Paris:20240402T140000
DTEND;TZID=Europe/Paris:20240402T170000
DTSTAMP:20260419T151248
CREATED:20240309T120007Z
LAST-MODIFIED:20240709T182533Z
UID:10570-1712066400-1712077200@gouville-sur-mer.fr
SUMMARY:Randonnée à Anctoville le Bosq
DESCRIPTION:Rendez-vous sur le parking de l’église pour une randonnée de 8 à 10 km. \nDépart 14h. \nContacts : Jean-Michel 06 77 05 49 86\nChristian 06 87 55 20 02
URL:https://gouville-sur-mer.fr/event/randonnee-a-anctoville-le-bosq/
CATEGORIES:Randonnée
ATTACH;FMTTYPE=image/jpeg:https://gouville-sur-mer.fr/wp-content/uploads/2023/08/pexels_rando.jpeg
END:VEVENT
BEGIN:VEVENT
DTSTART;TZID=Europe/Paris:20240406T100000
DTEND;TZID=Europe/Paris:20240406T120000
DTSTAMP:20260419T151248
CREATED:20240403T101239Z
LAST-MODIFIED:20240709T182532Z
UID:10708-1712397600-1712404800@gouville-sur-mer.fr
SUMMARY:Atelier d'initiation au modelage : création d'un bol
DESCRIPTION:En savoir plus
URL:https://gouville-sur-mer.fr/event/atelier-dinitiation-au-moulage/
END:VEVENT
BEGIN:VEVENT
DTSTART;TZID=Europe/Paris:20240406T100000
DTEND;TZID=Europe/Paris:20240506T120000
DTSTAMP:20260419T151248
CREATED:20240403T145828Z
LAST-MODIFIED:20240709T182532Z
UID:10726-1712397600-1714996800@gouville-sur-mer.fr
SUMMARY:Stage équestre
DESCRIPTION:En savoir plus
URL:https://gouville-sur-mer.fr/event/stage-equestre/
CATEGORIES:Sport
ATTACH;FMTTYPE=image/jpeg:https://gouville-sur-mer.fr/wp-content/uploads/2024/04/pexels-filip-kuran-6199402-scaled-e1712162202979.jpg
END:VEVENT
BEGIN:VEVENT
DTSTART;TZID=Europe/Paris:20240406T143000
DTEND;TZID=Europe/Paris:20240406T163000
DTSTAMP:20260419T151248
CREATED:20240403T113919Z
LAST-MODIFIED:20240709T182532Z
UID:10720-1712413800-1712421000@gouville-sur-mer.fr
SUMMARY:Peinture sur céramique
DESCRIPTION:En savoir plus
URL:https://gouville-sur-mer.fr/event/peinture-sur-ceramique/
END:VEVENT
BEGIN:VEVENT
DTSTART;TZID=Europe/Paris:20240408T100000
DTEND;TZID=Europe/Paris:20240408T120000
DTSTAMP:20260419T151248
CREATED:20240324T141514Z
LAST-MODIFIED:20240709T182532Z
UID:10674-1712570400-1712577600@gouville-sur-mer.fr
SUMMARY:Bébés lecteurs
DESCRIPTION:
URL:https://gouville-sur-mer.fr/event/bebes-lecteurs-9/
LOCATION:La médiathèque de Gouville\, 6\, route de Coutances\, Gouville-sur-mer\, 50560\, France
ATTACH;FMTTYPE=image/jpeg:https://gouville-sur-mer.fr/wp-content/uploads/2023/05/picsea-EQlTyDZRx7U-unsplash-scaled.jpg
END:VEVENT
BEGIN:VEVENT
DTSTART;TZID=Europe/Paris:20240409T140000
DTEND;TZID=Europe/Paris:20240409T170000
DTSTAMP:20260419T151248
CREATED:20240321T150904Z
LAST-MODIFIED:20240709T182532Z
UID:10641-1712671200-1712682000@gouville-sur-mer.fr
SUMMARY:Randonnée à Muneville le Bingard
DESCRIPTION:Rendez-vous à Muneville le Bingard au parking croisement D53 et D431 pour une randonnée de 8 à 10 km. \nDépart 14h. \nContacts : Sylvie 06 77 15 52 17\nMarie-Line 06 36 60 19 31
URL:https://gouville-sur-mer.fr/event/randonnee-a-muneville-le-bingard/
CATEGORIES:Randonnée
ATTACH;FMTTYPE=image/jpeg:https://gouville-sur-mer.fr/wp-content/uploads/2023/08/pexels_rando.jpeg
END:VEVENT
BEGIN:VEVENT
DTSTART;TZID=Europe/Paris:20240410T140000
DTEND;TZID=Europe/Paris:20240410T170000
DTSTAMP:20260419T151248
CREATED:20240403T150032Z
LAST-MODIFIED:20240709T182532Z
UID:10728-1712757600-1712768400@gouville-sur-mer.fr
SUMMARY:Atelier "P'tits papiers" collage de drôles de bêtes
DESCRIPTION:à la médiathèque \nEn savoir plus
URL:https://gouville-sur-mer.fr/event/atelier-ptits-papiers-collage-de-droles-de-betes/
LOCATION:La médiathèque de Gouville\, 6\, route de Coutances\, Gouville-sur-mer\, 50560\, France
ATTACH;FMTTYPE=image/jpeg:https://gouville-sur-mer.fr/wp-content/uploads/2024/04/pexels-vanessa-loring-7869442-scaled.jpg
ORGANIZER;CN="R%C3%A9seau des biblioth%C3%A8ques de Coutances mer et bocage":MAILTO:mediatheque.gouville@communaute-coutances.fr
END:VEVENT
BEGIN:VEVENT
DTSTART;TZID=Europe/Paris:20240411T180000
DTEND;TZID=Europe/Paris:20240411T200000
DTSTAMP:20260419T151248
CREATED:20240404T091121Z
LAST-MODIFIED:20240709T182531Z
UID:10803-1712858400-1712865600@gouville-sur-mer.fr
SUMMARY:Réunion du Conseil Municipal
DESCRIPTION:En savoir plus
URL:https://gouville-sur-mer.fr/event/reunion-du-conseil-municipal-21/
LOCATION:Mairie de Gouville
ATTACH;FMTTYPE=image/jpeg:https://gouville-sur-mer.fr/wp-content/uploads/2023/09/LSDC_DSC_2148_2-scaled-1.jpg
END:VEVENT
BEGIN:VEVENT
DTSTART;TZID=Europe/Paris:20240413T100000
DTEND;TZID=Europe/Paris:20240413T120000
DTSTAMP:20260419T151248
CREATED:20240403T150256Z
LAST-MODIFIED:20240709T182532Z
UID:10730-1713002400-1713009600@gouville-sur-mer.fr
SUMMARY:Atelier d'initiation au modelage : création d'un vase
DESCRIPTION:En savoir plus
URL:https://gouville-sur-mer.fr/event/atelier-dinitiation-au-modelage-creation-dun-vase/
END:VEVENT
BEGIN:VEVENT
DTSTART;TZID=Europe/Paris:20240413T103000
DTEND;TZID=Europe/Paris:20240413T120000
DTSTAMP:20260419T151248
CREATED:20240403T150620Z
LAST-MODIFIED:20240709T182532Z
UID:10733-1713004200-1713009600@gouville-sur-mer.fr
SUMMARY:Café-culture : livres\, CD\, DVD…
DESCRIPTION:En savoir plus
URL:https://gouville-sur-mer.fr/event/cafe-culture-livres-cd-dvd/
LOCATION:La médiathèque de Gouville\, 6\, route de Coutances\, Gouville-sur-mer\, 50560\, France
ATTACH;FMTTYPE=image/jpeg:https://gouville-sur-mer.fr/wp-content/uploads/2024/04/pexels-pixabay-433124-scaled.jpg
END:VEVENT
BEGIN:VEVENT
DTSTART;TZID=Europe/Paris:20240413T143000
DTEND;TZID=Europe/Paris:20240413T170000
DTSTAMP:20260419T151248
CREATED:20240403T150830Z
LAST-MODIFIED:20240709T182532Z
UID:10735-1713018600-1713027600@gouville-sur-mer.fr
SUMMARY:Cours modelage enfants
DESCRIPTION:En savoir plus
URL:https://gouville-sur-mer.fr/event/cours-modelage-enfants/
END:VEVENT
BEGIN:VEVENT
DTSTART;TZID=Europe/Paris:20240415T133000
DTEND;TZID=Europe/Paris:20240415T170000
DTSTAMP:20260419T151248
CREATED:20240404T095902Z
LAST-MODIFIED:20240709T182531Z
UID:10812-1713187800-1713200400@gouville-sur-mer.fr
SUMMARY:Bus France-Service
DESCRIPTION:Sur le parking de la Poste.
URL:https://gouville-sur-mer.fr/event/bus-france-service-5/
ATTACH;FMTTYPE=image/jpeg:https://gouville-sur-mer.fr/wp-content/uploads/2022/11/305479481_1446445212521996_4692782395232731535_n.jpg
END:VEVENT
BEGIN:VEVENT
DTSTART;TZID=Europe/Paris:20240416T140000
DTEND;TZID=Europe/Paris:20240416T170000
DTSTAMP:20260419T151248
CREATED:20240321T151117Z
LAST-MODIFIED:20240709T182532Z
UID:10643-1713276000-1713286800@gouville-sur-mer.fr
SUMMARY:Randonnée à Auderville
DESCRIPTION:Rendez-vous à Auderville pour 2 randonnées de 8 km. \nLieu de rendez-vous à définir. \nDépart 9h30 et 14h. \nContacts : Albert 06 33 63 54 39\nGérard 07 78 76 23 54\nMichel G. 02 33 41 21 74
URL:https://gouville-sur-mer.fr/event/randonnee-a-auderville/
CATEGORIES:Randonnée
ATTACH;FMTTYPE=image/jpeg:https://gouville-sur-mer.fr/wp-content/uploads/2023/08/pexels_rando.jpeg
END:VEVENT
BEGIN:VEVENT
DTSTART;VALUE=DATE:20240419
DTEND;VALUE=DATE:20240512
DTSTAMP:20260419T151248
CREATED:20240304T103656Z
LAST-MODIFIED:20240709T182533Z
UID:10806-1713484800-1715471999@gouville-sur-mer.fr
SUMMARY:Exposition « Dis-moi dix mots sur le podium »
DESCRIPTION:A la médiathèque
URL:https://gouville-sur-mer.fr/event/exposition-dis-moi-dix-mots-sur-le-podium/
LOCATION:La médiathèque de Gouville\, 6\, route de Coutances\, Gouville-sur-mer\, 50560\, France
ATTACH;FMTTYPE=image/jpeg:https://gouville-sur-mer.fr/wp-content/uploads/2023/10/arbres.jpeg
END:VEVENT
BEGIN:VEVENT
DTSTART;TZID=Europe/Paris:20240420T100000
DTEND;TZID=Europe/Paris:20240420T120000
DTSTAMP:20260419T151248
CREATED:20240403T150926Z
LAST-MODIFIED:20240709T182532Z
UID:10737-1713607200-1713614400@gouville-sur-mer.fr
SUMMARY:Atelier peinture sur céramique
DESCRIPTION:En savoir plus
URL:https://gouville-sur-mer.fr/event/atelier-peinture-sur-ceramique/
END:VEVENT
BEGIN:VEVENT
DTSTART;TZID=Europe/Paris:20240423T140000
DTEND;TZID=Europe/Paris:20240423T170000
DTSTAMP:20260419T151248
CREATED:20240321T151322Z
LAST-MODIFIED:20240709T182532Z
UID:10645-1713880800-1713891600@gouville-sur-mer.fr
SUMMARY:Randonnée à La Feuillie
DESCRIPTION:Rendez-vous à l’église de la Feuillie pour une randonnée de 10 à 12 km. \nDépart 14h. \nContacts : Roland 06 71 80 29 02\nThérèse 06 88 01 97 64
URL:https://gouville-sur-mer.fr/event/randonnee-a-la-feuillie/
CATEGORIES:Randonnée
ATTACH;FMTTYPE=image/jpeg:https://gouville-sur-mer.fr/wp-content/uploads/2023/08/pexels_rando.jpeg
END:VEVENT
BEGIN:VEVENT
DTSTART;TZID=Europe/Paris:20240424T140000
DTEND;TZID=Europe/Paris:20240424T163000
DTSTAMP:20260419T151248
CREATED:20240403T151149Z
LAST-MODIFIED:20240709T182532Z
UID:10739-1713967200-1713976200@gouville-sur-mer.fr
SUMMARY:Atelier-bricolage "Tête à pousser"
DESCRIPTION:En savoir plus
URL:https://gouville-sur-mer.fr/event/atelier-bricolage-tete-a-pousser/
LOCATION:La médiathèque de Gouville\, 6\, route de Coutances\, Gouville-sur-mer\, 50560\, France
ATTACH;FMTTYPE=image/png:https://gouville-sur-mer.fr/wp-content/uploads/2024/04/TETEa-pousser.png
ORGANIZER;CN="R%C3%A9seau des biblioth%C3%A8ques de Coutances mer et bocage":MAILTO:mediatheque.gouville@communaute-coutances.fr
END:VEVENT
BEGIN:VEVENT
DTSTART;TZID=Europe/Paris:20240425T143000
DTEND;TZID=Europe/Paris:20240425T163000
DTSTAMP:20260419T151248
CREATED:20240403T151402Z
LAST-MODIFIED:20240709T182532Z
UID:10741-1714055400-1714062600@gouville-sur-mer.fr
SUMMARY:Cours modelage enfants
DESCRIPTION:En savoir plus
URL:https://gouville-sur-mer.fr/event/cours-modelage-enfants-2/
LOCATION:La médiathèque de Gouville\, 6\, route de Coutances\, Gouville-sur-mer\, 50560\, France
END:VEVENT
BEGIN:VEVENT
DTSTART;TZID=Europe/Paris:20240425T203000
DTEND;TZID=Europe/Paris:20240425T223000
DTSTAMP:20260419T151248
CREATED:20240415T161247Z
LAST-MODIFIED:20240709T182531Z
UID:10859-1714077000-1714084200@gouville-sur-mer.fr
SUMMARY:Réunion du Conseil Municipal
DESCRIPTION:Ordre du jour : \n\nDésignation d’un secrétaire de séance\nApprobation du procès-verbal du 25 mars 2024\nCommuniqués\nTravaux complémentaires – chantier du lotissement de la Jeannerie\nTravaux sur le clocher de l’église de Boisroger\nTravaux de raccordement au réseau d’eaux usées sur le territoire de Servigny\nAcquisition de matériel pour la salle des fêtes de Montsurvent\nAttribution d’avantages en nature\nProjet de fleurissement sur le territoire de Montsurvent\nNettoyage du clocher de l’église d’ Anneville s/mer\nEtude du droit de préférence de la commune concernant la reprise d’un fonds de commerce\nProposition de cession de licence IV\nRévision du plan de zonage d’assainissement collectif\nDivers
URL:https://gouville-sur-mer.fr/event/reunion-du-conseil-municipal-22/
LOCATION:Mairie de Gouville
ATTACH;FMTTYPE=image/jpeg:https://gouville-sur-mer.fr/wp-content/uploads/2023/09/LSDC_DSC_2148_2-scaled-1.jpg
END:VEVENT
BEGIN:VEVENT
DTSTART;TZID=Europe/Paris:20240427T100000
DTEND;TZID=Europe/Paris:20240427T120000
DTSTAMP:20260419T151248
CREATED:20240403T151531Z
LAST-MODIFIED:20240709T182532Z
UID:10743-1714212000-1714219200@gouville-sur-mer.fr
SUMMARY:Atelier peinture sur céramique
DESCRIPTION:En savoir plus
URL:https://gouville-sur-mer.fr/event/atelier-peinture-sur-ceramique-2/
END:VEVENT
BEGIN:VEVENT
DTSTART;VALUE=DATE:20240428
DTEND;VALUE=DATE:20240429
DTSTAMP:20260419T151248
CREATED:20240403T151802Z
LAST-MODIFIED:20240709T182531Z
UID:10745-1714262400-1714348799@gouville-sur-mer.fr
SUMMARY:Tournoi "Les étoiles gouvillaises"
DESCRIPTION:L’ES Gouville vous invite à un tournoi de football « Les Étoiles Gouvillaises » !\nRetrouvez 16 équipes la deuxième édition de ce tournoi féminin national de football U13F et les joueuses de de nombreux clubs historiques français : l’AS Saint-Etienne\, le RC Lens\, le Havre AC\, l’AS Monaco\, l’En Avant Guingamp\, le Quevilly Rouen Métropole\, l’AS Monaco\, le Paris FC et FC Fleury ainsi que des clubs locaux l’AS Cherbourg\, l’US Granville\, l’AG Caen. \nSur place grillades\, foodtruck\, buvette et stand de dégustation d’huîtres.\nRendez-vous de 9h30 à 17h30 au Stade Denis Guérin et à la Filature à Gouville-sur-mer.
URL:https://gouville-sur-mer.fr/event/tournoi-les-etoiles-gouvillaises/
LOCATION:Stade de Gouville-sur-mer
CATEGORIES:Sport
ATTACH;FMTTYPE=image/jpeg:https://gouville-sur-mer.fr/wp-content/uploads/2024/04/pexels-pixabay-50713-scaled.jpg
END:VEVENT
BEGIN:VEVENT
DTSTART;TZID=Europe/Paris:20240429T100000
DTEND;TZID=Europe/Paris:20240429T120000
DTSTAMP:20260419T151248
CREATED:20240403T152001Z
LAST-MODIFIED:20240709T182531Z
UID:10748-1714384800-1714392000@gouville-sur-mer.fr
SUMMARY:Atelier d'initiation au modelage
DESCRIPTION:Création d’un porte savon \nEn savoir plus
URL:https://gouville-sur-mer.fr/event/atelier-dinitiation-au-modelage/
END:VEVENT
BEGIN:VEVENT
DTSTART;TZID=Europe/Paris:20240430T140000
DTEND;TZID=Europe/Paris:20240430T170000
DTSTAMP:20260419T151248
CREATED:20240321T151505Z
LAST-MODIFIED:20240709T182532Z
UID:10647-1714485600-1714496400@gouville-sur-mer.fr
SUMMARY:Randonnée à Cerisy-la-salle
DESCRIPTION:Rendez-vous devant la Mairie\, pour une randonnée de 10 à 12 km. \nDépart 14h. \nContacts : Annick 06 86 88 84 88\nGérard 07 78 76 23 54
URL:https://gouville-sur-mer.fr/event/randonnee-a-cerisy-la-salle/
CATEGORIES:Randonnée
ATTACH;FMTTYPE=image/jpeg:https://gouville-sur-mer.fr/wp-content/uploads/2023/08/pexels_rando.jpeg
END:VEVENT
END:VCALENDAR