BEGIN:VCALENDAR
VERSION:2.0
PRODID:-//Gouville-sur-mer - ECPv6.15.18//NONSGML v1.0//EN
CALSCALE:GREGORIAN
METHOD:PUBLISH
X-WR-CALNAME:Gouville-sur-mer
X-ORIGINAL-URL:https://gouville-sur-mer.fr
X-WR-CALDESC:Évènements pour Gouville-sur-mer
REFRESH-INTERVAL;VALUE=DURATION:PT1H
X-Robots-Tag:noindex
X-PUBLISHED-TTL:PT1H
BEGIN:VTIMEZONE
TZID:Europe/Paris
BEGIN:DAYLIGHT
TZOFFSETFROM:+0100
TZOFFSETTO:+0200
TZNAME:CEST
DTSTART:20230326T010000
END:DAYLIGHT
BEGIN:STANDARD
TZOFFSETFROM:+0200
TZOFFSETTO:+0100
TZNAME:CET
DTSTART:20231029T010000
END:STANDARD
BEGIN:DAYLIGHT
TZOFFSETFROM:+0100
TZOFFSETTO:+0200
TZNAME:CEST
DTSTART:20240331T010000
END:DAYLIGHT
BEGIN:STANDARD
TZOFFSETFROM:+0200
TZOFFSETTO:+0100
TZNAME:CET
DTSTART:20241027T010000
END:STANDARD
BEGIN:DAYLIGHT
TZOFFSETFROM:+0100
TZOFFSETTO:+0200
TZNAME:CEST
DTSTART:20250330T010000
END:DAYLIGHT
BEGIN:STANDARD
TZOFFSETFROM:+0200
TZOFFSETTO:+0100
TZNAME:CET
DTSTART:20251026T010000
END:STANDARD
END:VTIMEZONE
BEGIN:VEVENT
DTSTART;TZID=Europe/Paris:20240406T100000
DTEND;TZID=Europe/Paris:20240506T120000
DTSTAMP:20260419T170126
CREATED:20240403T145828Z
LAST-MODIFIED:20240709T182532Z
UID:10726-1712397600-1714996800@gouville-sur-mer.fr
SUMMARY:Stage équestre
DESCRIPTION:En savoir plus
URL:https://gouville-sur-mer.fr/event/stage-equestre/
CATEGORIES:Sport
ATTACH;FMTTYPE=image/jpeg:https://gouville-sur-mer.fr/wp-content/uploads/2024/04/pexels-filip-kuran-6199402-scaled-e1712162202979.jpg
END:VEVENT
BEGIN:VEVENT
DTSTART;VALUE=DATE:20240419
DTEND;VALUE=DATE:20240512
DTSTAMP:20260419T170126
CREATED:20240304T103656Z
LAST-MODIFIED:20240709T182533Z
UID:10806-1713484800-1715471999@gouville-sur-mer.fr
SUMMARY:Exposition « Dis-moi dix mots sur le podium »
DESCRIPTION:A la médiathèque
URL:https://gouville-sur-mer.fr/event/exposition-dis-moi-dix-mots-sur-le-podium/
LOCATION:La médiathèque de Gouville\, 6\, route de Coutances\, Gouville-sur-mer\, 50560\, France
ATTACH;FMTTYPE=image/jpeg:https://gouville-sur-mer.fr/wp-content/uploads/2023/10/arbres.jpeg
END:VEVENT
BEGIN:VEVENT
DTSTART;VALUE=DATE:20240504
DTEND;VALUE=DATE:20240505
DTSTAMP:20260419T170126
CREATED:20240421T121106Z
LAST-MODIFIED:20240709T182530Z
UID:10949-1714780800-1714867199@gouville-sur-mer.fr
SUMMARY:Vide-grenier de la Saint-Marcouf
DESCRIPTION:
URL:https://gouville-sur-mer.fr/event/vide-grenier-de-la-saint-marcouf/
END:VEVENT
BEGIN:VEVENT
DTSTART;VALUE=DATE:20240504
DTEND;VALUE=DATE:20240506
DTSTAMP:20260419T170126
CREATED:20240324T142156Z
LAST-MODIFIED:20240709T182532Z
UID:10678-1714780800-1714953599@gouville-sur-mer.fr
SUMMARY:Fête de la saint Marcouf
DESCRIPTION:En savoir plus
URL:https://gouville-sur-mer.fr/event/fete-de-la-saint-marcouf-3/
ATTACH;FMTTYPE=image/jpeg:https://gouville-sur-mer.fr/wp-content/uploads/2024/03/Saint-marcouf_affiche.jpg
END:VEVENT
BEGIN:VEVENT
DTSTART;TZID=Europe/Paris:20240504T110000
DTEND;TZID=Europe/Paris:20240504T120000
DTSTAMP:20260419T170126
CREATED:20240421T100547Z
LAST-MODIFIED:20240709T182531Z
UID:10892-1714820400-1714824000@gouville-sur-mer.fr
SUMMARY:Concert de la fanfare "Poppers Frontale"
DESCRIPTION:Dans le cadre du festival « Jazz sous les pommiers » \nEn savoir plus
URL:https://gouville-sur-mer.fr/event/tour-de-jazz/
ATTACH;FMTTYPE=image/jpeg:https://gouville-sur-mer.fr/wp-content/uploads/2024/04/poppers_frontal.jpg
END:VEVENT
BEGIN:VEVENT
DTSTART;TZID=Europe/Paris:20240506T100000
DTEND;TZID=Europe/Paris:20240506T120000
DTSTAMP:20260419T170126
CREATED:20240421T163708Z
LAST-MODIFIED:20240709T182530Z
UID:10958-1714989600-1714996800@gouville-sur-mer.fr
SUMMARY:Bébés lecteurs
DESCRIPTION:En savoir plus
URL:https://gouville-sur-mer.fr/event/bebe-lecteur-2/
LOCATION:La médiathèque de Gouville\, 6\, route de Coutances\, Gouville-sur-mer\, 50560\, France
ATTACH;FMTTYPE=image/jpeg:https://gouville-sur-mer.fr/wp-content/uploads/2022/11/children-4624899-pb.jpg
END:VEVENT
BEGIN:VEVENT
DTSTART;TZID=Europe/Paris:20240507T140000
DTEND;TZID=Europe/Paris:20240507T170000
DTSTAMP:20260419T170126
CREATED:20240321T152237Z
LAST-MODIFIED:20240709T182532Z
UID:10649-1715090400-1715101200@gouville-sur-mer.fr
SUMMARY:2 randonnées avec pique-nique
DESCRIPTION:9h : rendez-vous place de l’église de Champs-du-Boult\, pour une randonnée d’environ 10 km. \n12h : pique-nique à l’étang du vieux château. \n14h : forêt de Saint Sever. Départ de l’étang pour une randonnée d’environ 8 km. \nContacts : Daniel 06 37 50 57 31\nJean-Michel 06 77 05 49 86
URL:https://gouville-sur-mer.fr/event/2-randonnees-avec-pique-nique/
CATEGORIES:Randonnée
ATTACH;FMTTYPE=image/jpeg:https://gouville-sur-mer.fr/wp-content/uploads/2023/08/pexels_rando.jpeg
END:VEVENT
BEGIN:VEVENT
DTSTART;TZID=Europe/Paris:20240508T130000
DTEND;TZID=Europe/Paris:20240508T150000
DTSTAMP:20260419T170126
CREATED:20240508T093854Z
LAST-MODIFIED:20240709T182529Z
UID:11113-1715173200-1715180400@gouville-sur-mer.fr
SUMMARY:Attelage grandes marées
DESCRIPTION:  \nPlus d’informations
URL:https://gouville-sur-mer.fr/event/attelage-grandes-marees/
LOCATION:Cale de Gouville (face SNSM)
ATTACH;FMTTYPE=image/jpeg:https://gouville-sur-mer.fr/wp-content/uploads/2023/09/attelage.jpg
END:VEVENT
BEGIN:VEVENT
DTSTART;TZID=Europe/Paris:20240508T143000
DTEND;TZID=Europe/Paris:20240508T170000
DTSTAMP:20260419T170126
CREATED:20240503T091939Z
LAST-MODIFIED:20240709T182529Z
UID:11027-1715178600-1715187600@gouville-sur-mer.fr
SUMMARY:Visite patrimoine à Gouville
DESCRIPTION:En savoir plus
URL:https://gouville-sur-mer.fr/event/visite-patrimoine-a-gouville/
ATTACH;FMTTYPE=image/png:https://gouville-sur-mer.fr/wp-content/uploads/2024/05/ecritoire.png
END:VEVENT
BEGIN:VEVENT
DTSTART;TZID=Europe/Paris:20240509T140000
DTEND;TZID=Europe/Paris:20240509T160000
DTSTAMP:20260419T170126
CREATED:20240508T094205Z
LAST-MODIFIED:20240709T182529Z
UID:11118-1715263200-1715270400@gouville-sur-mer.fr
SUMMARY:Attelage grandes marées
DESCRIPTION:  \nPlus d’informations
URL:https://gouville-sur-mer.fr/event/attelage-grandes-marees-3/
LOCATION:Cale de Gouville (face SNSM)
ATTACH;FMTTYPE=image/jpeg:https://gouville-sur-mer.fr/wp-content/uploads/2023/09/attelage.jpg
END:VEVENT
BEGIN:VEVENT
DTSTART;TZID=Europe/Paris:20240509T143000
DTEND;TZID=Europe/Paris:20240509T163000
DTSTAMP:20260419T170126
CREATED:20240421T165621Z
LAST-MODIFIED:20240709T182530Z
UID:10968-1715265000-1715272200@gouville-sur-mer.fr
SUMMARY:Cours modelage enfants
DESCRIPTION:En savoir plus
URL:https://gouville-sur-mer.fr/event/cours-modelage-enfants-3/
LOCATION:Dereva Studio
END:VEVENT
BEGIN:VEVENT
DTSTART;VALUE=DATE:20240510
DTEND;VALUE=DATE:20240512
DTSTAMP:20260419T170126
CREATED:20240506T151448Z
LAST-MODIFIED:20240709T182529Z
UID:11094-1715299200-1715471999@gouville-sur-mer.fr
SUMMARY:Fermeture Mairie & Agence postale
DESCRIPTION:Fermeture exceptionnelle
URL:https://gouville-sur-mer.fr/event/fermeture-exceptionnelle/
END:VEVENT
BEGIN:VEVENT
DTSTART;TZID=Europe/Paris:20240510T100000
DTEND;TZID=Europe/Paris:20240510T120000
DTSTAMP:20260419T170126
CREATED:20240421T165827Z
LAST-MODIFIED:20240709T182530Z
UID:10971-1715335200-1715342400@gouville-sur-mer.fr
SUMMARY:Atelier d'initiation au modelage
DESCRIPTION:Création d’un pot \nEn savoir plus
URL:https://gouville-sur-mer.fr/event/atelier-dinitiation-au-modelage-2/
ATTACH;FMTTYPE=image/jpeg:https://gouville-sur-mer.fr/wp-content/uploads/2024/04/modelage-2-e1730797684995.jpg
END:VEVENT
BEGIN:VEVENT
DTSTART;TZID=Europe/Paris:20240511T100000
DTEND;TZID=Europe/Paris:20240511T130000
DTSTAMP:20260419T170126
CREATED:20240427T075901Z
LAST-MODIFIED:20240709T182530Z
UID:11012-1715421600-1715432400@gouville-sur-mer.fr
SUMMARY:Don du sang
DESCRIPTION:
URL:https://gouville-sur-mer.fr/event/don-du-sang-2/
LOCATION:La Filature
ATTACH;FMTTYPE=image/jpeg:https://gouville-sur-mer.fr/wp-content/uploads/2024/04/14_2024-05-11_944179_GOUVILLE-SUR-MER-e1742047249131.jpg
END:VEVENT
BEGIN:VEVENT
DTSTART;TZID=Europe/Paris:20240511T143000
DTEND;TZID=Europe/Paris:20240511T163000
DTSTAMP:20260419T170126
CREATED:20240421T170034Z
LAST-MODIFIED:20240709T182530Z
UID:10973-1715437800-1715445000@gouville-sur-mer.fr
SUMMARY:Atelier peinture sur céramique
DESCRIPTION:En savoir plus
URL:https://gouville-sur-mer.fr/event/atelier-peinture-sur-ceramique-3/
LOCATION:Dereva Studio
END:VEVENT
BEGIN:VEVENT
DTSTART;TZID=Europe/Paris:20240511T153000
DTEND;TZID=Europe/Paris:20240511T173000
DTSTAMP:20260419T170126
CREATED:20240508T094311Z
LAST-MODIFIED:20240709T182529Z
UID:11120-1715441400-1715448600@gouville-sur-mer.fr
SUMMARY:Attelage grandes marées
DESCRIPTION:  \nPlus d’informations
URL:https://gouville-sur-mer.fr/event/attelage-grandes-marees-4/
LOCATION:Cale de Gouville (face SNSM)
ATTACH;FMTTYPE=image/jpeg:https://gouville-sur-mer.fr/wp-content/uploads/2023/09/attelage.jpg
END:VEVENT
BEGIN:VEVENT
DTSTART;TZID=Europe/Paris:20240512T160000
DTEND;TZID=Europe/Paris:20240512T180000
DTSTAMP:20260419T170126
CREATED:20240508T094102Z
LAST-MODIFIED:20240709T182529Z
UID:11116-1715529600-1715536800@gouville-sur-mer.fr
SUMMARY:Attelage grandes marées
DESCRIPTION:  \nPlus d’informations
URL:https://gouville-sur-mer.fr/event/attelage-grandes-marees-2/
LOCATION:Cale de Gouville (face SNSM)
ATTACH;FMTTYPE=image/jpeg:https://gouville-sur-mer.fr/wp-content/uploads/2023/09/attelage.jpg
END:VEVENT
BEGIN:VEVENT
DTSTART;TZID=Europe/Paris:20240514T140000
DTEND;TZID=Europe/Paris:20240514T170000
DTSTAMP:20260419T170126
CREATED:20240421T164148Z
LAST-MODIFIED:20240709T182530Z
UID:10960-1715695200-1715706000@gouville-sur-mer.fr
SUMMARY:Randonnée à Boisroger
DESCRIPTION:14h : rendez-vous devant l’annexe de la Mairie pour une randonnée de 10 à 12 km. \nContacts : Marie-Line 06 36 60 19 31\nJacky 06 70 44 08 83
URL:https://gouville-sur-mer.fr/event/randonnee-a-boisroger-2/
CATEGORIES:Randonnée
ATTACH;FMTTYPE=image/jpeg:https://gouville-sur-mer.fr/wp-content/uploads/2023/08/pexels_rando.jpeg
END:VEVENT
BEGIN:VEVENT
DTSTART;TZID=Europe/Paris:20240515T143000
DTEND;TZID=Europe/Paris:20240515T160000
DTSTAMP:20260419T170126
CREATED:20240503T093122Z
LAST-MODIFIED:20240709T182529Z
UID:11032-1715783400-1715788800@gouville-sur-mer.fr
SUMMARY:Balade bien-être : « voir la vie en couleurs »
DESCRIPTION:En savoir plus
URL:https://gouville-sur-mer.fr/event/balade-bien-etre-voir-la-vie-en-couleurs/
ATTACH;FMTTYPE=image/png:https://gouville-sur-mer.fr/wp-content/uploads/2024/05/photo_©aimieSophrologie.png
END:VEVENT
BEGIN:VEVENT
DTSTART;VALUE=DATE:20240517
DTEND;VALUE=DATE:20240609
DTSTAMP:20260419T170126
CREATED:20240503T103740Z
LAST-MODIFIED:20240709T182529Z
UID:11064-1715904000-1717891199@gouville-sur-mer.fr
SUMMARY:Expo "Les enfants de la résistance"
DESCRIPTION:Dans le cadre du 80e anniversaire du débarquement. \nEn savoir plus
URL:https://gouville-sur-mer.fr/event/expo-les-enfants-de-la-resistance/
LOCATION:La médiathèque de Gouville\, 6\, route de Coutances\, Gouville-sur-mer\, 50560\, France
ATTACH;FMTTYPE=image/jpeg:https://gouville-sur-mer.fr/wp-content/uploads/2023/10/arbres.jpeg
END:VEVENT
BEGIN:VEVENT
DTSTART;TZID=Europe/Paris:20240518T100000
DTEND;TZID=Europe/Paris:20240518T120000
DTSTAMP:20260419T170126
CREATED:20240503T094111Z
LAST-MODIFIED:20240709T182529Z
UID:11036-1716026400-1716033600@gouville-sur-mer.fr
SUMMARY:Atelier d'initiation au modelage
DESCRIPTION:Création d’un objet au choix \nEn savoir plus
URL:https://gouville-sur-mer.fr/event/atelier-dinitiation-au-modelage-3/
LOCATION:Dereva Studio
ATTACH;FMTTYPE=image/jpeg:https://gouville-sur-mer.fr/wp-content/uploads/2024/04/modelage-2-e1730797684995.jpg
END:VEVENT
BEGIN:VEVENT
DTSTART;TZID=Europe/Paris:20240518T143000
DTEND;TZID=Europe/Paris:20240518T163000
DTSTAMP:20260419T170126
CREATED:20240503T094459Z
LAST-MODIFIED:20240709T182529Z
UID:11040-1716042600-1716049800@gouville-sur-mer.fr
SUMMARY:Atelier modelage enfants
DESCRIPTION:En savoir plus
URL:https://gouville-sur-mer.fr/event/atelier-modelage-enfants/
LOCATION:Dereva Studio
ATTACH;FMTTYPE=image/png:https://gouville-sur-mer.fr/wp-content/uploads/2024/04/modelage_enfants.png
END:VEVENT
BEGIN:VEVENT
DTSTART;TZID=Europe/Paris:20240518T150000
DTEND;TZID=Europe/Paris:20240518T160000
DTSTAMP:20260419T170126
CREATED:20240506T061039Z
LAST-MODIFIED:20240709T182529Z
UID:11085-1716044400-1716048000@gouville-sur-mer.fr
SUMMARY:Baptème de la Rose
DESCRIPTION:
URL:https://gouville-sur-mer.fr/event/bapteme-de-la-rose/
LOCATION:Moulin de Gouville
ATTACH;FMTTYPE=image/jpeg:https://gouville-sur-mer.fr/wp-content/uploads/2024/05/invit_rose-e1714925552475.jpeg
END:VEVENT
BEGIN:VEVENT
DTSTART;TZID=Europe/Paris:20240518T150000
DTEND;TZID=Europe/Paris:20240518T170000
DTSTAMP:20260419T170126
CREATED:20240421T171101Z
LAST-MODIFIED:20240709T182530Z
UID:10975-1716044400-1716051600@gouville-sur-mer.fr
SUMMARY:Atelier écriture SLAM
DESCRIPTION:En savoir plus
URL:https://gouville-sur-mer.fr/event/atelier-ecriture-slam-a-la-mediatheque-de-gouville-2/
LOCATION:La médiathèque de Gouville\, 6\, route de Coutances\, Gouville-sur-mer\, 50560\, France
ATTACH;FMTTYPE=image/jpeg:https://gouville-sur-mer.fr/wp-content/uploads/2024/04/pexels-jeshoots-com-147458-834897-scaled.jpg
END:VEVENT
BEGIN:VEVENT
DTSTART;TZID=Europe/Paris:20240520T113000
DTEND;TZID=Europe/Paris:20240520T133000
DTSTAMP:20260419T170126
CREATED:20240508T100047Z
LAST-MODIFIED:20240709T182529Z
UID:11126-1716204600-1716211800@gouville-sur-mer.fr
SUMMARY:Attelage grandes marées
DESCRIPTION:  \nPlus d’informations
URL:https://gouville-sur-mer.fr/event/attelage-grandes-marees-5/
LOCATION:Cale de Gouville (face SNSM)
ATTACH;FMTTYPE=image/jpeg:https://gouville-sur-mer.fr/wp-content/uploads/2023/09/attelage.jpg
END:VEVENT
BEGIN:VEVENT
DTSTART;TZID=Europe/Paris:20240520T143000
DTEND;TZID=Europe/Paris:20240520T163000
DTSTAMP:20260419T170126
CREATED:20240503T095216Z
LAST-MODIFIED:20240709T182529Z
UID:11043-1716215400-1716222600@gouville-sur-mer.fr
SUMMARY:Atelier peinture sur céramique
DESCRIPTION:En savoir plus
URL:https://gouville-sur-mer.fr/event/atelier-peinture-sur-ceramique-4/
LOCATION:Dereva Studio
ATTACH;FMTTYPE=image/jpeg:https://gouville-sur-mer.fr/wp-content/uploads/2024/04/modelage-2-e1730797684995.jpg
END:VEVENT
BEGIN:VEVENT
DTSTART;TZID=Europe/Paris:20240521T093000
DTEND;TZID=Europe/Paris:20240521T170000
DTSTAMP:20260419T170126
CREATED:20240421T164505Z
LAST-MODIFIED:20240709T182530Z
UID:10962-1716283800-1716310800@gouville-sur-mer.fr
SUMMARY:Randonnée avec pique-nique
DESCRIPTION:9h30 : Tessy-sur-Vire parking du pont\, randonnée de 8 à 10 km \n12h : Pique-nique parking du Mont Robin \n14h : randonnée de 10 à 12 km \nContacts : Daniel H. 06 15 20 40 26\nBernard H. 06 87 36 32 58
URL:https://gouville-sur-mer.fr/event/randonnee-avec-pique-nique/
CATEGORIES:Randonnée
ATTACH;FMTTYPE=image/jpeg:https://gouville-sur-mer.fr/wp-content/uploads/2023/08/pexels_rando.jpeg
END:VEVENT
BEGIN:VEVENT
DTSTART;TZID=Europe/Paris:20240525T143000
DTEND;TZID=Europe/Paris:20240525T163000
DTSTAMP:20260419T170126
CREATED:20240508T100204Z
LAST-MODIFIED:20240709T182529Z
UID:11125-1716647400-1716654600@gouville-sur-mer.fr
SUMMARY:Attelage grandes marées
DESCRIPTION:  \nPlus d’informations
URL:https://gouville-sur-mer.fr/event/attelage-grandes-marees-6/
LOCATION:Cale de Gouville (face SNSM)
ATTACH;FMTTYPE=image/jpeg:https://gouville-sur-mer.fr/wp-content/uploads/2023/09/attelage.jpg
END:VEVENT
BEGIN:VEVENT
DTSTART;TZID=Europe/Paris:20240525T143000
DTEND;TZID=Europe/Paris:20240525T173000
DTSTAMP:20260419T170126
CREATED:20240421T172707Z
LAST-MODIFIED:20240709T182530Z
UID:10981-1716647400-1716658200@gouville-sur-mer.fr
SUMMARY:La mer monte\, tous à vélo !
DESCRIPTION:En savoir plus
URL:https://gouville-sur-mer.fr/event/la-mer-monte-tous-a-velo-3/
ATTACH;FMTTYPE=image/jpeg:https://gouville-sur-mer.fr/wp-content/uploads/2024/05/20240525_affiche-cyclo_VF_vOC_PICTOS.jpg
END:VEVENT
BEGIN:VEVENT
DTSTART;TZID=Europe/Paris:20240526T160000
DTEND;TZID=Europe/Paris:20240526T180000
DTSTAMP:20260419T170126
CREATED:20240508T100312Z
LAST-MODIFIED:20240709T182529Z
UID:11124-1716739200-1716746400@gouville-sur-mer.fr
SUMMARY:Attelage grandes marées
DESCRIPTION:  \nPlus d’informations
URL:https://gouville-sur-mer.fr/event/attelage-grandes-marees-7/
LOCATION:Cale de Gouville (face SNSM)
ATTACH;FMTTYPE=image/jpeg:https://gouville-sur-mer.fr/wp-content/uploads/2023/09/attelage.jpg
END:VEVENT
END:VCALENDAR