BEGIN:VCALENDAR
VERSION:2.0
PRODID:-//Gouville-sur-mer - ECPv6.15.18//NONSGML v1.0//EN
CALSCALE:GREGORIAN
METHOD:PUBLISH
X-WR-CALNAME:Gouville-sur-mer
X-ORIGINAL-URL:https://gouville-sur-mer.fr
X-WR-CALDESC:Évènements pour Gouville-sur-mer
REFRESH-INTERVAL;VALUE=DURATION:PT1H
X-Robots-Tag:noindex
X-PUBLISHED-TTL:PT1H
BEGIN:VTIMEZONE
TZID:Europe/Paris
BEGIN:DAYLIGHT
TZOFFSETFROM:+0100
TZOFFSETTO:+0200
TZNAME:CEST
DTSTART:20230326T010000
END:DAYLIGHT
BEGIN:STANDARD
TZOFFSETFROM:+0200
TZOFFSETTO:+0100
TZNAME:CET
DTSTART:20231029T010000
END:STANDARD
BEGIN:DAYLIGHT
TZOFFSETFROM:+0100
TZOFFSETTO:+0200
TZNAME:CEST
DTSTART:20240331T010000
END:DAYLIGHT
BEGIN:STANDARD
TZOFFSETFROM:+0200
TZOFFSETTO:+0100
TZNAME:CET
DTSTART:20241027T010000
END:STANDARD
BEGIN:DAYLIGHT
TZOFFSETFROM:+0100
TZOFFSETTO:+0200
TZNAME:CEST
DTSTART:20250330T010000
END:DAYLIGHT
BEGIN:STANDARD
TZOFFSETFROM:+0200
TZOFFSETTO:+0100
TZNAME:CET
DTSTART:20251026T010000
END:STANDARD
END:VTIMEZONE
BEGIN:VEVENT
DTSTART;TZID=Europe/Paris:20240701T090000
DTEND;TZID=Europe/Paris:20240831T110000
DTSTAMP:20260419T203915
CREATED:20240805T070857Z
LAST-MODIFIED:20240805T071041Z
UID:12342-1719824400-1725102000@gouville-sur-mer.fr
SUMMARY:Aqua-gym / Réveil musculaire
DESCRIPTION:Activité proposée tous les matins de l’été au centre « Les sables d’or ». \nEn savoir plus
URL:https://gouville-sur-mer.fr/event/aqua-gym-reveil-musculaire/
LOCATION:Centre les sables d’or\, 16 Rue des Roquerets\, Gouville-sur-mer\, 50560
END:VEVENT
BEGIN:VEVENT
DTSTART;TZID=Europe/Paris:20240703T140000
DTEND;TZID=Europe/Paris:20240703T160000
DTSTAMP:20260419T203915
CREATED:20240324T141909Z
LAST-MODIFIED:20240709T182532Z
UID:10676-1720015200-1720022400@gouville-sur-mer.fr
SUMMARY:Randonnée gourmande du Moulin
DESCRIPTION:En savoir plus
URL:https://gouville-sur-mer.fr/event/randonnee-gourmande-du-moulin/
ATTACH;FMTTYPE=image/jpeg:https://gouville-sur-mer.fr/wp-content/uploads/2023/06/annie-spratt-yl4n914GQV8-unsplash-scaled.jpg
END:VEVENT
BEGIN:VEVENT
DTSTART;VALUE=DATE:20240704
DTEND;VALUE=DATE:20240705
DTSTAMP:20260419T203915
CREATED:20240703T143443Z
LAST-MODIFIED:20240709T182526Z
UID:11506-1720051200-1720137599@gouville-sur-mer.fr
SUMMARY:Visite de la Ferronerie Picard-Dubosq
DESCRIPTION:Dans le cadre des visites du jeudi\, la Ferronnerie partage son activité entre « Monuments historiques » et clientèle privée. Le travail à la forge à l’ancienne est rare\, ce savoir-faire fait que l’entreprise est reconnue Entreprise du Patrimoine Vivant (EPV). \nSur rendez-vous uniquement (durée 1h30) à Gouville-sur-Mer.\nRéservation au 02 33 17 02 25 ou par mail contact@ferronneriepicardduboscq.fr
URL:https://gouville-sur-mer.fr/event/visite-de-la-ferronerie-picard-dubosq-3/
CATEGORIES:Visite
ATTACH;FMTTYPE=image/png:https://gouville-sur-mer.fr/wp-content/uploads/2023/06/visites_jeudi.png
END:VEVENT
BEGIN:VEVENT
DTSTART;TZID=Europe/Paris:20240704T100000
DTEND;TZID=Europe/Paris:20240704T120000
DTSTAMP:20260419T203915
CREATED:20240614T093521Z
LAST-MODIFIED:20240709T182527Z
UID:11408-1720087200-1720094400@gouville-sur-mer.fr
SUMMARY:Atelier céramique
DESCRIPTION:Création d’une tasse. \nEn savoir plus
URL:https://gouville-sur-mer.fr/event/atelier-ceramique/
LOCATION:Dereva Studio
ATTACH;FMTTYPE=image/png:https://gouville-sur-mer.fr/wp-content/uploads/2024/06/atelier.png
END:VEVENT
BEGIN:VEVENT
DTSTART;TZID=Europe/Paris:20240704T173000
DTEND;TZID=Europe/Paris:20240704T220000
DTSTAMP:20260419T203915
CREATED:20240702T120346Z
LAST-MODIFIED:20240709T182526Z
UID:11492-1720114200-1720130400@gouville-sur-mer.fr
SUMMARY:Marché traditionnel & artisanal semi-nocturne
DESCRIPTION:Chaque jeudi soir de l’été\, place de l’église. \nRestauration et buvette sur place. \nEn savoir plus
URL:https://gouville-sur-mer.fr/event/marche-traditionnel-artisanal-semi-nocturne-5/
LOCATION:Place de l’église
ATTACH;FMTTYPE=image/jpeg:https://gouville-sur-mer.fr/wp-content/uploads/2023/07/wu-yi-4NE2L1n1NpQ-unsplash-scaled-e1688314343859.jpg
END:VEVENT
BEGIN:VEVENT
DTSTART;TZID=Europe/Paris:20240704T180000
DTEND;TZID=Europe/Paris:20240704T193000
DTSTAMP:20260419T203915
CREATED:20240702T080102Z
LAST-MODIFIED:20240709T182526Z
UID:11486-1720116000-1720121400@gouville-sur-mer.fr
SUMMARY:Chants marins
DESCRIPTION:Concert d’ouverture de saison au théâtre de verdure. \nEn savoir plus
URL:https://gouville-sur-mer.fr/event/chants-marins-dupliquer-5773/
LOCATION:Théatre de verdure
END:VEVENT
BEGIN:VEVENT
DTSTART;TZID=Europe/Paris:20240704T200000
DTEND;TZID=Europe/Paris:20240704T220000
DTSTAMP:20260419T203915
CREATED:20240627T054017Z
LAST-MODIFIED:20240709T182526Z
UID:11468-1720123200-1720130400@gouville-sur-mer.fr
SUMMARY:Réunion du conseil municipal
DESCRIPTION:
URL:https://gouville-sur-mer.fr/event/reunion-du-conseil-municipal-24/
LOCATION:Mairie de Gouville
ATTACH;FMTTYPE=image/jpeg:https://gouville-sur-mer.fr/wp-content/uploads/2021/05/LSDC__LSD8505-scaled.jpg
END:VEVENT
BEGIN:VEVENT
DTSTART;VALUE=DATE:20240706
DTEND;VALUE=DATE:20240707
DTSTAMP:20260419T203915
CREATED:20240703T144803Z
LAST-MODIFIED:20240709T182526Z
UID:11510-1720224000-1720310399@gouville-sur-mer.fr
SUMMARY:Atelier journal créatif
DESCRIPTION:En savoir plus
URL:https://gouville-sur-mer.fr/event/atelier-journal-creatif/
ATTACH;FMTTYPE=image/png:https://gouville-sur-mer.fr/wp-content/uploads/2024/07/atelier_journal.png
END:VEVENT
BEGIN:VEVENT
DTSTART;TZID=Europe/Paris:20240706T100000
DTEND;TZID=Europe/Paris:20240706T120000
DTSTAMP:20260419T203915
CREATED:20240614T094452Z
LAST-MODIFIED:20240709T182527Z
UID:11415-1720260000-1720267200@gouville-sur-mer.fr
SUMMARY:Atelier modelage parents/enfants
DESCRIPTION:En savoir plus
URL:https://gouville-sur-mer.fr/event/atelier-modelage-parents-enfants/
LOCATION:Dereva Studio
ATTACH;FMTTYPE=image/png:https://gouville-sur-mer.fr/wp-content/uploads/2024/06/modelage_parents-enfants.png
END:VEVENT
BEGIN:VEVENT
DTSTART;VALUE=DATE:20240707
DTEND;VALUE=DATE:20240708
DTSTAMP:20260419T203915
CREATED:20240612T141415Z
LAST-MODIFIED:20240709T182527Z
UID:11367-1720310400-1720396799@gouville-sur-mer.fr
SUMMARY:Attelage grandes marées
DESCRIPTION:  \nPlus d’informations
URL:https://gouville-sur-mer.fr/event/attelage-grandes-marees-15/
LOCATION:Cale de Gouville (face SNSM)
ATTACH;FMTTYPE=image/jpeg:https://gouville-sur-mer.fr/wp-content/uploads/2023/09/attelage.jpg
END:VEVENT
BEGIN:VEVENT
DTSTART;VALUE=DATE:20240707
DTEND;VALUE=DATE:20240708
DTSTAMP:20260419T203915
CREATED:20240612T141141Z
LAST-MODIFIED:20240709T182527Z
UID:11365-1720310400-1720396799@gouville-sur-mer.fr
SUMMARY:Vide-grenier de Montsurvent
DESCRIPTION:En savoir plus
URL:https://gouville-sur-mer.fr/event/vide-grenier-de-montsurvent-3/
CATEGORIES:Vide-grenier
ATTACH;FMTTYPE=image/jpeg:https://gouville-sur-mer.fr/wp-content/uploads/2023/04/flea-market-ge4daf3e0a_1920.jpg
END:VEVENT
BEGIN:VEVENT
DTSTART;TZID=Europe/Paris:20240709T180000
DTEND;TZID=Europe/Paris:20240710T200000
DTSTAMP:20260419T203915
CREATED:20240709T150638Z
LAST-MODIFIED:20240709T182526Z
UID:11525-1720548000-1720641600@gouville-sur-mer.fr
SUMMARY:Cirque Europa
DESCRIPTION:
URL:https://gouville-sur-mer.fr/event/cirque-europa-5/
ATTACH;FMTTYPE=image/jpeg:https://gouville-sur-mer.fr/wp-content/uploads/2023/07/jonny-gios-GztkeqZuExY-unsplash-scaled.jpg
END:VEVENT
BEGIN:VEVENT
DTSTART;VALUE=DATE:20240710
DTEND;VALUE=DATE:20240711
DTSTAMP:20260419T203915
CREATED:20240612T141611Z
LAST-MODIFIED:20240709T182527Z
UID:11369-1720569600-1720655999@gouville-sur-mer.fr
SUMMARY:Attelage grandes marées
DESCRIPTION:  \nPlus d’informations
URL:https://gouville-sur-mer.fr/event/attelage-grandes-marees-16/
LOCATION:Cale de Gouville (face SNSM)
ATTACH;FMTTYPE=image/jpeg:https://gouville-sur-mer.fr/wp-content/uploads/2023/09/attelage.jpg
END:VEVENT
BEGIN:VEVENT
DTSTART;TZID=Europe/Paris:20240710T150000
DTEND;TZID=Europe/Paris:20240710T170000
DTSTAMP:20260419T203915
CREATED:20240521T121203Z
LAST-MODIFIED:20240709T182528Z
UID:11233-1720623600-1720630800@gouville-sur-mer.fr
SUMMARY:Cherchez la p'tite bête
DESCRIPTION:En savoir plus
URL:https://gouville-sur-mer.fr/event/cherchez-la-ptite-bete/
ATTACH;FMTTYPE=image/png:https://gouville-sur-mer.fr/wp-content/uploads/2024/05/cherchez-la-tite-bete.png
END:VEVENT
BEGIN:VEVENT
DTSTART;TZID=Europe/Paris:20240711T173000
DTEND;TZID=Europe/Paris:20240711T220000
DTSTAMP:20260419T203915
CREATED:20240721T132354Z
LAST-MODIFIED:20240721T132354Z
UID:12119-1720719000-1720735200@gouville-sur-mer.fr
SUMMARY:Marché traditionnel & artisanal semi-nocturne
DESCRIPTION:Chaque jeudi soir de l’été\, place de l’église. \nRestauration et buvette sur place. \nEn savoir plus
URL:https://gouville-sur-mer.fr/event/marche-traditionnel-artisanal-semi-nocturne-6/
LOCATION:Place de l’église
ATTACH;FMTTYPE=image/jpeg:https://gouville-sur-mer.fr/wp-content/uploads/2023/07/wu-yi-4NE2L1n1NpQ-unsplash-scaled-e1688314343859.jpg
END:VEVENT
BEGIN:VEVENT
DTSTART;TZID=Europe/Paris:20240711T180000
DTEND;TZID=Europe/Paris:20240711T193000
DTSTAMP:20260419T203915
CREATED:20240723T154911Z
LAST-MODIFIED:20240723T154911Z
UID:12199-1720720800-1720726200@gouville-sur-mer.fr
SUMMARY:Apéro-concert
DESCRIPTION:En savoir plus
URL:https://gouville-sur-mer.fr/event/apero-concert-7/
LOCATION:Théatre de verdure
END:VEVENT
BEGIN:VEVENT
DTSTART;VALUE=DATE:20240713
DTEND;VALUE=DATE:20240720
DTSTAMP:20260419T203915
CREATED:20240709T151129Z
LAST-MODIFIED:20240709T182526Z
UID:11527-1720828800-1721433599@gouville-sur-mer.fr
SUMMARY:Expo "Entomaginaires"
DESCRIPTION:En savoir plus
URL:https://gouville-sur-mer.fr/event/expo-entomaginaires/
LOCATION:La Filature
ATTACH;FMTTYPE=image/webp:https://gouville-sur-mer.fr/wp-content/uploads/2024/06/entomaginaires.webp
END:VEVENT
BEGIN:VEVENT
DTSTART;VALUE=DATE:20240714
DTEND;VALUE=DATE:20240715
DTSTAMP:20260419T203915
CREATED:20240612T141755Z
LAST-MODIFIED:20240709T182527Z
UID:11371-1720915200-1721001599@gouville-sur-mer.fr
SUMMARY:Fête de la mer
DESCRIPTION:En savoir plus
URL:https://gouville-sur-mer.fr/event/fete-de-la-mer-3/
ATTACH;FMTTYPE=image/jpeg:https://gouville-sur-mer.fr/wp-content/uploads/2021/03/fdlm.jpg
END:VEVENT
BEGIN:VEVENT
DTSTART;VALUE=DATE:20240715
DTEND;VALUE=DATE:20240717
DTSTAMP:20260419T203915
CREATED:20240614T092604Z
LAST-MODIFIED:20240709T182527Z
UID:11402-1721001600-1721174399@gouville-sur-mer.fr
SUMMARY:Stage modelage enfants
DESCRIPTION:En savoir plus
URL:https://gouville-sur-mer.fr/event/stage-modelage-enfants/
LOCATION:Dereva Studio
ATTACH;FMTTYPE=image/png:https://gouville-sur-mer.fr/wp-content/uploads/2024/06/modelage.png
END:VEVENT
BEGIN:VEVENT
DTSTART;VALUE=DATE:20240718
DTEND;VALUE=DATE:20240720
DTSTAMP:20260419T203915
CREATED:20240614T092730Z
LAST-MODIFIED:20240709T182527Z
UID:11405-1721260800-1721433599@gouville-sur-mer.fr
SUMMARY:Stage modelage enfants
DESCRIPTION:En savoir plus
URL:https://gouville-sur-mer.fr/event/stage-modelage-enfants-2/
LOCATION:Dereva Studio
ATTACH;FMTTYPE=image/png:https://gouville-sur-mer.fr/wp-content/uploads/2024/06/modelage.png
END:VEVENT
BEGIN:VEVENT
DTSTART;TZID=Europe/Paris:20240718T100000
DTEND;TZID=Europe/Paris:20240718T120000
DTSTAMP:20260419T203915
CREATED:20240614T093702Z
LAST-MODIFIED:20240709T182527Z
UID:11411-1721296800-1721304000@gouville-sur-mer.fr
SUMMARY:Atelier céramique
DESCRIPTION:Création d’un bol. \nEn savoir plus
URL:https://gouville-sur-mer.fr/event/atelier-ceramique-2/
LOCATION:Dereva Studio
ATTACH;FMTTYPE=image/png:https://gouville-sur-mer.fr/wp-content/uploads/2024/06/atelier.png
END:VEVENT
BEGIN:VEVENT
DTSTART;TZID=Europe/Paris:20240718T103000
DTEND;TZID=Europe/Paris:20240718T120000
DTSTAMP:20260419T203915
CREATED:20240715T171052Z
LAST-MODIFIED:20240715T172226Z
UID:12038-1721298600-1721304000@gouville-sur-mer.fr
SUMMARY:Lectures olympiques
DESCRIPTION:(+5 ans) \nEn savoir plus
URL:https://gouville-sur-mer.fr/event/lectures-olympiques/
ATTACH;FMTTYPE=image/jpeg:https://gouville-sur-mer.fr/wp-content/uploads/2024/07/pexels-olia-danilevich-5088188-scaled.jpg
END:VEVENT
BEGIN:VEVENT
DTSTART;TZID=Europe/Paris:20240718T143000
DTEND;TZID=Europe/Paris:20240718T173000
DTSTAMP:20260419T203915
CREATED:20240612T142047Z
LAST-MODIFIED:20240711T161146Z
UID:11373-1721313000-1721323800@gouville-sur-mer.fr
SUMMARY:La mer monte\, tous à vélo !
DESCRIPTION:En savoir plus
URL:https://gouville-sur-mer.fr/event/la-mer-monte-tous-a-velo-4/
ATTACH;FMTTYPE=image/jpeg:https://gouville-sur-mer.fr/wp-content/uploads/2024/06/lamermonte.jpg
END:VEVENT
BEGIN:VEVENT
DTSTART;TZID=Europe/Paris:20240718T173000
DTEND;TZID=Europe/Paris:20240718T220000
DTSTAMP:20260419T203915
CREATED:20240721T132500Z
LAST-MODIFIED:20240721T132500Z
UID:12121-1721323800-1721340000@gouville-sur-mer.fr
SUMMARY:Marché traditionnel & artisanal semi-nocturne
DESCRIPTION:Chaque jeudi soir de l’été\, place de l’église. \nRestauration et buvette sur place. \nEn savoir plus
URL:https://gouville-sur-mer.fr/event/marche-traditionnel-artisanal-semi-nocturne-7/
LOCATION:Place de l’église
ATTACH;FMTTYPE=image/jpeg:https://gouville-sur-mer.fr/wp-content/uploads/2023/07/wu-yi-4NE2L1n1NpQ-unsplash-scaled-e1688314343859.jpg
END:VEVENT
BEGIN:VEVENT
DTSTART;TZID=Europe/Paris:20240718T180000
DTEND;TZID=Europe/Paris:20240718T180000
DTSTAMP:20260419T203915
CREATED:20240721T133457Z
LAST-MODIFIED:20240721T133457Z
UID:12135-1721325600-1721325600@gouville-sur-mer.fr
SUMMARY:Apéro-concert
DESCRIPTION:En savoir plus
URL:https://gouville-sur-mer.fr/event/apero-concert-3/
LOCATION:Théatre de verdure
END:VEVENT
BEGIN:VEVENT
DTSTART;TZID=Europe/Paris:20240718T190000
DTEND;TZID=Europe/Paris:20240718T203000
DTSTAMP:20260419T203915
CREATED:20240528T102343Z
LAST-MODIFIED:20240709T182528Z
UID:11252-1721329200-1721334600@gouville-sur-mer.fr
SUMMARY:Réunion publique
DESCRIPTION:Plan de Prévention des Risques Naturels d’Agon-Coutainville à Bretteville-sur-Ay \nSecteurs de Gouville-sur-mer\, Geffosses\, Pirou et Créances \nEn savoir plus
URL:https://gouville-sur-mer.fr/event/reunion-publique/
LOCATION:Salle Claude Massu de Pirou-plage
CATEGORIES:Réunion publique
ATTACH;FMTTYPE=image/jpeg:https://gouville-sur-mer.fr/wp-content/uploads/2023/07/Dune_g-e1689787019499-copie.jpg
END:VEVENT
BEGIN:VEVENT
DTSTART;TZID=Europe/Paris:20240718T193000
DTEND;TZID=Europe/Paris:20240718T233000
DTSTAMP:20260419T203915
CREATED:20240722T064220Z
LAST-MODIFIED:20240722T064220Z
UID:12154-1721331000-1721345400@gouville-sur-mer.fr
SUMMARY:Loto
DESCRIPTION:En savoir plus
URL:https://gouville-sur-mer.fr/event/loto-3/
LOCATION:Salle des fêtes de Gouville-sur-mer\, 19 route de Coutances\, Gouville-sur-mer\, 50560\, France
ATTACH;FMTTYPE=image/jpeg:https://gouville-sur-mer.fr/wp-content/uploads/2023/06/russkoe-loto-g0e5fbba96_1280.jpg
END:VEVENT
BEGIN:VEVENT
DTSTART;TZID=Europe/Paris:20240718T200000
DTEND;TZID=Europe/Paris:20240718T220000
DTSTAMP:20260419T203915
CREATED:20240723T155041Z
LAST-MODIFIED:20240723T155041Z
UID:12201-1721332800-1721340000@gouville-sur-mer.fr
SUMMARY:Randonnée à la plage
DESCRIPTION:
URL:https://gouville-sur-mer.fr/event/randonnee-a-la-plage/
END:VEVENT
BEGIN:VEVENT
DTSTART;TZID=Europe/Paris:20240719T160000
DTEND;TZID=Europe/Paris:20240719T173000
DTSTAMP:20260419T203915
CREATED:20240715T171241Z
LAST-MODIFIED:20240715T171251Z
UID:12040-1721404800-1721410200@gouville-sur-mer.fr
SUMMARY:Restitution des ateliers de jeux poétiques
DESCRIPTION:En savoir plus
URL:https://gouville-sur-mer.fr/event/restitution-des-ateliers-de-jeux-poetiques/
LOCATION:Théatre de verdure
ATTACH;FMTTYPE=image/jpeg:https://gouville-sur-mer.fr/wp-content/uploads/2024/07/pexels-pnw-prod-8998192-scaled.jpg
END:VEVENT
BEGIN:VEVENT
DTSTART;VALUE=DATE:20240720
DTEND;VALUE=DATE:20240811
DTSTAMP:20260419T203915
CREATED:20240612T150442Z
LAST-MODIFIED:20240728T165644Z
UID:11391-1721433600-1723334399@gouville-sur-mer.fr
SUMMARY:Attelages grandes marées
DESCRIPTION:  \nPlus d’informations
URL:https://gouville-sur-mer.fr/event/attelage-grandes-marees-17/
LOCATION:Cale de Gouville (face SNSM)
ATTACH;FMTTYPE=image/jpeg:https://gouville-sur-mer.fr/wp-content/uploads/2023/09/attelage.jpg
END:VEVENT
END:VCALENDAR