BEGIN:VCALENDAR
VERSION:2.0
PRODID:-//Gouville-sur-mer - ECPv6.15.18//NONSGML v1.0//EN
CALSCALE:GREGORIAN
METHOD:PUBLISH
X-WR-CALNAME:Gouville-sur-mer
X-ORIGINAL-URL:https://gouville-sur-mer.fr
X-WR-CALDESC:Évènements pour Gouville-sur-mer
REFRESH-INTERVAL;VALUE=DURATION:PT1H
X-Robots-Tag:noindex
X-PUBLISHED-TTL:PT1H
BEGIN:VTIMEZONE
TZID:Europe/Paris
BEGIN:DAYLIGHT
TZOFFSETFROM:+0100
TZOFFSETTO:+0200
TZNAME:CEST
DTSTART:20230326T010000
END:DAYLIGHT
BEGIN:STANDARD
TZOFFSETFROM:+0200
TZOFFSETTO:+0100
TZNAME:CET
DTSTART:20231029T010000
END:STANDARD
BEGIN:DAYLIGHT
TZOFFSETFROM:+0100
TZOFFSETTO:+0200
TZNAME:CEST
DTSTART:20240331T010000
END:DAYLIGHT
BEGIN:STANDARD
TZOFFSETFROM:+0200
TZOFFSETTO:+0100
TZNAME:CET
DTSTART:20241027T010000
END:STANDARD
BEGIN:DAYLIGHT
TZOFFSETFROM:+0100
TZOFFSETTO:+0200
TZNAME:CEST
DTSTART:20250330T010000
END:DAYLIGHT
BEGIN:STANDARD
TZOFFSETFROM:+0200
TZOFFSETTO:+0100
TZNAME:CET
DTSTART:20251026T010000
END:STANDARD
END:VTIMEZONE
BEGIN:VEVENT
DTSTART;VALUE=DATE:20240901
DTEND;VALUE=DATE:20240902
DTSTAMP:20260420T000852
CREATED:20240826T141703Z
LAST-MODIFIED:20240826T141829Z
UID:12461-1725148800-1725235199@gouville-sur-mer.fr
SUMMARY:Randonnée canine
DESCRIPTION:En savoir plus
URL:https://gouville-sur-mer.fr/event/randonnee-canine/
LOCATION:Cale de Gouville (face SNSM)
ATTACH;FMTTYPE=image/jpeg:https://gouville-sur-mer.fr/wp-content/uploads/2024/08/rando_canine.jpg
END:VEVENT
BEGIN:VEVENT
DTSTART;TZID=Europe/Paris:20240902T133000
DTEND;TZID=Europe/Paris:20240902T170000
DTSTAMP:20260420T000852
CREATED:20240830T093851Z
LAST-MODIFIED:20240830T093851Z
UID:12507-1725283800-1725296400@gouville-sur-mer.fr
SUMMARY:Bus France-Service
DESCRIPTION:En savoir plus
URL:https://gouville-sur-mer.fr/event/bus-france-service-8/
ATTACH;FMTTYPE=image/jpeg:https://gouville-sur-mer.fr/wp-content/uploads/2022/11/305479481_1446445212521996_4692782395232731535_n.jpg
END:VEVENT
BEGIN:VEVENT
DTSTART;TZID=Europe/Paris:20240903T143000
DTEND;TZID=Europe/Paris:20240903T180000
DTSTAMP:20260420T000852
CREATED:20240908T172649Z
LAST-MODIFIED:20240908T172649Z
UID:12549-1725373800-1725386400@gouville-sur-mer.fr
SUMMARY:Randonnée à Blainville
DESCRIPTION:En savoir plus
URL:https://gouville-sur-mer.fr/event/randonnee-a-blainville-2/
ATTACH;FMTTYPE=image/jpeg:https://gouville-sur-mer.fr/wp-content/uploads/2023/08/pexels_rando.jpeg
END:VEVENT
BEGIN:VEVENT
DTSTART;VALUE=DATE:20240905
DTEND;VALUE=DATE:20240906
DTSTAMP:20260420T000852
CREATED:20240829T083453Z
LAST-MODIFIED:20240829T084007Z
UID:12482-1725494400-1725580799@gouville-sur-mer.fr
SUMMARY:Visite de la ferronnerie Picard-Dubosq
DESCRIPTION:En savoir plus
URL:https://gouville-sur-mer.fr/event/visite-de-la-ferronnerie-picard-dubosq/
ATTACH;FMTTYPE=image/png:https://gouville-sur-mer.fr/wp-content/uploads/2023/06/visites_jeudi.png
END:VEVENT
BEGIN:VEVENT
DTSTART;TZID=Europe/Paris:20240907T090000
DTEND;TZID=Europe/Paris:20240907T130000
DTSTAMP:20260420T000852
CREATED:20240826T133849Z
LAST-MODIFIED:20240907T082157Z
UID:12452-1725699600-1725714000@gouville-sur-mer.fr
SUMMARY:Forum des associations
DESCRIPTION:
URL:https://gouville-sur-mer.fr/event/forum-des-associations-2/
LOCATION:Salle des fêtes de Gouville-sur-mer\, 19 route de Coutances\, Gouville-sur-mer\, 50560\, France
ATTACH;FMTTYPE=image/png:https://gouville-sur-mer.fr/wp-content/uploads/2024/08/childlike-seniors-superheroes-giving-high-five-scaled-1.png
END:VEVENT
BEGIN:VEVENT
DTSTART;TZID=Europe/Paris:20240909T100000
DTEND;TZID=Europe/Paris:20240909T170000
DTSTAMP:20260420T000852
CREATED:20240829T085133Z
LAST-MODIFIED:20240829T085230Z
UID:12488-1725876000-1725901200@gouville-sur-mer.fr
SUMMARY:Atelier horticulture
DESCRIPTION:En savoir plus
URL:https://gouville-sur-mer.fr/event/atelier-horticulture-4/
ATTACH;FMTTYPE=image/png:https://gouville-sur-mer.fr/wp-content/uploads/2024/08/horticulture.png
END:VEVENT
BEGIN:VEVENT
DTSTART;TZID=Europe/Paris:20240910T093000
DTEND;TZID=Europe/Paris:20240910T180000
DTSTAMP:20260420T000852
CREATED:20240908T172901Z
LAST-MODIFIED:20240908T173439Z
UID:12551-1725960600-1725991200@gouville-sur-mer.fr
SUMMARY:Randonnées à Carolles
DESCRIPTION:En savoir plus
URL:https://gouville-sur-mer.fr/event/randonnee-a-carolles/
ATTACH;FMTTYPE=image/jpeg:https://gouville-sur-mer.fr/wp-content/uploads/2023/08/pexels_rando.jpeg
END:VEVENT
BEGIN:VEVENT
DTSTART;TZID=Europe/Paris:20240914T120000
DTEND;TZID=Europe/Paris:20240914T170000
DTSTAMP:20260420T000852
CREATED:20240828T134215Z
LAST-MODIFIED:20240828T134215Z
UID:12478-1726315200-1726333200@gouville-sur-mer.fr
SUMMARY:Balade moto pour Anaïs
DESCRIPTION:Balade organisée par By Cœur Boys. \nDépart et arrivée à Coutances.
URL:https://gouville-sur-mer.fr/event/balade-moto-pour-anais/
ATTACH;FMTTYPE=image/jpeg:https://gouville-sur-mer.fr/wp-content/uploads/2024/08/balade-moto-Anais-2024.png.jpg
END:VEVENT
BEGIN:VEVENT
DTSTART;TZID=Europe/Paris:20240917T140000
DTEND;TZID=Europe/Paris:20240917T180000
DTSTAMP:20260420T000852
CREATED:20240908T173014Z
LAST-MODIFIED:20240908T173014Z
UID:12553-1726581600-1726596000@gouville-sur-mer.fr
SUMMARY:Randonnée à Saint-Sauveur-Lendelin
DESCRIPTION:En savoir plus
URL:https://gouville-sur-mer.fr/event/randonnee-a-saint-sauveur-lendelin/
ATTACH;FMTTYPE=image/jpeg:https://gouville-sur-mer.fr/wp-content/uploads/2023/08/pexels_rando.jpeg
END:VEVENT
BEGIN:VEVENT
DTSTART;TZID=Europe/Paris:20240918T133000
DTEND;TZID=Europe/Paris:20240918T170000
DTSTAMP:20260420T000852
CREATED:20240830T093514Z
LAST-MODIFIED:20240830T093520Z
UID:12504-1726666200-1726678800@gouville-sur-mer.fr
SUMMARY:Bus France-Service
DESCRIPTION:En savoir plus
URL:https://gouville-sur-mer.fr/event/bus-france-service-7/
ATTACH;FMTTYPE=image/jpeg:https://gouville-sur-mer.fr/wp-content/uploads/2022/11/305479481_1446445212521996_4692782395232731535_n.jpg
END:VEVENT
BEGIN:VEVENT
DTSTART;VALUE=DATE:20240921
DTEND;VALUE=DATE:20240923
DTSTAMP:20260420T000852
CREATED:20240711T174217Z
LAST-MODIFIED:20240917T150631Z
UID:11994-1726876800-1727049599@gouville-sur-mer.fr
SUMMARY:La vague vénitienne
DESCRIPTION:Programme complet
URL:https://gouville-sur-mer.fr/event/la-vague-venitienne/
ATTACH;FMTTYPE=image/jpeg:https://gouville-sur-mer.fr/wp-content/uploads/2024/09/affiche-1.jpg
ORGANIZER;CN="Association les amis du moulin de Gouville":MAILTO:ladm50560@gmail.com
END:VEVENT
BEGIN:VEVENT
DTSTART;TZID=Europe/Paris:20240921T100000
DTEND;TZID=Europe/Paris:20240921T120000
DTSTAMP:20260420T000852
CREATED:20240908T170811Z
LAST-MODIFIED:20240908T170811Z
UID:12537-1726912800-1726920000@gouville-sur-mer.fr
SUMMARY:Atelier tricot : spécial chaussettes
DESCRIPTION:
URL:https://gouville-sur-mer.fr/event/atelier-tricot-special-chaussettes/
LOCATION:La médiathèque de Gouville\, 6\, route de Coutances\, Gouville-sur-mer\, 50560\, France
ATTACH;FMTTYPE=image/jpeg:https://gouville-sur-mer.fr/wp-content/uploads/2024/09/pexels-kseniachernaya-5806968-scaled-e1725979037110.jpg
END:VEVENT
BEGIN:VEVENT
DTSTART;TZID=Europe/Paris:20240921T100000
DTEND;TZID=Europe/Paris:20240921T200000
DTSTAMP:20260420T000852
CREATED:20240917T145951Z
LAST-MODIFIED:20240917T145951Z
UID:12605-1726912800-1726948800@gouville-sur-mer.fr
SUMMARY:Marché artisanal
DESCRIPTION:
URL:https://gouville-sur-mer.fr/event/marche-artisanal/
ATTACH;FMTTYPE=image/jpeg:https://gouville-sur-mer.fr/wp-content/uploads/2023/07/wu-yi-4NE2L1n1NpQ-unsplash-scaled-e1688314343859.jpg
END:VEVENT
BEGIN:VEVENT
DTSTART;TZID=Europe/Paris:20240921T180000
DTEND;TZID=Europe/Paris:20240921T193000
DTSTAMP:20260420T000852
CREATED:20240902T173126Z
LAST-MODIFIED:20240902T173126Z
UID:12512-1726941600-1726947000@gouville-sur-mer.fr
SUMMARY:Concert "Les ondes galantes"
DESCRIPTION:
URL:https://gouville-sur-mer.fr/event/concert-les-ondes-galantes/
LOCATION:Moulin de Gouville
ATTACH;FMTTYPE=image/jpeg:https://gouville-sur-mer.fr/wp-content/uploads/2024/09/concert_ondes_galandes-e1726047633110.jpg
END:VEVENT
BEGIN:VEVENT
DTSTART;TZID=Europe/Paris:20240921T190000
DTEND;TZID=Europe/Paris:20240921T210000
DTSTAMP:20260420T000852
CREATED:20240912T155408Z
LAST-MODIFIED:20240912T155423Z
UID:12579-1726945200-1726952400@gouville-sur-mer.fr
SUMMARY:Promenade aux lampions
DESCRIPTION:Au départ du moulin de Gouville. \nEn savoir plus
URL:https://gouville-sur-mer.fr/event/promenade-aux-lampions/
ATTACH;FMTTYPE=image/png:https://gouville-sur-mer.fr/wp-content/uploads/2024/09/Affiche-bleue-sombre-avec-lanterne-du-bal-des-finissants-e1726156579216.png
END:VEVENT
BEGIN:VEVENT
DTSTART;TZID=Europe/Paris:20240924T093000
DTEND;TZID=Europe/Paris:20240924T180000
DTSTAMP:20260420T000852
CREATED:20240908T173157Z
LAST-MODIFIED:20240908T173157Z
UID:12555-1727170200-1727200800@gouville-sur-mer.fr
SUMMARY:Randonnées à Saint-Clair-sur-Elle et Cerisy-la-Forêt
DESCRIPTION:En savoir plus
URL:https://gouville-sur-mer.fr/event/randonnees-a-saint-clair-sur-elle-et-cerisy-la-foret/
ATTACH;FMTTYPE=image/jpeg:https://gouville-sur-mer.fr/wp-content/uploads/2023/08/pexels_rando.jpeg
END:VEVENT
BEGIN:VEVENT
DTSTART;TZID=Europe/Paris:20240926T203000
DTEND;TZID=Europe/Paris:20240926T203000
DTSTAMP:20260420T000852
CREATED:20240918T142808Z
LAST-MODIFIED:20240918T143034Z
UID:12609-1727382600-1727382600@gouville-sur-mer.fr
SUMMARY:Réunion du Conseil Municipal
DESCRIPTION:202409-Ordre du jour
URL:https://gouville-sur-mer.fr/event/reunion-du-conseil-municipal-25/
ATTACH;FMTTYPE=image/jpeg:https://gouville-sur-mer.fr/wp-content/uploads/2023/09/LSDC_DSC_2148_2-scaled-1.jpg
END:VEVENT
BEGIN:VEVENT
DTSTART;TZID=Europe/Paris:20240930T100000
DTEND;TZID=Europe/Paris:20240930T120000
DTSTAMP:20260420T000852
CREATED:20240908T170955Z
LAST-MODIFIED:20240908T170955Z
UID:12539-1727690400-1727697600@gouville-sur-mer.fr
SUMMARY:Bébés lecteurs
DESCRIPTION:
URL:https://gouville-sur-mer.fr/event/bebes-lecteurs-10/
LOCATION:La médiathèque de Gouville\, 6\, route de Coutances\, Gouville-sur-mer\, 50560\, France
ATTACH;FMTTYPE=image/jpeg:https://gouville-sur-mer.fr/wp-content/uploads/2023/05/picsea-EQlTyDZRx7U-unsplash-scaled.jpg
END:VEVENT
END:VCALENDAR