BEGIN:VCALENDAR
VERSION:2.0
PRODID:-//Gouville-sur-mer - ECPv6.15.18//NONSGML v1.0//EN
CALSCALE:GREGORIAN
METHOD:PUBLISH
X-ORIGINAL-URL:https://gouville-sur-mer.fr
X-WR-CALDESC:Évènements pour Gouville-sur-mer
REFRESH-INTERVAL;VALUE=DURATION:PT1H
X-Robots-Tag:noindex
X-PUBLISHED-TTL:PT1H
BEGIN:VTIMEZONE
TZID:Europe/Paris
BEGIN:DAYLIGHT
TZOFFSETFROM:+0100
TZOFFSETTO:+0200
TZNAME:CEST
DTSTART:20230326T010000
END:DAYLIGHT
BEGIN:STANDARD
TZOFFSETFROM:+0200
TZOFFSETTO:+0100
TZNAME:CET
DTSTART:20231029T010000
END:STANDARD
BEGIN:DAYLIGHT
TZOFFSETFROM:+0100
TZOFFSETTO:+0200
TZNAME:CEST
DTSTART:20240331T010000
END:DAYLIGHT
BEGIN:STANDARD
TZOFFSETFROM:+0200
TZOFFSETTO:+0100
TZNAME:CET
DTSTART:20241027T010000
END:STANDARD
BEGIN:DAYLIGHT
TZOFFSETFROM:+0100
TZOFFSETTO:+0200
TZNAME:CEST
DTSTART:20250330T010000
END:DAYLIGHT
BEGIN:STANDARD
TZOFFSETFROM:+0200
TZOFFSETTO:+0100
TZNAME:CET
DTSTART:20251026T010000
END:STANDARD
END:VTIMEZONE
BEGIN:VEVENT
DTSTART;TZID=Europe/Paris:20241020T143000
DTEND;TZID=Europe/Paris:20241103T180000
DTSTAMP:20260420T033105
CREATED:20241020T091437Z
LAST-MODIFIED:20241020T091544Z
UID:12771-1729434600-1730656800@gouville-sur-mer.fr
SUMMARY:Sénequ'ART
DESCRIPTION:Exposition à la Filature
URL:https://gouville-sur-mer.fr/event/senequart/
LOCATION:La Filature
ATTACH;FMTTYPE=image/jpeg:https://gouville-sur-mer.fr/wp-content/uploads/2022/06/LSDC__LSD8740-scaled.jpg
END:VEVENT
BEGIN:VEVENT
DTSTART;TZID=Europe/Paris:20241104T100000
DTEND;TZID=Europe/Paris:20241104T120000
DTSTAMP:20260420T033105
CREATED:20241103T055127Z
LAST-MODIFIED:20241103T055127Z
UID:12834-1730714400-1730721600@gouville-sur-mer.fr
SUMMARY:Bébé lecteur
DESCRIPTION:En savoir plus
URL:https://gouville-sur-mer.fr/event/bebe-lecteur-5/
LOCATION:La médiathèque de Gouville\, 6\, route de Coutances\, Gouville-sur-mer\, 50560\, France
ATTACH;FMTTYPE=image/jpeg:https://gouville-sur-mer.fr/wp-content/uploads/2024/07/pexels-karolina-grabowska-7269494-scaled.jpg
END:VEVENT
BEGIN:VEVENT
DTSTART;TZID=Europe/Paris:20241105T140000
DTEND;TZID=Europe/Paris:20241105T180000
DTSTAMP:20260420T033105
CREATED:20240919T141142Z
LAST-MODIFIED:20240919T141142Z
UID:12627-1730815200-1730829600@gouville-sur-mer.fr
SUMMARY:Randonnée à Gratôt
DESCRIPTION:En savoir plus
URL:https://gouville-sur-mer.fr/event/randonnee-a-gratot-3/
ATTACH;FMTTYPE=image/jpeg:https://gouville-sur-mer.fr/wp-content/uploads/2023/08/pexels_rando.jpeg
END:VEVENT
BEGIN:VEVENT
DTSTART;VALUE=DATE:20241111
DTEND;VALUE=DATE:20241112
DTSTAMP:20260420T033105
CREATED:20241011T101149Z
LAST-MODIFIED:20241011T101418Z
UID:12737-1731283200-1731369599@gouville-sur-mer.fr
SUMMARY:Cérémonies du 11 novembre
DESCRIPTION:En savoir plus
URL:https://gouville-sur-mer.fr/event/ceremonies-du-11-novembre-3/
ATTACH;FMTTYPE=image/jpeg:https://gouville-sur-mer.fr/wp-content/uploads/2022/05/pierre-borthiry-9PB1D5qNjio-unsplash-scaled-e1653303077769.jpg
END:VEVENT
BEGIN:VEVENT
DTSTART;TZID=Europe/Paris:20241112T140000
DTEND;TZID=Europe/Paris:20241112T180000
DTSTAMP:20260420T033105
CREATED:20240919T141027Z
LAST-MODIFIED:20240919T141027Z
UID:12625-1731420000-1731434400@gouville-sur-mer.fr
SUMMARY:Randonnée à Agon-Coutainville
DESCRIPTION:En savoir plus
URL:https://gouville-sur-mer.fr/event/randonnee-a-agon-coutainville-4/
ATTACH;FMTTYPE=image/jpeg:https://gouville-sur-mer.fr/wp-content/uploads/2023/08/pexels_rando.jpeg
END:VEVENT
BEGIN:VEVENT
DTSTART;TZID=Europe/Paris:20241116T100000
DTEND;TZID=Europe/Paris:20241116T120000
DTSTAMP:20260420T033105
CREATED:20241029T080558Z
LAST-MODIFIED:20241104T174948Z
UID:12807-1731751200-1731758400@gouville-sur-mer.fr
SUMMARY:Atelier initiation modelage
DESCRIPTION:En savoir plus
URL:https://gouville-sur-mer.fr/event/atelier-initiation-modelage-2/
LOCATION:Dereva Studio
ATTACH;FMTTYPE=image/png:https://gouville-sur-mer.fr/wp-content/uploads/2024/06/modelage_parents-enfants.png
END:VEVENT
BEGIN:VEVENT
DTSTART;TZID=Europe/Paris:20241119T140000
DTEND;TZID=Europe/Paris:20241119T180000
DTSTAMP:20260420T033105
CREATED:20240919T141343Z
LAST-MODIFIED:20240919T141343Z
UID:12631-1732024800-1732039200@gouville-sur-mer.fr
SUMMARY:Randonnée à Monthuchon
DESCRIPTION:En savoir plus
URL:https://gouville-sur-mer.fr/event/randonnee-a-monthuchon-2/
ATTACH;FMTTYPE=image/jpeg:https://gouville-sur-mer.fr/wp-content/uploads/2023/08/pexels_rando.jpeg
END:VEVENT
BEGIN:VEVENT
DTSTART;TZID=Europe/Paris:20241123T203000
DTEND;TZID=Europe/Paris:20241123T230000
DTSTAMP:20260420T033105
CREATED:20241114T091305Z
LAST-MODIFIED:20241114T091525Z
UID:12873-1732393800-1732402800@gouville-sur-mer.fr
SUMMARY:Soirée loto
DESCRIPTION:
URL:https://gouville-sur-mer.fr/event/soiree-loto/
LOCATION:Salle des fêtes de Gouville-sur-mer\, 19 route de Coutances\, Gouville-sur-mer\, 50560\, France
ATTACH;FMTTYPE=image/png:https://gouville-sur-mer.fr/wp-content/uploads/2024/11/loto.png
END:VEVENT
BEGIN:VEVENT
DTSTART;TZID=Europe/Paris:20241126T140000
DTEND;TZID=Europe/Paris:20241126T180000
DTSTAMP:20260420T033105
CREATED:20240919T141251Z
LAST-MODIFIED:20240919T141251Z
UID:12629-1732629600-1732644000@gouville-sur-mer.fr
SUMMARY:Randonnée à Orval
DESCRIPTION:En savoir plus
URL:https://gouville-sur-mer.fr/event/randonnee-a-orval-2/
ATTACH;FMTTYPE=image/jpeg:https://gouville-sur-mer.fr/wp-content/uploads/2023/08/pexels_rando.jpeg
END:VEVENT
BEGIN:VEVENT
DTSTART;TZID=Europe/Paris:20241127T133000
DTEND;TZID=Europe/Paris:20241127T170000
DTSTAMP:20260420T033105
CREATED:20240924T094733Z
LAST-MODIFIED:20240924T094802Z
UID:12661-1732714200-1732726800@gouville-sur-mer.fr
SUMMARY:Bus France Service
DESCRIPTION:En savoir plus
URL:https://gouville-sur-mer.fr/event/bus-france-service-12/
LOCATION:Parking de la Poste
ATTACH;FMTTYPE=image/jpeg:https://gouville-sur-mer.fr/wp-content/uploads/2022/11/305479481_1446445212521996_4692782395232731535_n.jpg
END:VEVENT
BEGIN:VEVENT
DTSTART;TZID=Europe/Paris:20241128T203000
DTEND;TZID=Europe/Paris:20241128T203000
DTSTAMP:20260420T033105
CREATED:20241121T101309Z
LAST-MODIFIED:20241122T095700Z
UID:12895-1732825800-1732825800@gouville-sur-mer.fr
SUMMARY:Réunion du conseil municipal
DESCRIPTION:Ordre du jour : \n– Désignation d’un secrétaire de séance\n– Approbation du procès-verbal de la réunion du 30 octobre 2024\n– Communiqués\n– Approbation du zonage d’assainissement des territoires de Boisroger et Montsurvent\n– Convention subvention « Piaje » – CAF pour la construction de la MAM\n– Réparation de l’ascenseur de la Filature\n– Aménagement de trottoirs Maison Rougeot- rue de la Vasserie\n– Projet d’aménagement cimetière de Montsurvent et Servigny\n– Etude d’une demande de garantie\n– Intervention sur nos ouvrages de protection douce\n– Révision des quotas d’avancement\n– Remplacement du camion benne des services techniques\n– Révision du prix de la part communale assainissement collectif\n– Projet d’achat terrain Consort Leclerc\n– Divers
URL:https://gouville-sur-mer.fr/event/reunion-du-conseil-municipal-26/
LOCATION:Mairie de Gouville
ATTACH;FMTTYPE=image/jpeg:https://gouville-sur-mer.fr/wp-content/uploads/2023/09/LSDC_DSC_2148_2-scaled-1.jpg
END:VEVENT
BEGIN:VEVENT
DTSTART;TZID=Europe/Paris:20241130T100000
DTEND;TZID=Europe/Paris:20241201T180000
DTSTAMP:20260420T033105
CREATED:20241129T162730Z
LAST-MODIFIED:20241129T162730Z
UID:12909-1732960800-1733076000@gouville-sur-mer.fr
SUMMARY:Marché de Noël d'Anneville
DESCRIPTION:
URL:https://gouville-sur-mer.fr/event/marche-de-noel-danneville-2/
LOCATION:Anneville – Salle de la convivialité\, 1 rue de Bougainville\, Anneville-sur-mer\, 50560\, France
ATTACH;FMTTYPE=image/png:https://gouville-sur-mer.fr/wp-content/uploads/2024/11/marche_noel_anneville.png
END:VEVENT
BEGIN:VEVENT
DTSTART;TZID=Europe/Paris:20241130T140000
DTEND;TZID=Europe/Paris:20241130T170000
DTSTAMP:20260420T033105
CREATED:20241114T133250Z
LAST-MODIFIED:20241114T133250Z
UID:12882-1732975200-1732986000@gouville-sur-mer.fr
SUMMARY:Randonnée du Téléthon
DESCRIPTION:En savoir plus
URL:https://gouville-sur-mer.fr/event/randonnee-du-telethon-3/
ATTACH;FMTTYPE=image/webp:https://gouville-sur-mer.fr/wp-content/uploads/2024/11/telethon-2024.webp
END:VEVENT
BEGIN:VEVENT
DTSTART;TZID=Europe/Paris:20241130T203000
DTEND;TZID=Europe/Paris:20241130T220000
DTSTAMP:20260420T033105
CREATED:20241116T095835Z
LAST-MODIFIED:20241116T101203Z
UID:12886-1732998600-1733004000@gouville-sur-mer.fr
SUMMARY:Théâtre : "Touchez pas au tapis"
DESCRIPTION:La compagnie gouvillaise joue à Blainville. \nEn savoir plus
URL:https://gouville-sur-mer.fr/event/theatre-touchez-pas-au-tapis/
LOCATION:Salle des fetes de Blainville
ATTACH;FMTTYPE=image/jpeg:https://gouville-sur-mer.fr/wp-content/uploads/2024/11/theatre.jpg
END:VEVENT
END:VCALENDAR