BEGIN:VCALENDAR
VERSION:2.0
PRODID:-//Gouville-sur-mer - ECPv6.15.18//NONSGML v1.0//EN
CALSCALE:GREGORIAN
METHOD:PUBLISH
X-ORIGINAL-URL:https://gouville-sur-mer.fr
X-WR-CALDESC:Évènements pour Gouville-sur-mer
REFRESH-INTERVAL;VALUE=DURATION:PT1H
X-Robots-Tag:noindex
X-PUBLISHED-TTL:PT1H
BEGIN:VTIMEZONE
TZID:Europe/Paris
BEGIN:DAYLIGHT
TZOFFSETFROM:+0100
TZOFFSETTO:+0200
TZNAME:CEST
DTSTART:20240331T010000
END:DAYLIGHT
BEGIN:STANDARD
TZOFFSETFROM:+0200
TZOFFSETTO:+0100
TZNAME:CET
DTSTART:20241027T010000
END:STANDARD
BEGIN:DAYLIGHT
TZOFFSETFROM:+0100
TZOFFSETTO:+0200
TZNAME:CEST
DTSTART:20250330T010000
END:DAYLIGHT
BEGIN:STANDARD
TZOFFSETFROM:+0200
TZOFFSETTO:+0100
TZNAME:CET
DTSTART:20251026T010000
END:STANDARD
BEGIN:DAYLIGHT
TZOFFSETFROM:+0100
TZOFFSETTO:+0200
TZNAME:CEST
DTSTART:20260329T010000
END:DAYLIGHT
BEGIN:STANDARD
TZOFFSETFROM:+0200
TZOFFSETTO:+0100
TZNAME:CET
DTSTART:20261025T010000
END:STANDARD
END:VTIMEZONE
BEGIN:VEVENT
DTSTART;TZID=Europe/Paris:20250104T180000
DTEND;TZID=Europe/Paris:20250104T193000
DTSTAMP:20260420T070236
CREATED:20241212T093613Z
LAST-MODIFIED:20241212T093613Z
UID:12923-1736013600-1736019000@gouville-sur-mer.fr
SUMMARY:Vœux du maire
DESCRIPTION:
URL:https://gouville-sur-mer.fr/event/voeux-du-maire/
LOCATION:Salle des fêtes de Gouville-sur-mer\, 19 route de Coutances\, Gouville-sur-mer\, 50560\, France
ATTACH;FMTTYPE=image/gif:https://gouville-sur-mer.fr/wp-content/uploads/2024/12/2025_carteweb.gif
END:VEVENT
BEGIN:VEVENT
DTSTART;TZID=Europe/Paris:20250106T100000
DTEND;TZID=Europe/Paris:20250106T120000
DTSTAMP:20260420T070236
CREATED:20241227T162958Z
LAST-MODIFIED:20241227T162958Z
UID:12980-1736157600-1736164800@gouville-sur-mer.fr
SUMMARY:Bébé lecteur
DESCRIPTION:En savoir plus
URL:https://gouville-sur-mer.fr/event/bebe-lecteur-4/
LOCATION:La médiathèque de Gouville\, 6\, route de Coutances\, Gouville-sur-mer\, 50560\, France
ORGANIZER;CN="R%C3%A9seau des biblioth%C3%A8ques de Coutances mer et bocage":MAILTO:mediatheque.gouville@communaute-coutances.fr
END:VEVENT
BEGIN:VEVENT
DTSTART;TZID=Europe/Paris:20250107T140000
DTEND;TZID=Europe/Paris:20250107T180000
DTSTAMP:20260420T070236
CREATED:20241227T165231Z
LAST-MODIFIED:20241227T165231Z
UID:12993-1736258400-1736272800@gouville-sur-mer.fr
SUMMARY:Randonnée à St Malo de la Lande
DESCRIPTION:En savoir plus
URL:https://gouville-sur-mer.fr/event/randonnee-a-st-malo-de-la-lande-2/
ATTACH;FMTTYPE=image/jpeg:https://gouville-sur-mer.fr/wp-content/uploads/2023/08/pexels_rando.jpeg
END:VEVENT
BEGIN:VEVENT
DTSTART;TZID=Europe/Paris:20250108T203000
DTEND;TZID=Europe/Paris:20250108T223000
DTSTAMP:20260420T070236
CREATED:20250107T122605Z
LAST-MODIFIED:20250107T122605Z
UID:13051-1736368200-1736375400@gouville-sur-mer.fr
SUMMARY:Réunion du conseil municipal
DESCRIPTION:
URL:https://gouville-sur-mer.fr/event/reunion-du-conseil-municipal-28/
LOCATION:Mairie de Gouville
ATTACH;FMTTYPE=image/jpeg:https://gouville-sur-mer.fr/wp-content/uploads/2023/09/LSDC_DSC_2148_2-scaled-1.jpg
END:VEVENT
BEGIN:VEVENT
DTSTART;VALUE=DATE:20250114
DTEND;VALUE=DATE:20250221
DTSTAMP:20260420T070236
CREATED:20241227T164225Z
LAST-MODIFIED:20241227T164321Z
UID:12990-1736812800-1740095999@gouville-sur-mer.fr
SUMMARY:Exposition à la médiathèque
DESCRIPTION:En savoir plus
URL:https://gouville-sur-mer.fr/event/exposition-a-la-mediatheque/
LOCATION:La médiathèque de Gouville\, 6\, route de Coutances\, Gouville-sur-mer\, 50560\, France
ATTACH;FMTTYPE=image/png:https://gouville-sur-mer.fr/wp-content/uploads/2024/12/contes.png
END:VEVENT
BEGIN:VEVENT
DTSTART;TZID=Europe/Paris:20250114T140000
DTEND;TZID=Europe/Paris:20250114T180000
DTSTAMP:20260420T070236
CREATED:20241227T170120Z
LAST-MODIFIED:20241227T170120Z
UID:13000-1736863200-1736877600@gouville-sur-mer.fr
SUMMARY:Randonnée à Annoville
DESCRIPTION:En savoir plus
URL:https://gouville-sur-mer.fr/event/randonnee-a-annoville/
ATTACH;FMTTYPE=image/jpeg:https://gouville-sur-mer.fr/wp-content/uploads/2023/08/pexels_rando.jpeg
END:VEVENT
BEGIN:VEVENT
DTSTART;TZID=Europe/Paris:20250120T203000
DTEND;TZID=Europe/Paris:20250120T223000
DTSTAMP:20260420T070236
CREATED:20250114T155122Z
LAST-MODIFIED:20250114T155122Z
UID:13061-1737405000-1737412200@gouville-sur-mer.fr
SUMMARY:Conseil municipal
DESCRIPTION:ORDRE DU JOUR : \n– Désignation d’un secrétaire de séance\n– Approbation des procès-verbaux des réunions du 16 décembre 2024 et du 8 janvier 2025\n– Communiqués\n– Avenant au bail de location des locaux à la MAM\n– Demandes de DETR\n– Projet Partenarial d’ Aménagement: relocalisation des campings\n– Demande de garantie pour les Sables d’Or\n– Propo1\,ition d’acquisition d’un terrain\n– Autorisation d’engager\, liquider et mandater les dépenses d’investissement dans l »attente du vote des BP 2025\n– Créances éteintes\n– Création d’un poste de rédacteur territorial principal de 1ère classe à plein temps pour 3 ans\n– Transfert ancien tracé RD 2 – commune déléguée de Montsurvent\n– Divers
URL:https://gouville-sur-mer.fr/event/conseil-municipal-4/
LOCATION:Mairie de Gouville
ATTACH;FMTTYPE=image/jpeg:https://gouville-sur-mer.fr/wp-content/uploads/2023/09/LSDC_DSC_2148_2-scaled-1.jpg
END:VEVENT
BEGIN:VEVENT
DTSTART;TZID=Europe/Paris:20250121T140000
DTEND;TZID=Europe/Paris:20250121T180000
DTSTAMP:20260420T070236
CREATED:20241227T170225Z
LAST-MODIFIED:20241227T170237Z
UID:13002-1737468000-1737482400@gouville-sur-mer.fr
SUMMARY:Randonnée à St Germain sur Ay
DESCRIPTION:En savoir plus
URL:https://gouville-sur-mer.fr/event/randonnee-a-st-germain-sur-ay/
ATTACH;FMTTYPE=image/jpeg:https://gouville-sur-mer.fr/wp-content/uploads/2023/08/pexels_rando.jpeg
END:VEVENT
BEGIN:VEVENT
DTSTART;TZID=Europe/Paris:20250126T140000
DTEND;TZID=Europe/Paris:20250126T170000
DTSTAMP:20260420T070236
CREATED:20250107T104145Z
LAST-MODIFIED:20250107T104234Z
UID:13049-1737900000-1737910800@gouville-sur-mer.fr
SUMMARY:Théâtre et galette
DESCRIPTION:En savoir plus
URL:https://gouville-sur-mer.fr/event/theatre-et-galette/
LOCATION:Salle des fêtes de Gouville-sur-mer\, 19 route de Coutances\, Gouville-sur-mer\, 50560\, France
ATTACH;FMTTYPE=image/jpeg:https://gouville-sur-mer.fr/wp-content/uploads/2023/01/pexels-cottonbro-4722544-scaled-e1736246317327.jpg
END:VEVENT
BEGIN:VEVENT
DTSTART;TZID=Europe/Paris:20250128T140000
DTEND;TZID=Europe/Paris:20250128T180000
DTSTAMP:20260420T070236
CREATED:20241227T170320Z
LAST-MODIFIED:20241227T170320Z
UID:13004-1738072800-1738087200@gouville-sur-mer.fr
SUMMARY:Randonnée à Gouville
DESCRIPTION:En savoir plus
URL:https://gouville-sur-mer.fr/event/randonnee-a-gouville-11/
ATTACH;FMTTYPE=image/jpeg:https://gouville-sur-mer.fr/wp-content/uploads/2023/08/pexels_rando.jpeg
END:VEVENT
END:VCALENDAR