BEGIN:VCALENDAR
VERSION:2.0
PRODID:-//Gouville-sur-mer - ECPv6.15.18//NONSGML v1.0//EN
CALSCALE:GREGORIAN
METHOD:PUBLISH
X-WR-CALNAME:Gouville-sur-mer
X-ORIGINAL-URL:https://gouville-sur-mer.fr
X-WR-CALDESC:Évènements pour Gouville-sur-mer
REFRESH-INTERVAL;VALUE=DURATION:PT1H
X-Robots-Tag:noindex
X-PUBLISHED-TTL:PT1H
BEGIN:VTIMEZONE
TZID:Europe/Paris
BEGIN:DAYLIGHT
TZOFFSETFROM:+0100
TZOFFSETTO:+0200
TZNAME:CEST
DTSTART:20240331T010000
END:DAYLIGHT
BEGIN:STANDARD
TZOFFSETFROM:+0200
TZOFFSETTO:+0100
TZNAME:CET
DTSTART:20241027T010000
END:STANDARD
BEGIN:DAYLIGHT
TZOFFSETFROM:+0100
TZOFFSETTO:+0200
TZNAME:CEST
DTSTART:20250330T010000
END:DAYLIGHT
BEGIN:STANDARD
TZOFFSETFROM:+0200
TZOFFSETTO:+0100
TZNAME:CET
DTSTART:20251026T010000
END:STANDARD
BEGIN:DAYLIGHT
TZOFFSETFROM:+0100
TZOFFSETTO:+0200
TZNAME:CEST
DTSTART:20260329T010000
END:DAYLIGHT
BEGIN:STANDARD
TZOFFSETFROM:+0200
TZOFFSETTO:+0100
TZNAME:CET
DTSTART:20261025T010000
END:STANDARD
END:VTIMEZONE
BEGIN:VEVENT
DTSTART;TZID=Europe/Paris:20250401T140000
DTEND;TZID=Europe/Paris:20250401T170000
DTSTAMP:20260420T122813
CREATED:20250220T095941Z
LAST-MODIFIED:20250220T095941Z
UID:13306-1743516000-1743526800@gouville-sur-mer.fr
SUMMARY:Randonnée à Blainville
DESCRIPTION:En savoir plus
URL:https://gouville-sur-mer.fr/event/randonnee-a-blainville-3/
ATTACH;FMTTYPE=image/jpeg:https://gouville-sur-mer.fr/wp-content/uploads/2023/08/pexels_rando.jpeg
END:VEVENT
BEGIN:VEVENT
DTSTART;VALUE=DATE:20250407
DTEND;VALUE=DATE:20250601
DTSTAMP:20260420T122813
CREATED:20250323T134130Z
LAST-MODIFIED:20250401T133807Z
UID:13595-1743984000-1748735999@gouville-sur-mer.fr
SUMMARY:Exposition "Dis-moi dix mots pour la planète"
DESCRIPTION:En savoir plus
URL:https://gouville-sur-mer.fr/event/exposition-dis-moi-dix-mots-pour-la-planete/
ATTACH;FMTTYPE=image/jpeg:https://gouville-sur-mer.fr/wp-content/uploads/2025/03/affiche_10mots-scaled.jpg
END:VEVENT
BEGIN:VEVENT
DTSTART;TZID=Europe/Paris:20250407T100000
DTEND;TZID=Europe/Paris:20250407T120000
DTSTAMP:20260420T122813
CREATED:20250323T123652Z
LAST-MODIFIED:20250323T123929Z
UID:13569-1744020000-1744027200@gouville-sur-mer.fr
SUMMARY:Bébés lecteurs
DESCRIPTION:
URL:https://gouville-sur-mer.fr/event/bebes-lecteurs-12/
LOCATION:La médiathèque de Gouville\, 6\, route de Coutances\, Gouville-sur-mer\, 50560\, France
ATTACH;FMTTYPE=image/jpeg:https://gouville-sur-mer.fr/wp-content/uploads/2022/11/children-4624899-pb.jpg
END:VEVENT
BEGIN:VEVENT
DTSTART;TZID=Europe/Paris:20250408T140000
DTEND;TZID=Europe/Paris:20250408T170000
DTSTAMP:20260420T122813
CREATED:20250220T100123Z
LAST-MODIFIED:20250220T100123Z
UID:13308-1744120800-1744131600@gouville-sur-mer.fr
SUMMARY:Randonnée à Notre-Dame-de-Cenilly
DESCRIPTION:En savoir plus
URL:https://gouville-sur-mer.fr/event/randonnee-a-notre-dame-de-cenilly/
ATTACH;FMTTYPE=image/jpeg:https://gouville-sur-mer.fr/wp-content/uploads/2023/08/pexels_rando.jpeg
END:VEVENT
BEGIN:VEVENT
DTSTART;VALUE=DATE:20250411
DTEND;VALUE=DATE:20250412
DTSTAMP:20260420T122813
CREATED:20250307T174150Z
LAST-MODIFIED:20250307T174330Z
UID:13419-1744329600-1744415999@gouville-sur-mer.fr
SUMMARY:Loto pour l’organisation des foulées gouvillaise
DESCRIPTION:
URL:https://gouville-sur-mer.fr/event/loto-pour-lorganisation-des-foulees-gouvillaise/
ATTACH;FMTTYPE=image/jpeg:https://gouville-sur-mer.fr/wp-content/uploads/2023/06/russkoe-loto-g0e5fbba96_1280.jpg
END:VEVENT
BEGIN:VEVENT
DTSTART;VALUE=DATE:20250411
DTEND;VALUE=DATE:20250413
DTSTAMP:20260420T122813
CREATED:20250323T130144Z
LAST-MODIFIED:20250323T130144Z
UID:13576-1744329600-1744502399@gouville-sur-mer.fr
SUMMARY:Rando sur le chemin des mots
DESCRIPTION:En savoir plus
URL:https://gouville-sur-mer.fr/event/rando-sur-le-chemin-des-mots/
ATTACH;FMTTYPE=image/jpeg:https://gouville-sur-mer.fr/wp-content/uploads/2025/03/rando_pexels.jpg
END:VEVENT
BEGIN:VEVENT
DTSTART;TZID=Europe/Paris:20250414T143000
DTEND;TZID=Europe/Paris:20250414T163000
DTSTAMP:20260420T122813
CREATED:20250330T171831Z
LAST-MODIFIED:20250330T171831Z
UID:13686-1744641000-1744648200@gouville-sur-mer.fr
SUMMARY:Palourdes\, pêche à la marque
DESCRIPTION:En savoir plus
URL:https://gouville-sur-mer.fr/event/palourdes-peche-a-la-marque/
ATTACH;FMTTYPE=image/jpeg:https://gouville-sur-mer.fr/wp-content/uploads/2025/03/pexels-kindelmedia-8352389.jpg
END:VEVENT
BEGIN:VEVENT
DTSTART;VALUE=DATE:20250415
DTEND;VALUE=DATE:20250416
DTSTAMP:20260420T122813
CREATED:20250319T154420Z
LAST-MODIFIED:20250319T154420Z
UID:13521-1744675200-1744761599@gouville-sur-mer.fr
SUMMARY:Randonnée à Belval
DESCRIPTION:En savoir plus
URL:https://gouville-sur-mer.fr/event/randonnee-a-belval/
ATTACH;FMTTYPE=image/jpeg:https://gouville-sur-mer.fr/wp-content/uploads/2023/08/pexels_rando.jpeg
END:VEVENT
BEGIN:VEVENT
DTSTART;TZID=Europe/Paris:20250415T180000
DTEND;TZID=Europe/Paris:20250415T203000
DTSTAMP:20260420T122813
CREATED:20250407T134441Z
LAST-MODIFIED:20250407T134441Z
UID:13759-1744740000-1744749000@gouville-sur-mer.fr
SUMMARY:Conseil Municipal
DESCRIPTION:ORDRE DU JOUR :\n– Désignation d’un secrétaire de séance\n– Approbation du procès-verbal du 19 mars 2025\n– Approbation des CFU 2024 (budgets commune\, camping\, assainissement\, lotissement de la Jeannerie II\, Montsurvent\, Anneville\, Rue du Nord\, Boisroger)\n– Vote des budgets primitifs 2025 (budgets commune\, camping\, assainissement\, lotissement de la Jeannerie II\, Montsurvent\, Anneville\, Rue du Nord\, Boisroger)\n– Vote des taux d’imposition 2025\n– Vote fongibilité des crédits (budget M57 – Commune)\n– Autorisation de programme pour le marché SARC / SITPO (Budget Assainissement)\n– Approbation des modalités d’amortissement des biens des budgets annexes (Camping etAssainissement)\n– Nouveaux amortissements à amortir à partir de 2025 (budget commune) :\n. Participation – TX extension électrique sur territoire Anneville\n. Extension électrique pr Mr Ph. BENQUET – Servigny\n. Extension électrique pr Mr MARIE et Mme JOIGNE- Boisroger\n. Cession Licence IV à Mr Hervé LESUEUR\n– Divers
URL:https://gouville-sur-mer.fr/event/conseil-municipal-5/
LOCATION:Mairie de Gouville
ATTACH;FMTTYPE=image/jpeg:https://gouville-sur-mer.fr/wp-content/uploads/2023/09/LSDC_DSC_2148_2-scaled-1.jpg
END:VEVENT
BEGIN:VEVENT
DTSTART;TZID=Europe/Paris:20250416T143000
DTEND;TZID=Europe/Paris:20250416T173000
DTSTAMP:20260420T122813
CREATED:20250323T131006Z
LAST-MODIFIED:20250323T131036Z
UID:13579-1744813800-1744824600@gouville-sur-mer.fr
SUMMARY:Jeux en famille
DESCRIPTION:En savoir plus
URL:https://gouville-sur-mer.fr/event/jeux-en-famille-3/
LOCATION:La médiathèque de Gouville\, 6\, route de Coutances\, Gouville-sur-mer\, 50560\, France
ATTACH;FMTTYPE=image/jpeg:https://gouville-sur-mer.fr/wp-content/uploads/2025/01/pexels-pixabay-209728-scaled.jpg
END:VEVENT
BEGIN:VEVENT
DTSTART;TZID=Europe/Paris:20250416T180000
DTEND;TZID=Europe/Paris:20250416T190000
DTSTAMP:20260420T122813
CREATED:20250323T132138Z
LAST-MODIFIED:20250323T132148Z
UID:13585-1744826400-1744830000@gouville-sur-mer.fr
SUMMARY:Jeu d'écriture
DESCRIPTION:En savoir plus
URL:https://gouville-sur-mer.fr/event/jeu-decriture/
LOCATION:La médiathèque de Gouville\, 6\, route de Coutances\, Gouville-sur-mer\, 50560\, France
ATTACH;FMTTYPE=image/jpeg:https://gouville-sur-mer.fr/wp-content/uploads/2025/03/pexels-lara-jameson-8828428-scaled.jpg
END:VEVENT
BEGIN:VEVENT
DTSTART;TZID=Europe/Paris:20250418T140000
DTEND;TZID=Europe/Paris:20250418T170000
DTSTAMP:20260420T122813
CREATED:20250323T133316Z
LAST-MODIFIED:20250401T143700Z
UID:13591-1744984800-1744995600@gouville-sur-mer.fr
SUMMARY:La fresque du climat
DESCRIPTION:  \nEn savoir plus \n 
URL:https://gouville-sur-mer.fr/event/la-fresque-du-climat/
LOCATION:La médiathèque de Gouville\, 6\, route de Coutances\, Gouville-sur-mer\, 50560\, France
ATTACH;FMTTYPE=image/png:https://gouville-sur-mer.fr/wp-content/uploads/2025/03/Fesque-climat.png
END:VEVENT
BEGIN:VEVENT
DTSTART;VALUE=DATE:20250422
DTEND;VALUE=DATE:20250423
DTSTAMP:20260420T122813
CREATED:20250319T154633Z
LAST-MODIFIED:20250319T155105Z
UID:13523-1745280000-1745366399@gouville-sur-mer.fr
SUMMARY:Randonnée à Ver
DESCRIPTION:En savoir plus
URL:https://gouville-sur-mer.fr/event/randonnee-a-ver-2/
ATTACH;FMTTYPE=image/jpeg:https://gouville-sur-mer.fr/wp-content/uploads/2023/08/pexels_rando.jpeg
END:VEVENT
BEGIN:VEVENT
DTSTART;TZID=Europe/Paris:20250422T190000
DTEND;TZID=Europe/Paris:20250422T210000
DTSTAMP:20260420T122813
CREATED:20250408T100043Z
LAST-MODIFIED:20250408T100043Z
UID:13762-1745348400-1745355600@gouville-sur-mer.fr
SUMMARY:Réunion publique
DESCRIPTION:
URL:https://gouville-sur-mer.fr/event/reunion-publique-2/
LOCATION:Village Vacances  Blainville-sur-mer
ATTACH;FMTTYPE=image/jpeg:https://gouville-sur-mer.fr/wp-content/uploads/2025/04/entre2havres.jpg
END:VEVENT
BEGIN:VEVENT
DTSTART;VALUE=DATE:20250427
DTEND;VALUE=DATE:20250428
DTSTAMP:20260420T122813
CREATED:20250307T174247Z
LAST-MODIFIED:20250323T134550Z
UID:13421-1745712000-1745798399@gouville-sur-mer.fr
SUMMARY:Tournoi ESG Les étoiles gouvillaises
DESCRIPTION:En savoir plus
URL:https://gouville-sur-mer.fr/event/tournoi-esg-les-etoiles-gouvillaises/
ATTACH;FMTTYPE=image/jpeg:https://gouville-sur-mer.fr/wp-content/uploads/2025/03/foot_pexels.jpg
END:VEVENT
BEGIN:VEVENT
DTSTART;VALUE=DATE:20250427
DTEND;VALUE=DATE:20250428
DTSTAMP:20260420T122813
CREATED:20250307T174418Z
LAST-MODIFIED:20250307T174418Z
UID:13423-1745712000-1745798399@gouville-sur-mer.fr
SUMMARY:Méchoui de Montsurvent
DESCRIPTION:
URL:https://gouville-sur-mer.fr/event/mechoui-de-montsurvent/
END:VEVENT
BEGIN:VEVENT
DTSTART;TZID=Europe/Paris:20250427T100000
DTEND;TZID=Europe/Paris:20250427T120000
DTSTAMP:20260420T122813
CREATED:20250419T092105Z
LAST-MODIFIED:20250419T092556Z
UID:13789-1745748000-1745755200@gouville-sur-mer.fr
SUMMARY:Chasse aux œufs
DESCRIPTION:Détail des animations
URL:https://gouville-sur-mer.fr/event/chasse-aux-oeufs/
LOCATION:Les sables d’or\, 16 Impasse des Roquerets\, Gouville-sur-mer\, 50560
ATTACH;FMTTYPE=image/png:https://gouville-sur-mer.fr/wp-content/uploads/2025/04/chasse_oeufs.png
END:VEVENT
BEGIN:VEVENT
DTSTART;VALUE=DATE:20250429
DTEND;VALUE=DATE:20250430
DTSTAMP:20260420T122813
CREATED:20250319T154803Z
LAST-MODIFIED:20250319T154929Z
UID:13525-1745884800-1745971199@gouville-sur-mer.fr
SUMMARY:Randonnée à Saint-Lô
DESCRIPTION:En savoir plus
URL:https://gouville-sur-mer.fr/event/randonnee-a-saint-lo/
ATTACH;FMTTYPE=image/jpeg:https://gouville-sur-mer.fr/wp-content/uploads/2023/08/pexels_rando.jpeg
END:VEVENT
END:VCALENDAR