BEGIN:VCALENDAR
VERSION:2.0
PRODID:-//Gouville-sur-mer - ECPv6.15.18//NONSGML v1.0//EN
CALSCALE:GREGORIAN
METHOD:PUBLISH
X-ORIGINAL-URL:https://gouville-sur-mer.fr
X-WR-CALDESC:Évènements pour Gouville-sur-mer
REFRESH-INTERVAL;VALUE=DURATION:PT1H
X-Robots-Tag:noindex
X-PUBLISHED-TTL:PT1H
BEGIN:VTIMEZONE
TZID:Europe/Paris
BEGIN:DAYLIGHT
TZOFFSETFROM:+0100
TZOFFSETTO:+0200
TZNAME:CEST
DTSTART:20240331T010000
END:DAYLIGHT
BEGIN:STANDARD
TZOFFSETFROM:+0200
TZOFFSETTO:+0100
TZNAME:CET
DTSTART:20241027T010000
END:STANDARD
BEGIN:DAYLIGHT
TZOFFSETFROM:+0100
TZOFFSETTO:+0200
TZNAME:CEST
DTSTART:20250330T010000
END:DAYLIGHT
BEGIN:STANDARD
TZOFFSETFROM:+0200
TZOFFSETTO:+0100
TZNAME:CET
DTSTART:20251026T010000
END:STANDARD
BEGIN:DAYLIGHT
TZOFFSETFROM:+0100
TZOFFSETTO:+0200
TZNAME:CEST
DTSTART:20260329T010000
END:DAYLIGHT
BEGIN:STANDARD
TZOFFSETFROM:+0200
TZOFFSETTO:+0100
TZNAME:CET
DTSTART:20261025T010000
END:STANDARD
END:VTIMEZONE
BEGIN:VEVENT
DTSTART;VALUE=DATE:20250619
DTEND;VALUE=DATE:20250703
DTSTAMP:20260420T171826
CREATED:20250617T140724Z
LAST-MODIFIED:20250617T140724Z
UID:14336-1750291200-1751500799@gouville-sur-mer.fr
SUMMARY:Concours de fleurissement
DESCRIPTION:En savoir plus
URL:https://gouville-sur-mer.fr/event/concours-de-fleurissement/
ATTACH;FMTTYPE=image/jpeg:https://gouville-sur-mer.fr/wp-content/uploads/2022/04/annie-spratt-VviNSpJuGj0-unsplash-scaled-e1750168872927.jpg
END:VEVENT
BEGIN:VEVENT
DTSTART;TZID=Europe/Paris:20250703T180000
DTEND;TZID=Europe/Paris:20250703T193000
DTSTAMP:20260420T171826
CREATED:20250615T111756Z
LAST-MODIFIED:20250615T111756Z
UID:14256-1751565600-1751571000@gouville-sur-mer.fr
SUMMARY:Apéro-concert au Théâtre de verdure
DESCRIPTION:voir le programme
URL:https://gouville-sur-mer.fr/event/apero-concert-au-theatre-de-verdure/
LOCATION:Théatre de verdure
ATTACH;FMTTYPE=image/png:https://gouville-sur-mer.fr/wp-content/uploads/2022/07/theatredeverdure-e1659012948101.png
END:VEVENT
BEGIN:VEVENT
DTSTART;VALUE=DATE:20250705
DTEND;VALUE=DATE:20250825
DTSTAMP:20260420T171826
CREATED:20250615T145008Z
LAST-MODIFIED:20250825T100318Z
UID:14313-1751673600-1756079999@gouville-sur-mer.fr
SUMMARY:Expositions à la FIlature
DESCRIPTION:Programme été 2025
URL:https://gouville-sur-mer.fr/event/expositions-artistiques/
LOCATION:La Filature
END:VEVENT
BEGIN:VEVENT
DTSTART;TZID=Europe/Paris:20250705T140000
DTEND;TZID=Europe/Paris:20250705T180000
DTSTAMP:20260420T171826
CREATED:20250701T120018Z
LAST-MODIFIED:20250705T065953Z
UID:14122-1751724000-1751738400@gouville-sur-mer.fr
SUMMARY:Rando gourmande du Moulin
DESCRIPTION:
URL:https://gouville-sur-mer.fr/event/rando-gourmande-du-moulin/
LOCATION:Moulin de Gouville
ATTACH;FMTTYPE=image/png:https://gouville-sur-mer.fr/wp-content/uploads/2025/06/rando-gourmande.png
END:VEVENT
BEGIN:VEVENT
DTSTART;VALUE=DATE:20250706
DTEND;VALUE=DATE:20250707
DTSTAMP:20260420T171826
CREATED:20250307T175133Z
LAST-MODIFIED:20250307T175133Z
UID:13435-1751760000-1751846399@gouville-sur-mer.fr
SUMMARY:Pique-nique à Anneville
DESCRIPTION:Pique-nique à la salle conviviale d’Anneville suivi d’un concours de boules en simple ou doublettes constituées.
URL:https://gouville-sur-mer.fr/event/pique-nique-a-anneville/
END:VEVENT
BEGIN:VEVENT
DTSTART;VALUE=DATE:20250706
DTEND;VALUE=DATE:20250707
DTSTAMP:20260420T171826
CREATED:20250307T175217Z
LAST-MODIFIED:20250705T143234Z
UID:13437-1751760000-1751846399@gouville-sur-mer.fr
SUMMARY:Vide-grenier de Montsurvent
DESCRIPTION:En savoir plus
URL:https://gouville-sur-mer.fr/event/vide-grenier-de-montsurvent-5/
END:VEVENT
BEGIN:VEVENT
DTSTART;TZID=Europe/Paris:20250709T190000
DTEND;TZID=Europe/Paris:20250709T210000
DTSTAMP:20260420T171826
CREATED:20250617T143458Z
LAST-MODIFIED:20250617T143458Z
UID:14345-1752087600-1752094800@gouville-sur-mer.fr
SUMMARY:Réunion publique PPRL
DESCRIPTION:En savoir plus
URL:https://gouville-sur-mer.fr/event/reunion-publique-pprl/
END:VEVENT
BEGIN:VEVENT
DTSTART;TZID=Europe/Paris:20250709T200000
DTEND;TZID=Europe/Paris:20250709T223000
DTSTAMP:20260420T171826
CREATED:20250615T124832Z
LAST-MODIFIED:20250615T124832Z
UID:14282-1752091200-1752100200@gouville-sur-mer.fr
SUMMARY:Randonnée "côté mer"
DESCRIPTION:En savoir plus
URL:https://gouville-sur-mer.fr/event/randonnee-cote-mer/
ATTACH;FMTTYPE=image/jpeg:https://gouville-sur-mer.fr/wp-content/uploads/2021/05/Randonnees-01.jpg
END:VEVENT
BEGIN:VEVENT
DTSTART;TZID=Europe/Paris:20250710T100000
DTEND;TZID=Europe/Paris:20250710T120000
DTSTAMP:20260420T171826
CREATED:20250328T134609Z
LAST-MODIFIED:20250328T134609Z
UID:13670-1752141600-1752148800@gouville-sur-mer.fr
SUMMARY:Eveil à la nature dans les dunes
DESCRIPTION:(adapté aux 3-6 ans) \nen savoir plus
URL:https://gouville-sur-mer.fr/event/eveil-a-la-nature-dans-les-dunes-2/
ATTACH;FMTTYPE=image/jpeg:https://gouville-sur-mer.fr/wp-content/uploads/2025/03/dunes-1936086_1280.jpg
END:VEVENT
BEGIN:VEVENT
DTSTART;TZID=Europe/Paris:20250710T103000
DTEND;TZID=Europe/Paris:20250710T120000
DTSTAMP:20260420T171826
CREATED:20250708T141104Z
LAST-MODIFIED:20250708T141104Z
UID:14532-1752143400-1752148800@gouville-sur-mer.fr
SUMMARY:C'est quoi cette p'tite bête ?
DESCRIPTION:En savoir plus
URL:https://gouville-sur-mer.fr/event/cest-quoi-cette-ptite-bete/
LOCATION:La médiathèque de Gouville\, 6\, route de Coutances\, Gouville-sur-mer\, 50560\, France
ATTACH;FMTTYPE=image/jpeg:https://gouville-sur-mer.fr/wp-content/uploads/2025/07/c-quoi-ces-ptit-bêtes.jpg
ORGANIZER;CN="R%C3%A9seau des biblioth%C3%A8ques de Coutances mer et bocage":MAILTO:mediatheque.gouville@communaute-coutances.fr
END:VEVENT
BEGIN:VEVENT
DTSTART;TZID=Europe/Paris:20250710T180000
DTEND;TZID=Europe/Paris:20250710T193000
DTSTAMP:20260420T171826
CREATED:20250615T112016Z
LAST-MODIFIED:20250615T112033Z
UID:14258-1752170400-1752175800@gouville-sur-mer.fr
SUMMARY:Apéro-concert au Théâtre de verdure
DESCRIPTION:Voir le programme
URL:https://gouville-sur-mer.fr/event/apero-concert-au-theatre-de-verdure-2/
LOCATION:Théatre de verdure
ATTACH;FMTTYPE=image/png:https://gouville-sur-mer.fr/wp-content/uploads/2022/07/theatredeverdure-e1659012948101.png
END:VEVENT
BEGIN:VEVENT
DTSTART;TZID=Europe/Paris:20250711T100000
DTEND;TZID=Europe/Paris:20250711T120000
DTSTAMP:20260420T171826
CREATED:20250708T140846Z
LAST-MODIFIED:20250708T140846Z
UID:14530-1752228000-1752235200@gouville-sur-mer.fr
SUMMARY:Ma collection d'insectes
DESCRIPTION:En savoir plus
URL:https://gouville-sur-mer.fr/event/ma-collection-dinsectes/
LOCATION:La médiathèque de Gouville\, 6\, route de Coutances\, Gouville-sur-mer\, 50560\, France
ATTACH;FMTTYPE=image/jpeg:https://gouville-sur-mer.fr/wp-content/uploads/2025/07/origami-insectes.jpg
ORGANIZER;CN="R%C3%A9seau des biblioth%C3%A8ques de Coutances mer et bocage":MAILTO:mediatheque.gouville@communaute-coutances.fr
END:VEVENT
BEGIN:VEVENT
DTSTART;VALUE=DATE:20250713
DTEND;VALUE=DATE:20250714
DTSTAMP:20260420T171826
CREATED:20250307T175303Z
LAST-MODIFIED:20250705T130554Z
UID:13439-1752364800-1752451199@gouville-sur-mer.fr
SUMMARY:Fête de la mer
DESCRIPTION:En savoir plus
URL:https://gouville-sur-mer.fr/event/fete-de-la-mer-4/
END:VEVENT
BEGIN:VEVENT
DTSTART;TZID=Europe/Paris:20250713T230000
DTEND;TZID=Europe/Paris:20250713T233000
DTSTAMP:20260420T171826
CREATED:20250627T141855Z
LAST-MODIFIED:20250627T141855Z
UID:14394-1752447600-1752449400@gouville-sur-mer.fr
SUMMARY:Feu d'artifice à la plage
DESCRIPTION:
URL:https://gouville-sur-mer.fr/event/feu-dartifice-a-la-plage/
LOCATION:Plage de Gouville
ATTACH;FMTTYPE=image/jpeg:https://gouville-sur-mer.fr/wp-content/uploads/2022/07/firework_pixabay.jpg
END:VEVENT
BEGIN:VEVENT
DTSTART;VALUE=DATE:20250715
DTEND;VALUE=DATE:20250716
DTSTAMP:20260420T171826
CREATED:20250615T125038Z
LAST-MODIFIED:20250615T125038Z
UID:14284-1752537600-1752623999@gouville-sur-mer.fr
SUMMARY:Concours de château de sable
DESCRIPTION:En savoir plus
URL:https://gouville-sur-mer.fr/event/concours-de-chateau-de-sable/
ATTACH;FMTTYPE=image/jpeg:https://gouville-sur-mer.fr/wp-content/uploads/2021/05/Chateau-de-sable.jpg
END:VEVENT
BEGIN:VEVENT
DTSTART;TZID=Europe/Paris:20250716T200000
DTEND;TZID=Europe/Paris:20250716T223000
DTSTAMP:20260420T171826
CREATED:20250615T125252Z
LAST-MODIFIED:20250615T125252Z
UID:14286-1752696000-1752705000@gouville-sur-mer.fr
SUMMARY:Randonnée "côté terre"
DESCRIPTION:En savoir plus
URL:https://gouville-sur-mer.fr/event/randonnee-cote-terre/
ATTACH;FMTTYPE=image/jpeg:https://gouville-sur-mer.fr/wp-content/uploads/2021/05/Randonnees-02.jpg
END:VEVENT
BEGIN:VEVENT
DTSTART;VALUE=DATE:20250717
DTEND;VALUE=DATE:20250718
DTSTAMP:20260420T171826
CREATED:20250615T112729Z
LAST-MODIFIED:20250615T112752Z
UID:14262-1752710400-1752796799@gouville-sur-mer.fr
SUMMARY:Loto de l'Animation Touristique ATGM
DESCRIPTION:Le loto permet en partie le financement des animations organisées par l’ATGM. \nVenez nombreux nous soutenir !
URL:https://gouville-sur-mer.fr/event/loto-de-lanimation-touristique-atgm/
LOCATION:Salle des fêtes de Gouville-sur-mer\, 19 route de Coutances\, Gouville-sur-mer\, 50560\, France
ATTACH;FMTTYPE=image/jpeg:https://gouville-sur-mer.fr/wp-content/uploads/2023/06/russkoe-loto-g0e5fbba96_1280.jpg
END:VEVENT
BEGIN:VEVENT
DTSTART;TZID=Europe/Paris:20250717T140000
DTEND;TZID=Europe/Paris:20250717T170000
DTSTAMP:20260420T171826
CREATED:20250515T112314Z
LAST-MODIFIED:20250529T090113Z
UID:13943-1752760800-1752771600@gouville-sur-mer.fr
SUMMARY:La mer monte\, tous à vélo !
DESCRIPTION:En savoir plus
URL:https://gouville-sur-mer.fr/event/la-mer-monte-tous-a-velo-6/
ATTACH;FMTTYPE=image/png:https://gouville-sur-mer.fr/wp-content/uploads/2025/05/affiche_cyclo_decouverte.png
END:VEVENT
BEGIN:VEVENT
DTSTART;TZID=Europe/Paris:20250717T140000
DTEND;TZID=Europe/Paris:20250717T170000
DTSTAMP:20260420T171827
CREATED:20250708T141303Z
LAST-MODIFIED:20250708T141303Z
UID:14534-1752760800-1752771600@gouville-sur-mer.fr
SUMMARY:Fresque de la biodiversité
DESCRIPTION:En savoir plus
URL:https://gouville-sur-mer.fr/event/fresque-de-la-biodiversite/
LOCATION:La médiathèque de Gouville\, 6\, route de Coutances\, Gouville-sur-mer\, 50560\, France
ATTACH;FMTTYPE=image/jpeg:https://gouville-sur-mer.fr/wp-content/uploads/2025/07/biodiversité.jpg
ORGANIZER;CN="R%C3%A9seau des biblioth%C3%A8ques de Coutances mer et bocage":MAILTO:mediatheque.gouville@communaute-coutances.fr
END:VEVENT
BEGIN:VEVENT
DTSTART;TZID=Europe/Paris:20250718T143000
DTEND;TZID=Europe/Paris:20250718T170000
DTSTAMP:20260420T171827
CREATED:20250708T140644Z
LAST-MODIFIED:20250716T124507Z
UID:14528-1752849000-1752858000@gouville-sur-mer.fr
SUMMARY:Sortie nature : cherchons les p'tites bêtes
DESCRIPTION:En savoir plus
URL:https://gouville-sur-mer.fr/event/sortie-nature-2/
ATTACH;FMTTYPE=image/jpeg:https://gouville-sur-mer.fr/wp-content/uploads/2025/07/Sortie-nature-paysage.jpg
END:VEVENT
BEGIN:VEVENT
DTSTART;VALUE=DATE:20250719
DTEND;VALUE=DATE:20250720
DTSTAMP:20260420T171827
CREATED:20250323T110620Z
LAST-MODIFIED:20250709T062954Z
UID:13557-1752883200-1752969599@gouville-sur-mer.fr
SUMMARY:Grand repas sous chapiteau
DESCRIPTION:En savoir plus \nOrganisé par la SNSM
URL:https://gouville-sur-mer.fr/event/repas-sous-chapiteau/
ATTACH;FMTTYPE=image/png:https://gouville-sur-mer.fr/wp-content/uploads/2025/03/Logo_officiel_de_la_SNSM_nouvelle_version_2022.png
END:VEVENT
BEGIN:VEVENT
DTSTART;TZID=Europe/Paris:20250719T173000
DTEND;TZID=Europe/Paris:20250719T183000
DTSTAMP:20260420T171827
CREATED:20250716T131738Z
LAST-MODIFIED:20250716T132012Z
UID:14598-1752946200-1752949800@gouville-sur-mer.fr
SUMMARY:Sortie nature : les gravelots
DESCRIPTION:En savoir plus
URL:https://gouville-sur-mer.fr/event/sortie-nature-les-gravelots-2/
LOCATION:Cale de Gouville (face SNSM)
ATTACH;FMTTYPE=image/png:https://gouville-sur-mer.fr/wp-content/uploads/2025/05/Sortie_nature_gravelots.png
END:VEVENT
BEGIN:VEVENT
DTSTART;VALUE=DATE:20250722
DTEND;VALUE=DATE:20250723
DTSTAMP:20260420T171827
CREATED:20250315T142616Z
LAST-MODIFIED:20250315T142616Z
UID:13478-1753142400-1753228799@gouville-sur-mer.fr
SUMMARY:Don du sang
DESCRIPTION:
URL:https://gouville-sur-mer.fr/event/don-du-sang-5/
LOCATION:Salle des fêtes de Gouville-sur-mer\, 19 route de Coutances\, Gouville-sur-mer\, 50560\, France
ATTACH;FMTTYPE=image/jpeg:https://gouville-sur-mer.fr/wp-content/uploads/2025/03/visuel-don-de-sang.jpg
END:VEVENT
BEGIN:VEVENT
DTSTART;TZID=Europe/Paris:20250723T103000
DTEND;TZID=Europe/Paris:20250723T113000
DTSTAMP:20260420T171827
CREATED:20250708T135345Z
LAST-MODIFIED:20250708T135345Z
UID:14518-1753266600-1753270200@gouville-sur-mer.fr
SUMMARY:A la découverte du maestro
DESCRIPTION:En savoir plus
URL:https://gouville-sur-mer.fr/event/a-la-decouverte-du-maestro/
LOCATION:La médiathèque de Gouville\, 6\, route de Coutances\, Gouville-sur-mer\, 50560\, France
ATTACH;FMTTYPE=image/jpeg:https://gouville-sur-mer.fr/wp-content/uploads/2025/07/maestro.jpg
ORGANIZER;CN="R%C3%A9seau des biblioth%C3%A8ques de Coutances mer et bocage":MAILTO:mediatheque.gouville@communaute-coutances.fr
END:VEVENT
BEGIN:VEVENT
DTSTART;TZID=Europe/Paris:20250723T150000
DTEND;TZID=Europe/Paris:20250723T170000
DTSTAMP:20260420T171827
CREATED:20250328T134749Z
LAST-MODIFIED:20250328T134749Z
UID:13673-1753282800-1753290000@gouville-sur-mer.fr
SUMMARY:Sortie nature : papillons et cie
DESCRIPTION:En savoir plus
URL:https://gouville-sur-mer.fr/event/sortie-nature-papillons-et-cie/
ATTACH;FMTTYPE=image/jpeg:https://gouville-sur-mer.fr/wp-content/uploads/2025/03/dunes-1936086_1280.jpg
END:VEVENT
BEGIN:VEVENT
DTSTART;TZID=Europe/Paris:20250723T200000
DTEND;TZID=Europe/Paris:20250723T223000
DTSTAMP:20260420T171827
CREATED:20250615T125453Z
LAST-MODIFIED:20250615T125453Z
UID:14288-1753300800-1753309800@gouville-sur-mer.fr
SUMMARY:Randonnée "côté mer"
DESCRIPTION:En savoir plus
URL:https://gouville-sur-mer.fr/event/randonnee-cote-mer-2/
ATTACH;FMTTYPE=image/jpeg:https://gouville-sur-mer.fr/wp-content/uploads/2021/05/Randonnees-01.jpg
END:VEVENT
BEGIN:VEVENT
DTSTART;VALUE=DATE:20250724
DTEND;VALUE=DATE:20250725
DTSTAMP:20260420T171827
CREATED:20250627T141217Z
LAST-MODIFIED:20250711T075258Z
UID:14390-1753315200-1753401599@gouville-sur-mer.fr
SUMMARY:Skim School Tour
DESCRIPTION:En savoir plus
URL:https://gouville-sur-mer.fr/event/skim-school-tour/
LOCATION:Plage de Gouville
ATTACH;FMTTYPE=image/png:https://gouville-sur-mer.fr/wp-content/uploads/2025/06/maunakea_2025.png
END:VEVENT
BEGIN:VEVENT
DTSTART;TZID=Europe/Paris:20250724T100000
DTEND;TZID=Europe/Paris:20250724T120000
DTSTAMP:20260420T171827
CREATED:20250723T153940Z
LAST-MODIFIED:20250723T153940Z
UID:14659-1753351200-1753358400@gouville-sur-mer.fr
SUMMARY:Visites du jeudi
DESCRIPTION:En savoir plus
URL:https://gouville-sur-mer.fr/event/visites-du-jeudi/
ATTACH;FMTTYPE=image/png:https://gouville-sur-mer.fr/wp-content/uploads/2025/07/l-artisane.png
END:VEVENT
BEGIN:VEVENT
DTSTART;TZID=Europe/Paris:20250724T140000
DTEND;TZID=Europe/Paris:20250724T160000
DTSTAMP:20260420T171827
CREATED:20250708T140415Z
LAST-MODIFIED:20250708T140415Z
UID:14526-1753365600-1753372800@gouville-sur-mer.fr
SUMMARY:Initiation au cyanotype
DESCRIPTION:En savoir plus
URL:https://gouville-sur-mer.fr/event/initiation-au-cyanotype-2/
LOCATION:La médiathèque de Gouville\, 6\, route de Coutances\, Gouville-sur-mer\, 50560\, France
ATTACH;FMTTYPE=image/png:https://gouville-sur-mer.fr/wp-content/uploads/2025/07/cyanotype-e1753008864620.png
ORGANIZER;CN="R%C3%A9seau des biblioth%C3%A8ques de Coutances mer et bocage":MAILTO:mediatheque.gouville@communaute-coutances.fr
END:VEVENT
BEGIN:VEVENT
DTSTART;TZID=Europe/Paris:20250724T180000
DTEND;TZID=Europe/Paris:20250724T193000
DTSTAMP:20260420T171827
CREATED:20250615T112232Z
LAST-MODIFIED:20250615T112232Z
UID:14260-1753380000-1753385400@gouville-sur-mer.fr
SUMMARY:Apéro-concert au Théâtre de verdure
DESCRIPTION:voir le programme
URL:https://gouville-sur-mer.fr/event/apero-concert-au-theatre-de-verdure-3/
LOCATION:Théatre de verdure
ATTACH;FMTTYPE=image/png:https://gouville-sur-mer.fr/wp-content/uploads/2022/07/theatredeverdure-e1659012948101.png
END:VEVENT
END:VCALENDAR