BEGIN:VCALENDAR
VERSION:2.0
PRODID:-//Gouville-sur-mer - ECPv6.15.18//NONSGML v1.0//EN
CALSCALE:GREGORIAN
METHOD:PUBLISH
X-WR-CALNAME:Gouville-sur-mer
X-ORIGINAL-URL:https://gouville-sur-mer.fr
X-WR-CALDESC:Évènements pour Gouville-sur-mer
REFRESH-INTERVAL;VALUE=DURATION:PT1H
X-Robots-Tag:noindex
X-PUBLISHED-TTL:PT1H
BEGIN:VTIMEZONE
TZID:Europe/Paris
BEGIN:DAYLIGHT
TZOFFSETFROM:+0100
TZOFFSETTO:+0200
TZNAME:CEST
DTSTART:20240331T010000
END:DAYLIGHT
BEGIN:STANDARD
TZOFFSETFROM:+0200
TZOFFSETTO:+0100
TZNAME:CET
DTSTART:20241027T010000
END:STANDARD
BEGIN:DAYLIGHT
TZOFFSETFROM:+0100
TZOFFSETTO:+0200
TZNAME:CEST
DTSTART:20250330T010000
END:DAYLIGHT
BEGIN:STANDARD
TZOFFSETFROM:+0200
TZOFFSETTO:+0100
TZNAME:CET
DTSTART:20251026T010000
END:STANDARD
BEGIN:DAYLIGHT
TZOFFSETFROM:+0100
TZOFFSETTO:+0200
TZNAME:CEST
DTSTART:20260329T010000
END:DAYLIGHT
BEGIN:STANDARD
TZOFFSETFROM:+0200
TZOFFSETTO:+0100
TZNAME:CET
DTSTART:20261025T010000
END:STANDARD
END:VTIMEZONE
BEGIN:VEVENT
DTSTART;VALUE=DATE:20250705
DTEND;VALUE=DATE:20250825
DTSTAMP:20260420T184918
CREATED:20250615T145008Z
LAST-MODIFIED:20250825T100318Z
UID:14313-1751673600-1756079999@gouville-sur-mer.fr
SUMMARY:Expositions à la FIlature
DESCRIPTION:Programme été 2025
URL:https://gouville-sur-mer.fr/event/expositions-artistiques/
LOCATION:La Filature
END:VEVENT
BEGIN:VEVENT
DTSTART;VALUE=DATE:20250801
DTEND;VALUE=DATE:20250803
DTSTAMP:20260420T184918
CREATED:20250315T143008Z
LAST-MODIFIED:20250711T074004Z
UID:13481-1754006400-1754179199@gouville-sur-mer.fr
SUMMARY:Fête du moulin
DESCRIPTION:En savoir plus
URL:https://gouville-sur-mer.fr/event/fete-du-moulin-2/
ATTACH;FMTTYPE=image/jpeg:https://gouville-sur-mer.fr/wp-content/uploads/2024/08/moulin-des-arts.jpg
END:VEVENT
BEGIN:VEVENT
DTSTART;VALUE=DATE:20250803
DTEND;VALUE=DATE:20250804
DTSTAMP:20260420T184918
CREATED:20250307T175350Z
LAST-MODIFIED:20250307T175350Z
UID:13441-1754179200-1754265599@gouville-sur-mer.fr
SUMMARY:Repas de la Saint-Samson à Anneville
DESCRIPTION:
URL:https://gouville-sur-mer.fr/event/repas-de-la-saint-samson-a-anneville/
END:VEVENT
BEGIN:VEVENT
DTSTART;VALUE=DATE:20250805
DTEND;VALUE=DATE:20250806
DTSTAMP:20260420T184918
CREATED:20250615T130154Z
LAST-MODIFIED:20250615T130154Z
UID:14292-1754352000-1754438399@gouville-sur-mer.fr
SUMMARY:Chasse au trésor
DESCRIPTION:En savoir plus
URL:https://gouville-sur-mer.fr/event/chasse-au-tresor-4/
LOCATION:Plage de Gouville
ATTACH;FMTTYPE=image/jpeg:https://gouville-sur-mer.fr/wp-content/uploads/2021/07/map-g4caaa515d_1920.jpg
END:VEVENT
BEGIN:VEVENT
DTSTART;TZID=Europe/Paris:20250805T140000
DTEND;TZID=Europe/Paris:20250805T160000
DTSTAMP:20260420T184918
CREATED:20250708T140230Z
LAST-MODIFIED:20250708T140230Z
UID:14524-1754402400-1754409600@gouville-sur-mer.fr
SUMMARY:Initiation au cyanotype
DESCRIPTION:En savoir plus
URL:https://gouville-sur-mer.fr/event/initiation-au-cyanotype/
LOCATION:La médiathèque de Gouville\, 6\, route de Coutances\, Gouville-sur-mer\, 50560\, France
ATTACH;FMTTYPE=image/png:https://gouville-sur-mer.fr/wp-content/uploads/2025/07/cyanotype-e1753008864620.png
ORGANIZER;CN="R%C3%A9seau des biblioth%C3%A8ques de Coutances mer et bocage":MAILTO:mediatheque.gouville@communaute-coutances.fr
END:VEVENT
BEGIN:VEVENT
DTSTART;TZID=Europe/Paris:20250806T103000
DTEND;TZID=Europe/Paris:20250806T113000
DTSTAMP:20260420T184918
CREATED:20250708T135556Z
LAST-MODIFIED:20250708T135634Z
UID:14520-1754476200-1754479800@gouville-sur-mer.fr
SUMMARY:A la découverte du maestro
DESCRIPTION:En savoir plus
URL:https://gouville-sur-mer.fr/event/a-la-decouverte-du-maestro-2/
LOCATION:La médiathèque de Gouville\, 6\, route de Coutances\, Gouville-sur-mer\, 50560\, France
ATTACH;FMTTYPE=image/jpeg:https://gouville-sur-mer.fr/wp-content/uploads/2025/07/maestro.jpg
ORGANIZER;CN="R%C3%A9seau des biblioth%C3%A8ques de Coutances mer et bocage":MAILTO:mediatheque.gouville@communaute-coutances.fr
END:VEVENT
BEGIN:VEVENT
DTSTART;TZID=Europe/Paris:20250806T190000
DTEND;TZID=Europe/Paris:20250806T230000
DTSTAMP:20260420T184918
CREATED:20250615T130659Z
LAST-MODIFIED:20250615T132456Z
UID:14294-1754506800-1754521200@gouville-sur-mer.fr
SUMMARY:Randonnée "côté mer"
DESCRIPTION:En savoir plus
URL:https://gouville-sur-mer.fr/event/randonnee-cote-mer-3/
LOCATION:Plage de Gouville
ATTACH;FMTTYPE=image/jpeg:https://gouville-sur-mer.fr/wp-content/uploads/2021/05/Randonnees-01.jpg
END:VEVENT
BEGIN:VEVENT
DTSTART;VALUE=DATE:20250807
DTEND;VALUE=DATE:20250808
DTSTAMP:20260420T184918
CREATED:20250615T130933Z
LAST-MODIFIED:20250615T130933Z
UID:14296-1754524800-1754611199@gouville-sur-mer.fr
SUMMARY:Loto de l'Animation Touristique ATGM
DESCRIPTION:En savoir plus
URL:https://gouville-sur-mer.fr/event/loto-de-lanimation-touristique-atgm-2/
LOCATION:Salle des fêtes de Gouville-sur-mer\, 19 route de Coutances\, Gouville-sur-mer\, 50560\, France
ATTACH;FMTTYPE=image/jpeg:https://gouville-sur-mer.fr/wp-content/uploads/2023/06/russkoe-loto-g0e5fbba96_1280.jpg
END:VEVENT
BEGIN:VEVENT
DTSTART;TZID=Europe/Paris:20250807T190000
DTEND;TZID=Europe/Paris:20250807T210000
DTSTAMP:20260420T184918
CREATED:20250724T113245Z
LAST-MODIFIED:20250724T113245Z
UID:14683-1754593200-1754600400@gouville-sur-mer.fr
SUMMARY:Concert aux Dunes
DESCRIPTION:Musique funk avec le groupe « Les routes barrées » \nEn savoir plus
URL:https://gouville-sur-mer.fr/event/concert-aux-dunes/
ATTACH;FMTTYPE=image/png:https://gouville-sur-mer.fr/wp-content/uploads/2025/07/lesroutesbarrées.png
END:VEVENT
BEGIN:VEVENT
DTSTART;TZID=Europe/Paris:20250809T050000
DTEND;TZID=Europe/Paris:20250809T170000
DTSTAMP:20260420T184918
CREATED:20250801T150729Z
LAST-MODIFIED:20250801T150729Z
UID:14750-1754715600-1754758800@gouville-sur-mer.fr
SUMMARY:Vide-grenier de Zezer
DESCRIPTION:En savoir plus
URL:https://gouville-sur-mer.fr/event/vide-grenier-de-zezer/
ATTACH;FMTTYPE=image/jpeg:https://gouville-sur-mer.fr/wp-content/uploads/2024/08/Messenger_creation_B7EC1E2C-C20D-4C90-80CF-5BC9EE7BCE6B.jpg
END:VEVENT
BEGIN:VEVENT
DTSTART;VALUE=DATE:20250810
DTEND;VALUE=DATE:20250811
DTSTAMP:20260420T184918
CREATED:20250307T175451Z
LAST-MODIFIED:20250721T164638Z
UID:13443-1754784000-1754870399@gouville-sur-mer.fr
SUMMARY:Fête de la Saint-Ouen à Linverville
DESCRIPTION:
URL:https://gouville-sur-mer.fr/event/fete-de-la-saint-ouen-a-linverville-2/
ATTACH;FMTTYPE=image/png:https://gouville-sur-mer.fr/wp-content/uploads/2025/03/saint_ouen.png
END:VEVENT
BEGIN:VEVENT
DTSTART;TZID=Europe/Paris:20250810T223000
DTEND;TZID=Europe/Paris:20250810T230000
DTSTAMP:20260420T184918
CREATED:20250627T142545Z
LAST-MODIFIED:20250627T142545Z
UID:14398-1754865000-1754866800@gouville-sur-mer.fr
SUMMARY:Feu d'artifice
DESCRIPTION:à Linverville
URL:https://gouville-sur-mer.fr/event/feu-dartifice-4/
ATTACH;FMTTYPE=image/jpeg:https://gouville-sur-mer.fr/wp-content/uploads/2022/07/firework_pixabay.jpg
END:VEVENT
BEGIN:VEVENT
DTSTART;VALUE=DATE:20250812
DTEND;VALUE=DATE:20250813
DTSTAMP:20260420T184918
CREATED:20250615T131148Z
LAST-MODIFIED:20250615T131148Z
UID:14298-1754956800-1755043199@gouville-sur-mer.fr
SUMMARY:Concours de châteaux de sable
DESCRIPTION:En savoir plus
URL:https://gouville-sur-mer.fr/event/concours-de-chateaux-de-sable-7/
LOCATION:Plage de Gouville
ATTACH;FMTTYPE=image/jpeg:https://gouville-sur-mer.fr/wp-content/uploads/2021/05/Chateau-de-sable.jpg
END:VEVENT
BEGIN:VEVENT
DTSTART;VALUE=DATE:20250812
DTEND;VALUE=DATE:20250813
DTSTAMP:20260420T184918
CREATED:20250627T141332Z
LAST-MODIFIED:20250711T075409Z
UID:14392-1754956800-1755043199@gouville-sur-mer.fr
SUMMARY:Skim Tour School
DESCRIPTION:En savoir plus
URL:https://gouville-sur-mer.fr/event/skim-tour-school/
LOCATION:Plage de Gouville
ATTACH;FMTTYPE=image/png:https://gouville-sur-mer.fr/wp-content/uploads/2025/06/maunakea_2025.png
END:VEVENT
BEGIN:VEVENT
DTSTART;TZID=Europe/Paris:20250812T143000
DTEND;TZID=Europe/Paris:20250812T170000
DTSTAMP:20260420T184918
CREATED:20250515T112421Z
LAST-MODIFIED:20250529T090207Z
UID:13945-1755009000-1755018000@gouville-sur-mer.fr
SUMMARY:La mer monte\, tous à vélo !
DESCRIPTION:En savoir plus
URL:https://gouville-sur-mer.fr/event/la-mer-monte-tous-a-velo-7/
ATTACH;FMTTYPE=image/png:https://gouville-sur-mer.fr/wp-content/uploads/2025/05/affiche_cyclo_decouverte.png
END:VEVENT
BEGIN:VEVENT
DTSTART;TZID=Europe/Paris:20250813T090000
DTEND;TZID=Europe/Paris:20250813T120000
DTSTAMP:20260420T184918
CREATED:20250728T081911Z
LAST-MODIFIED:20250728T081911Z
UID:14692-1755075600-1755086400@gouville-sur-mer.fr
SUMMARY:Transformations littoral
DESCRIPTION:Réunion d’information
URL:https://gouville-sur-mer.fr/event/transformations-littoral/
LOCATION:Camping le Sénéquet\, 76 rue Beau Rivage\, Gouville-sur-mer\, 50560
ATTACH;FMTTYPE=image/png:https://gouville-sur-mer.fr/wp-content/uploads/2025/07/littoral-e1762424818354.png
END:VEVENT
BEGIN:VEVENT
DTSTART;TZID=Europe/Paris:20250813T140000
DTEND;TZID=Europe/Paris:20250813T170000
DTSTAMP:20260420T184918
CREATED:20250809T082526Z
LAST-MODIFIED:20250809T082743Z
UID:14771-1755093600-1755104400@gouville-sur-mer.fr
SUMMARY:Concours de pétanque
DESCRIPTION:1er Concours Amical du mois d’août\nVenez nombreux\, en famille avec les enfants\, entre Amis\, le concours est ouvert à tous.\nBuvette sur place.
URL:https://gouville-sur-mer.fr/event/concours-de-petanque-10/
ATTACH;FMTTYPE=image/jpeg:https://gouville-sur-mer.fr/wp-content/uploads/2022/06/petanque-gc681c7669_1920.jpg
ORGANIZER;CN="La boule Gouvillaise":MAILTO:Laboulegouvillaise50@gmail.com
END:VEVENT
BEGIN:VEVENT
DTSTART;TZID=Europe/Paris:20250813T190000
DTEND;TZID=Europe/Paris:20250813T220000
DTSTAMP:20260420T184918
CREATED:20250615T131521Z
LAST-MODIFIED:20250615T132338Z
UID:14300-1755111600-1755122400@gouville-sur-mer.fr
SUMMARY:Randonnée "côté terre"
DESCRIPTION:En savoir plus
URL:https://gouville-sur-mer.fr/event/randonnee-cote-terre-3/
ATTACH;FMTTYPE=image/jpeg:https://gouville-sur-mer.fr/wp-content/uploads/2021/05/Randonnees-02.jpg
END:VEVENT
BEGIN:VEVENT
DTSTART;TZID=Europe/Paris:20250814T180000
DTEND;TZID=Europe/Paris:20250814T193000
DTSTAMP:20260420T184918
CREATED:20250615T131845Z
LAST-MODIFIED:20250615T131845Z
UID:14302-1755194400-1755199800@gouville-sur-mer.fr
SUMMARY:Apéro-concert au Théâtre de verdure
DESCRIPTION:En savoir plus
URL:https://gouville-sur-mer.fr/event/apero-concert-au-theatre-de-verdure-5/
LOCATION:Théatre de verdure
ATTACH;FMTTYPE=image/png:https://gouville-sur-mer.fr/wp-content/uploads/2022/07/theatredeverdure-e1659012948101.png
END:VEVENT
BEGIN:VEVENT
DTSTART;TZID=Europe/Paris:20250820T100000
DTEND;TZID=Europe/Paris:20250820T120000
DTSTAMP:20260420T184918
CREATED:20250708T135053Z
LAST-MODIFIED:20250708T135053Z
UID:14516-1755684000-1755691200@gouville-sur-mer.fr
SUMMARY:Jeux d'écriture aux cabines de Gouville
DESCRIPTION:En savoir plus
URL:https://gouville-sur-mer.fr/event/jeux-decriture-aux-cabines-de-gouville/
ATTACH;FMTTYPE=image/jpeg:https://gouville-sur-mer.fr/wp-content/uploads/2025/07/cabines.jpg
ORGANIZER;CN="R%C3%A9seau des biblioth%C3%A8ques de Coutances mer et bocage":MAILTO:mediatheque.gouville@communaute-coutances.fr
END:VEVENT
BEGIN:VEVENT
DTSTART;TZID=Europe/Paris:20250820T100000
DTEND;TZID=Europe/Paris:20250820T120000
DTSTAMP:20260420T184918
CREATED:20250708T140041Z
LAST-MODIFIED:20250808T163105Z
UID:14522-1755684000-1755691200@gouville-sur-mer.fr
SUMMARY:Origami
DESCRIPTION:En savoir plus
URL:https://gouville-sur-mer.fr/event/origami/
LOCATION:La médiathèque de Gouville\, 6\, route de Coutances\, Gouville-sur-mer\, 50560\, France
ATTACH;FMTTYPE=image/jpeg:https://gouville-sur-mer.fr/wp-content/uploads/2025/07/Atelier-Origami-août-2025.jpg
ORGANIZER;CN="R%C3%A9seau des biblioth%C3%A8ques de Coutances mer et bocage":MAILTO:mediatheque.gouville@communaute-coutances.fr
END:VEVENT
BEGIN:VEVENT
DTSTART;TZID=Europe/Paris:20250820T190000
DTEND;TZID=Europe/Paris:20250820T213000
DTSTAMP:20260420T184918
CREATED:20250615T132140Z
LAST-MODIFIED:20250615T132157Z
UID:14304-1755716400-1755725400@gouville-sur-mer.fr
SUMMARY:Randonnée "côté mer"
DESCRIPTION:En savoir plus
URL:https://gouville-sur-mer.fr/event/randonnee-cote-mer-4/
ATTACH;FMTTYPE=image/jpeg:https://gouville-sur-mer.fr/wp-content/uploads/2021/05/Randonnees-01.jpg
END:VEVENT
BEGIN:VEVENT
DTSTART;TZID=Europe/Paris:20250821T100000
DTEND;TZID=Europe/Paris:20250821T120000
DTSTAMP:20260420T184918
CREATED:20250328T134922Z
LAST-MODIFIED:20250328T134922Z
UID:13675-1755770400-1755777600@gouville-sur-mer.fr
SUMMARY:Sortie découverte : Les dunes et leurs richesses
DESCRIPTION:En savoir plus
URL:https://gouville-sur-mer.fr/event/sortie-decouverte-les-dunes-et-leurs-richesses/
ATTACH;FMTTYPE=image/jpeg:https://gouville-sur-mer.fr/wp-content/uploads/2025/03/dunes-1936086_1280.jpg
END:VEVENT
BEGIN:VEVENT
DTSTART;TZID=Europe/Paris:20250821T180000
DTEND;TZID=Europe/Paris:20250821T203000
DTSTAMP:20260420T184918
CREATED:20250615T132737Z
LAST-MODIFIED:20250615T132804Z
UID:14307-1755799200-1755808200@gouville-sur-mer.fr
SUMMARY:Concert au Théâtre de verdure
DESCRIPTION:En savoir plus
URL:https://gouville-sur-mer.fr/event/concert-au-theatre-de-verdure/
LOCATION:Théatre de verdure
ATTACH;FMTTYPE=image/png:https://gouville-sur-mer.fr/wp-content/uploads/2022/07/theatredeverdure-e1659012948101.png
END:VEVENT
BEGIN:VEVENT
DTSTART;VALUE=DATE:20250823
DTEND;VALUE=DATE:20250824
DTSTAMP:20260420T184918
CREATED:20250307T175546Z
LAST-MODIFIED:20250815T104212Z
UID:13445-1755907200-1755993599@gouville-sur-mer.fr
SUMMARY:Les Foulées gouvillaises
DESCRIPTION:En savoir plus
URL:https://gouville-sur-mer.fr/event/la-3eme-edition-des-foulees-gouvillaises/
ATTACH;FMTTYPE=image/png:https://gouville-sur-mer.fr/wp-content/uploads/2025/03/foulées.png
END:VEVENT
BEGIN:VEVENT
DTSTART;VALUE=DATE:20250823
DTEND;VALUE=DATE:20250825
DTSTAMP:20260420T184918
CREATED:20250812T073024Z
LAST-MODIFIED:20250812T073024Z
UID:14783-1755907200-1756079999@gouville-sur-mer.fr
SUMMARY:Salon des auteurs et photographes
DESCRIPTION:
URL:https://gouville-sur-mer.fr/event/salon-des-auteurs-et-photographes/
LOCATION:La Filature
ATTACH;FMTTYPE=image/jpeg:https://gouville-sur-mer.fr/wp-content/uploads/2025/08/1000022234.jpg
END:VEVENT
BEGIN:VEVENT
DTSTART;TZID=Europe/Paris:20250827T190000
DTEND;TZID=Europe/Paris:20250827T230000
DTSTAMP:20260420T184918
CREATED:20250615T133008Z
LAST-MODIFIED:20250615T133008Z
UID:14309-1756321200-1756335600@gouville-sur-mer.fr
SUMMARY:Randonnée "côté terre"
DESCRIPTION:En savoir plus
URL:https://gouville-sur-mer.fr/event/randonnee-cote-terre-4/
ATTACH;FMTTYPE=image/jpeg:https://gouville-sur-mer.fr/wp-content/uploads/2021/05/Randonnees-02.jpg
END:VEVENT
BEGIN:VEVENT
DTSTART;TZID=Europe/Paris:20250828T180000
DTEND;TZID=Europe/Paris:20250828T200000
DTSTAMP:20260420T184918
CREATED:20250615T133257Z
LAST-MODIFIED:20250615T133257Z
UID:14311-1756404000-1756411200@gouville-sur-mer.fr
SUMMARY:Concert au Théâtre de verdure
DESCRIPTION:En savoir plus
URL:https://gouville-sur-mer.fr/event/concert-au-theatre-de-verdure-2/
LOCATION:Théatre de verdure
ATTACH;FMTTYPE=image/png:https://gouville-sur-mer.fr/wp-content/uploads/2022/07/theatredeverdure-e1659012948101.png
END:VEVENT
BEGIN:VEVENT
DTSTART;TZID=Europe/Paris:20250830T160000
DTEND;TZID=Europe/Paris:20250830T233000
DTSTAMP:20260420T184918
CREATED:20250627T145631Z
LAST-MODIFIED:20250627T145704Z
UID:14402-1756569600-1756596600@gouville-sur-mer.fr
SUMMARY:Marché des créateurs
DESCRIPTION:En savoir plus
URL:https://gouville-sur-mer.fr/event/marche-des-createurs/
LOCATION:place Réné K’Dual
ATTACH;FMTTYPE=image/jpeg:https://gouville-sur-mer.fr/wp-content/uploads/2025/06/marché_createurs.jpg
END:VEVENT
END:VCALENDAR